BEGIN:VCALENDAR
VERSION:2.0
PRODID:-//Murphy Deals - ECPv6.15.20//NONSGML v1.0//EN
CALSCALE:GREGORIAN
METHOD:PUBLISH
X-WR-CALNAME:Murphy Deals
X-ORIGINAL-URL:https://murphydeals.com
X-WR-CALDESC:Events for Murphy Deals
REFRESH-INTERVAL;VALUE=DURATION:PT1H
X-Robots-Tag:noindex
X-PUBLISHED-TTL:PT1H
BEGIN:VTIMEZONE
TZID:America/Phoenix
BEGIN:STANDARD
TZOFFSETFROM:-0700
TZOFFSETTO:-0700
TZNAME:MST
DTSTART:20220101T000000
END:STANDARD
END:VTIMEZONE
BEGIN:VEVENT
DTSTART;TZID=America/Phoenix:20230609T193000
DTEND;TZID=America/Phoenix:20230609T210000
DTSTAMP:20260425T174849
CREATED:20230501T232836Z
LAST-MODIFIED:20230501T235045Z
UID:10007770-1686339000-1686344400@murphydeals.com
SUMMARY:Finding Nemo\, Jr. at GraceArts LIVE in Lake Havasu
DESCRIPTION:The musical adaptation of the beloved 2003 Pixar movie\, FINDING NEMO brings to life a vibrant underwater world in a tale of family\, friendship and adventure. The story is about Marlin\, an anxious and over-protective clownfish who lives in the Great Barrier Reef with his kid\, Nemo\, who longs to explore the world beyond their anemone home. But when Nemo is captured and taken to Sydney\, Marlin faces his fears and sets off on an epic quest across the ocean. With the help of lovable characters such as optimistic Dory\, laid-back sea turtle Crush\, and the supportive Tank Gang\, Marlin and Nemo both overcome challenges on their journey to find each other and themselves. \nFinding Nemo\, Jr. is presented through special arrangement with Music Theatre International (MTI).  All authorized performance materials are also supplied by MTI.  (www.mtishows.com) \nSHOWTIMES: Fridays & Saturdays\, 7:30pm Sundays\, 2pm \nAdults: $28 / Children who are 17 years old and younger: $15 (plus taxes and fees) \nReserved tickets can be purchased at the theatre Monday-Friday 3-6pm\, up to an hour before showtime at the door\, online at www.graceartslive.com\, or by phone 928-505-2787. \nEvent dates and times are subject to change. Please contact event coordinator to verify information. \n$15 – $28
URL:https://murphydeals.com/event/finding-nemo-jr-at-gracearts-live-in-lake-havasu/2023-06-09/
LOCATION:Grace Arts Live\, 2146 McCulloch Blvd N\, Lake Havasu City\, AZ\, 86403
CATEGORIES:Arts | Theatre,Event
ATTACH;FMTTYPE=image/jpeg:https://murphydeals.com/wp-content/uploads/2023/05/findingnemojr-e1682984186366.jpg
END:VEVENT
BEGIN:VEVENT
DTSTART;TZID=America/Phoenix:20230610T193000
DTEND;TZID=America/Phoenix:20230610T210000
DTSTAMP:20260425T174849
CREATED:20230501T232836Z
LAST-MODIFIED:20230501T235045Z
UID:10007771-1686425400-1686430800@murphydeals.com
SUMMARY:Finding Nemo\, Jr. at GraceArts LIVE in Lake Havasu
DESCRIPTION:The musical adaptation of the beloved 2003 Pixar movie\, FINDING NEMO brings to life a vibrant underwater world in a tale of family\, friendship and adventure. The story is about Marlin\, an anxious and over-protective clownfish who lives in the Great Barrier Reef with his kid\, Nemo\, who longs to explore the world beyond their anemone home. But when Nemo is captured and taken to Sydney\, Marlin faces his fears and sets off on an epic quest across the ocean. With the help of lovable characters such as optimistic Dory\, laid-back sea turtle Crush\, and the supportive Tank Gang\, Marlin and Nemo both overcome challenges on their journey to find each other and themselves. \nFinding Nemo\, Jr. is presented through special arrangement with Music Theatre International (MTI).  All authorized performance materials are also supplied by MTI.  (www.mtishows.com) \nSHOWTIMES: Fridays & Saturdays\, 7:30pm Sundays\, 2pm \nAdults: $28 / Children who are 17 years old and younger: $15 (plus taxes and fees) \nReserved tickets can be purchased at the theatre Monday-Friday 3-6pm\, up to an hour before showtime at the door\, online at www.graceartslive.com\, or by phone 928-505-2787. \nEvent dates and times are subject to change. Please contact event coordinator to verify information. \n$15 – $28
URL:https://murphydeals.com/event/finding-nemo-jr-at-gracearts-live-in-lake-havasu/2023-06-10/
LOCATION:Grace Arts Live\, 2146 McCulloch Blvd N\, Lake Havasu City\, AZ\, 86403
CATEGORIES:Arts | Theatre,Event
ATTACH;FMTTYPE=image/jpeg:https://murphydeals.com/wp-content/uploads/2023/05/findingnemojr-e1682984186366.jpg
END:VEVENT
BEGIN:VEVENT
DTSTART;TZID=America/Phoenix:20230611T140000
DTEND;TZID=America/Phoenix:20230611T153000
DTSTAMP:20260425T174849
CREATED:20230501T232836Z
LAST-MODIFIED:20230501T235045Z
UID:10007772-1686492000-1686497400@murphydeals.com
SUMMARY:Finding Nemo\, Jr. at GraceArts LIVE in Lake Havasu
DESCRIPTION:The musical adaptation of the beloved 2003 Pixar movie\, FINDING NEMO brings to life a vibrant underwater world in a tale of family\, friendship and adventure. The story is about Marlin\, an anxious and over-protective clownfish who lives in the Great Barrier Reef with his kid\, Nemo\, who longs to explore the world beyond their anemone home. But when Nemo is captured and taken to Sydney\, Marlin faces his fears and sets off on an epic quest across the ocean. With the help of lovable characters such as optimistic Dory\, laid-back sea turtle Crush\, and the supportive Tank Gang\, Marlin and Nemo both overcome challenges on their journey to find each other and themselves. \nFinding Nemo\, Jr. is presented through special arrangement with Music Theatre International (MTI).  All authorized performance materials are also supplied by MTI.  (www.mtishows.com) \nSHOWTIMES: Fridays & Saturdays\, 7:30pm Sundays\, 2pm \nAdults: $28 / Children who are 17 years old and younger: $15 (plus taxes and fees) \nReserved tickets can be purchased at the theatre Monday-Friday 3-6pm\, up to an hour before showtime at the door\, online at www.graceartslive.com\, or by phone 928-505-2787. \nEvent dates and times are subject to change. Please contact event coordinator to verify information. \n$15 – $28
URL:https://murphydeals.com/event/finding-nemo-jr-at-gracearts-live-in-lake-havasu/2023-06-11/
LOCATION:Grace Arts Live\, 2146 McCulloch Blvd N\, Lake Havasu City\, AZ\, 86403
CATEGORIES:Arts | Theatre,Event
ATTACH;FMTTYPE=image/jpeg:https://murphydeals.com/wp-content/uploads/2023/05/findingnemojr-e1682984186366.jpg
END:VEVENT
BEGIN:VEVENT
DTSTART;TZID=America/Phoenix:20230616T193000
DTEND;TZID=America/Phoenix:20230616T210000
DTSTAMP:20260425T174849
CREATED:20230501T232836Z
LAST-MODIFIED:20230501T235045Z
UID:10007773-1686943800-1686949200@murphydeals.com
SUMMARY:Finding Nemo\, Jr. at GraceArts LIVE in Lake Havasu
DESCRIPTION:The musical adaptation of the beloved 2003 Pixar movie\, FINDING NEMO brings to life a vibrant underwater world in a tale of family\, friendship and adventure. The story is about Marlin\, an anxious and over-protective clownfish who lives in the Great Barrier Reef with his kid\, Nemo\, who longs to explore the world beyond their anemone home. But when Nemo is captured and taken to Sydney\, Marlin faces his fears and sets off on an epic quest across the ocean. With the help of lovable characters such as optimistic Dory\, laid-back sea turtle Crush\, and the supportive Tank Gang\, Marlin and Nemo both overcome challenges on their journey to find each other and themselves. \nFinding Nemo\, Jr. is presented through special arrangement with Music Theatre International (MTI).  All authorized performance materials are also supplied by MTI.  (www.mtishows.com) \nSHOWTIMES: Fridays & Saturdays\, 7:30pm Sundays\, 2pm \nAdults: $28 / Children who are 17 years old and younger: $15 (plus taxes and fees) \nReserved tickets can be purchased at the theatre Monday-Friday 3-6pm\, up to an hour before showtime at the door\, online at www.graceartslive.com\, or by phone 928-505-2787. \nEvent dates and times are subject to change. Please contact event coordinator to verify information. \n$15 – $28
URL:https://murphydeals.com/event/finding-nemo-jr-at-gracearts-live-in-lake-havasu/2023-06-16/
LOCATION:Grace Arts Live\, 2146 McCulloch Blvd N\, Lake Havasu City\, AZ\, 86403
CATEGORIES:Arts | Theatre,Event
ATTACH;FMTTYPE=image/jpeg:https://murphydeals.com/wp-content/uploads/2023/05/findingnemojr-e1682984186366.jpg
END:VEVENT
BEGIN:VEVENT
DTSTART;TZID=America/Phoenix:20230617T193000
DTEND;TZID=America/Phoenix:20230617T210000
DTSTAMP:20260425T174849
CREATED:20230501T232836Z
LAST-MODIFIED:20230501T235045Z
UID:10007774-1687030200-1687035600@murphydeals.com
SUMMARY:Finding Nemo\, Jr. at GraceArts LIVE in Lake Havasu
DESCRIPTION:The musical adaptation of the beloved 2003 Pixar movie\, FINDING NEMO brings to life a vibrant underwater world in a tale of family\, friendship and adventure. The story is about Marlin\, an anxious and over-protective clownfish who lives in the Great Barrier Reef with his kid\, Nemo\, who longs to explore the world beyond their anemone home. But when Nemo is captured and taken to Sydney\, Marlin faces his fears and sets off on an epic quest across the ocean. With the help of lovable characters such as optimistic Dory\, laid-back sea turtle Crush\, and the supportive Tank Gang\, Marlin and Nemo both overcome challenges on their journey to find each other and themselves. \nFinding Nemo\, Jr. is presented through special arrangement with Music Theatre International (MTI).  All authorized performance materials are also supplied by MTI.  (www.mtishows.com) \nSHOWTIMES: Fridays & Saturdays\, 7:30pm Sundays\, 2pm \nAdults: $28 / Children who are 17 years old and younger: $15 (plus taxes and fees) \nReserved tickets can be purchased at the theatre Monday-Friday 3-6pm\, up to an hour before showtime at the door\, online at www.graceartslive.com\, or by phone 928-505-2787. \nEvent dates and times are subject to change. Please contact event coordinator to verify information. \n$15 – $28
URL:https://murphydeals.com/event/finding-nemo-jr-at-gracearts-live-in-lake-havasu/2023-06-17/
LOCATION:Grace Arts Live\, 2146 McCulloch Blvd N\, Lake Havasu City\, AZ\, 86403
CATEGORIES:Arts | Theatre,Event
ATTACH;FMTTYPE=image/jpeg:https://murphydeals.com/wp-content/uploads/2023/05/findingnemojr-e1682984186366.jpg
END:VEVENT
BEGIN:VEVENT
DTSTART;TZID=America/Phoenix:20230618T140000
DTEND;TZID=America/Phoenix:20230618T153000
DTSTAMP:20260425T174849
CREATED:20230501T232836Z
LAST-MODIFIED:20230501T235045Z
UID:10007775-1687096800-1687102200@murphydeals.com
SUMMARY:Finding Nemo\, Jr. at GraceArts LIVE in Lake Havasu
DESCRIPTION:The musical adaptation of the beloved 2003 Pixar movie\, FINDING NEMO brings to life a vibrant underwater world in a tale of family\, friendship and adventure. The story is about Marlin\, an anxious and over-protective clownfish who lives in the Great Barrier Reef with his kid\, Nemo\, who longs to explore the world beyond their anemone home. But when Nemo is captured and taken to Sydney\, Marlin faces his fears and sets off on an epic quest across the ocean. With the help of lovable characters such as optimistic Dory\, laid-back sea turtle Crush\, and the supportive Tank Gang\, Marlin and Nemo both overcome challenges on their journey to find each other and themselves. \nFinding Nemo\, Jr. is presented through special arrangement with Music Theatre International (MTI).  All authorized performance materials are also supplied by MTI.  (www.mtishows.com) \nSHOWTIMES: Fridays & Saturdays\, 7:30pm Sundays\, 2pm \nAdults: $28 / Children who are 17 years old and younger: $15 (plus taxes and fees) \nReserved tickets can be purchased at the theatre Monday-Friday 3-6pm\, up to an hour before showtime at the door\, online at www.graceartslive.com\, or by phone 928-505-2787. \nEvent dates and times are subject to change. Please contact event coordinator to verify information. \n$15 – $28
URL:https://murphydeals.com/event/finding-nemo-jr-at-gracearts-live-in-lake-havasu/2023-06-18/
LOCATION:Grace Arts Live\, 2146 McCulloch Blvd N\, Lake Havasu City\, AZ\, 86403
CATEGORIES:Arts | Theatre,Event
ATTACH;FMTTYPE=image/jpeg:https://murphydeals.com/wp-content/uploads/2023/05/findingnemojr-e1682984186366.jpg
END:VEVENT
END:VCALENDAR