BEGIN:VCALENDAR
VERSION:2.0
PRODID:-//Murphy Deals - ECPv6.15.20//NONSGML v1.0//EN
CALSCALE:GREGORIAN
METHOD:PUBLISH
X-WR-CALNAME:Murphy Deals
X-ORIGINAL-URL:https://murphydeals.com
X-WR-CALDESC:Events for Murphy Deals
REFRESH-INTERVAL;VALUE=DURATION:PT1H
X-Robots-Tag:noindex
X-PUBLISHED-TTL:PT1H
BEGIN:VTIMEZONE
TZID:America/Phoenix
BEGIN:STANDARD
TZOFFSETFROM:-0700
TZOFFSETTO:-0700
TZNAME:MST
DTSTART:20220101T000000
END:STANDARD
END:VTIMEZONE
BEGIN:VEVENT
DTSTART;TZID=America/Phoenix:20230429T090000
DTEND;TZID=America/Phoenix:20230429T170000
DTSTAMP:20260425T174203
CREATED:20221024T232650Z
LAST-MODIFIED:20230421T154049Z
UID:10007559-1682758800-1682787600@murphydeals.com
SUMMARY:America Gun Shows at Mohave County Fairgrounds in Kingman
DESCRIPTION:Dates\n\n\n\nApr 29th – 30th\, 2023\n\n\nJul 15th – 16th\, 2023\n\n\nOct 14th – 15th\, 2023\n\n\n\nKingman\, AZ\nHours\n\n\nSaturday: 9:00am – 5:00pm\nSunday: 9:00am – 2:00pm\n\n\nAdmission\n\nGeneral $7.00\nChildren 16 & under free with adult entry \n\nDescription\n\nThe America Gun Shows – Kingman and Oct 14th-15th\, 2023 in Kingman\, AZ. This Kingman gun show is held at Mohave County Fairgrounds and hosted by America Gun Shows. All federal and local firearm laws and ordinances must be obeyed. \n\nPromoter\n\nAmerica Gun Shows \n\n\nContact: Josh Vincent\nPhone: (928) 692-6821\nEmail: djservices2015@yahoo.com\n\n\nCONTACT US\n\nLocation\n\nMohave County Fairgrounds \n2600 Fairgrounds Blvd\nKingman\, AZ 86401\n\n\n\n\n\nVendor\n\nTables: $75.00/each \nDealer Setup:\nFriday\, 11:00am – 6:00pm\nSaturday\, 7:00am – 9:00am\nSunday\, 8:00am – 9:00am \nGun related items.
URL:https://murphydeals.com/event/bullhead-mohave-gun-show-at-anderson-field-house-in-bullhead/2023-04-29/
LOCATION:Mohave County Fairgrounds\, 2600 Fairgrounds Blvd\, Kingman\, AZ\, 86401
CATEGORIES:Event,Tradeshow | Expo
ATTACH;FMTTYPE=image/jpeg:https://murphydeals.com/wp-content/uploads/2022/10/Guns-1-e1667248176688.jpg
END:VEVENT
BEGIN:VEVENT
DTSTART;TZID=America/Phoenix:20230430T090000
DTEND;TZID=America/Phoenix:20230430T140000
DTSTAMP:20260425T174203
CREATED:20221024T232650Z
LAST-MODIFIED:20230421T154049Z
UID:10007560-1682845200-1682863200@murphydeals.com
SUMMARY:America Gun Shows at Mohave County Fairgrounds in Kingman
DESCRIPTION:Dates\n\n\n\nApr 29th – 30th\, 2023\n\n\nJul 15th – 16th\, 2023\n\n\nOct 14th – 15th\, 2023\n\n\n\nKingman\, AZ\nHours\n\n\nSaturday: 9:00am – 5:00pm\nSunday: 9:00am – 2:00pm\n\n\nAdmission\n\nGeneral $7.00\nChildren 16 & under free with adult entry \n\nDescription\n\nThe America Gun Shows – Kingman and Oct 14th-15th\, 2023 in Kingman\, AZ. This Kingman gun show is held at Mohave County Fairgrounds and hosted by America Gun Shows. All federal and local firearm laws and ordinances must be obeyed. \n\nPromoter\n\nAmerica Gun Shows \n\n\nContact: Josh Vincent\nPhone: (928) 692-6821\nEmail: djservices2015@yahoo.com\n\n\nCONTACT US\n\nLocation\n\nMohave County Fairgrounds \n2600 Fairgrounds Blvd\nKingman\, AZ 86401\n\n\n\n\n\nVendor\n\nTables: $75.00/each \nDealer Setup:\nFriday\, 11:00am – 6:00pm\nSaturday\, 7:00am – 9:00am\nSunday\, 8:00am – 9:00am \nGun related items.
URL:https://murphydeals.com/event/bullhead-mohave-gun-show-at-anderson-field-house-in-bullhead/2023-04-30/
LOCATION:Mohave County Fairgrounds\, 2600 Fairgrounds Blvd\, Kingman\, AZ\, 86401
CATEGORIES:Event,Tradeshow | Expo
ATTACH;FMTTYPE=image/jpeg:https://murphydeals.com/wp-content/uploads/2022/10/Guns-1-e1667248176688.jpg
END:VEVENT
BEGIN:VEVENT
DTSTART;TZID=America/Phoenix:20230715T090000
DTEND;TZID=America/Phoenix:20230715T170000
DTSTAMP:20260425T174203
CREATED:20221024T232650Z
LAST-MODIFIED:20230421T154049Z
UID:10007561-1689411600-1689440400@murphydeals.com
SUMMARY:America Gun Shows at Mohave County Fairgrounds in Kingman
DESCRIPTION:Dates\n\n\n\nApr 29th – 30th\, 2023\n\n\nJul 15th – 16th\, 2023\n\n\nOct 14th – 15th\, 2023\n\n\n\nKingman\, AZ\nHours\n\n\nSaturday: 9:00am – 5:00pm\nSunday: 9:00am – 2:00pm\n\n\nAdmission\n\nGeneral $7.00\nChildren 16 & under free with adult entry \n\nDescription\n\nThe America Gun Shows – Kingman and Oct 14th-15th\, 2023 in Kingman\, AZ. This Kingman gun show is held at Mohave County Fairgrounds and hosted by America Gun Shows. All federal and local firearm laws and ordinances must be obeyed. \n\nPromoter\n\nAmerica Gun Shows \n\n\nContact: Josh Vincent\nPhone: (928) 692-6821\nEmail: djservices2015@yahoo.com\n\n\nCONTACT US\n\nLocation\n\nMohave County Fairgrounds \n2600 Fairgrounds Blvd\nKingman\, AZ 86401\n\n\n\n\n\nVendor\n\nTables: $75.00/each \nDealer Setup:\nFriday\, 11:00am – 6:00pm\nSaturday\, 7:00am – 9:00am\nSunday\, 8:00am – 9:00am \nGun related items.
URL:https://murphydeals.com/event/bullhead-mohave-gun-show-at-anderson-field-house-in-bullhead/2023-07-15/
LOCATION:Mohave County Fairgrounds\, 2600 Fairgrounds Blvd\, Kingman\, AZ\, 86401
CATEGORIES:Event,Tradeshow | Expo
ATTACH;FMTTYPE=image/jpeg:https://murphydeals.com/wp-content/uploads/2022/10/Guns-1-e1667248176688.jpg
END:VEVENT
BEGIN:VEVENT
DTSTART;TZID=America/Phoenix:20230716T090000
DTEND;TZID=America/Phoenix:20230716T140000
DTSTAMP:20260425T174203
CREATED:20221024T232650Z
LAST-MODIFIED:20230421T154049Z
UID:10007562-1689498000-1689516000@murphydeals.com
SUMMARY:America Gun Shows at Mohave County Fairgrounds in Kingman
DESCRIPTION:Dates\n\n\n\nApr 29th – 30th\, 2023\n\n\nJul 15th – 16th\, 2023\n\n\nOct 14th – 15th\, 2023\n\n\n\nKingman\, AZ\nHours\n\n\nSaturday: 9:00am – 5:00pm\nSunday: 9:00am – 2:00pm\n\n\nAdmission\n\nGeneral $7.00\nChildren 16 & under free with adult entry \n\nDescription\n\nThe America Gun Shows – Kingman and Oct 14th-15th\, 2023 in Kingman\, AZ. This Kingman gun show is held at Mohave County Fairgrounds and hosted by America Gun Shows. All federal and local firearm laws and ordinances must be obeyed. \n\nPromoter\n\nAmerica Gun Shows \n\n\nContact: Josh Vincent\nPhone: (928) 692-6821\nEmail: djservices2015@yahoo.com\n\n\nCONTACT US\n\nLocation\n\nMohave County Fairgrounds \n2600 Fairgrounds Blvd\nKingman\, AZ 86401\n\n\n\n\n\nVendor\n\nTables: $75.00/each \nDealer Setup:\nFriday\, 11:00am – 6:00pm\nSaturday\, 7:00am – 9:00am\nSunday\, 8:00am – 9:00am \nGun related items.
URL:https://murphydeals.com/event/bullhead-mohave-gun-show-at-anderson-field-house-in-bullhead/2023-07-16/
LOCATION:Mohave County Fairgrounds\, 2600 Fairgrounds Blvd\, Kingman\, AZ\, 86401
CATEGORIES:Event,Tradeshow | Expo
ATTACH;FMTTYPE=image/jpeg:https://murphydeals.com/wp-content/uploads/2022/10/Guns-1-e1667248176688.jpg
END:VEVENT
BEGIN:VEVENT
DTSTART;TZID=America/Phoenix:20231014T090000
DTEND;TZID=America/Phoenix:20231014T170000
DTSTAMP:20260425T174203
CREATED:20221024T232650Z
LAST-MODIFIED:20230421T154049Z
UID:10007563-1697274000-1697302800@murphydeals.com
SUMMARY:America Gun Shows at Mohave County Fairgrounds in Kingman
DESCRIPTION:Dates\n\n\n\nApr 29th – 30th\, 2023\n\n\nJul 15th – 16th\, 2023\n\n\nOct 14th – 15th\, 2023\n\n\n\nKingman\, AZ\nHours\n\n\nSaturday: 9:00am – 5:00pm\nSunday: 9:00am – 2:00pm\n\n\nAdmission\n\nGeneral $7.00\nChildren 16 & under free with adult entry \n\nDescription\n\nThe America Gun Shows – Kingman and Oct 14th-15th\, 2023 in Kingman\, AZ. This Kingman gun show is held at Mohave County Fairgrounds and hosted by America Gun Shows. All federal and local firearm laws and ordinances must be obeyed. \n\nPromoter\n\nAmerica Gun Shows \n\n\nContact: Josh Vincent\nPhone: (928) 692-6821\nEmail: djservices2015@yahoo.com\n\n\nCONTACT US\n\nLocation\n\nMohave County Fairgrounds \n2600 Fairgrounds Blvd\nKingman\, AZ 86401\n\n\n\n\n\nVendor\n\nTables: $75.00/each \nDealer Setup:\nFriday\, 11:00am – 6:00pm\nSaturday\, 7:00am – 9:00am\nSunday\, 8:00am – 9:00am \nGun related items.
URL:https://murphydeals.com/event/bullhead-mohave-gun-show-at-anderson-field-house-in-bullhead/2023-10-14/
LOCATION:Mohave County Fairgrounds\, 2600 Fairgrounds Blvd\, Kingman\, AZ\, 86401
CATEGORIES:Event,Tradeshow | Expo
ATTACH;FMTTYPE=image/jpeg:https://murphydeals.com/wp-content/uploads/2022/10/Guns-1-e1667248176688.jpg
END:VEVENT
BEGIN:VEVENT
DTSTART;TZID=America/Phoenix:20231015T090000
DTEND;TZID=America/Phoenix:20231015T140000
DTSTAMP:20260425T174203
CREATED:20221024T232650Z
LAST-MODIFIED:20230421T154049Z
UID:10007564-1697360400-1697378400@murphydeals.com
SUMMARY:America Gun Shows at Mohave County Fairgrounds in Kingman
DESCRIPTION:Dates\n\n\n\nApr 29th – 30th\, 2023\n\n\nJul 15th – 16th\, 2023\n\n\nOct 14th – 15th\, 2023\n\n\n\nKingman\, AZ\nHours\n\n\nSaturday: 9:00am – 5:00pm\nSunday: 9:00am – 2:00pm\n\n\nAdmission\n\nGeneral $7.00\nChildren 16 & under free with adult entry \n\nDescription\n\nThe America Gun Shows – Kingman and Oct 14th-15th\, 2023 in Kingman\, AZ. This Kingman gun show is held at Mohave County Fairgrounds and hosted by America Gun Shows. All federal and local firearm laws and ordinances must be obeyed. \n\nPromoter\n\nAmerica Gun Shows \n\n\nContact: Josh Vincent\nPhone: (928) 692-6821\nEmail: djservices2015@yahoo.com\n\n\nCONTACT US\n\nLocation\n\nMohave County Fairgrounds \n2600 Fairgrounds Blvd\nKingman\, AZ 86401\n\n\n\n\n\nVendor\n\nTables: $75.00/each \nDealer Setup:\nFriday\, 11:00am – 6:00pm\nSaturday\, 7:00am – 9:00am\nSunday\, 8:00am – 9:00am \nGun related items.
URL:https://murphydeals.com/event/bullhead-mohave-gun-show-at-anderson-field-house-in-bullhead/2023-10-15/
LOCATION:Mohave County Fairgrounds\, 2600 Fairgrounds Blvd\, Kingman\, AZ\, 86401
CATEGORIES:Event,Tradeshow | Expo
ATTACH;FMTTYPE=image/jpeg:https://murphydeals.com/wp-content/uploads/2022/10/Guns-1-e1667248176688.jpg
END:VEVENT
END:VCALENDAR