BEGIN:VCALENDAR
VERSION:2.0
PRODID:-//Murphy Deals - ECPv6.15.20//NONSGML v1.0//EN
CALSCALE:GREGORIAN
METHOD:PUBLISH
X-WR-CALNAME:Murphy Deals
X-ORIGINAL-URL:https://murphydeals.com
X-WR-CALDESC:Events for Murphy Deals
REFRESH-INTERVAL;VALUE=DURATION:PT1H
X-Robots-Tag:noindex
X-PUBLISHED-TTL:PT1H
BEGIN:VTIMEZONE
TZID:America/Phoenix
BEGIN:STANDARD
TZOFFSETFROM:-0700
TZOFFSETTO:-0700
TZNAME:MST
DTSTART:20220101T000000
END:STANDARD
END:VTIMEZONE
BEGIN:VEVENT
DTSTART;TZID=America/Phoenix:20230624T200000
DTEND;TZID=America/Phoenix:20230624T230000
DTSTAMP:20260425T141639
CREATED:20230612T193833Z
LAST-MODIFIED:20230612T193833Z
UID:10008245-1687636800-1687647600@murphydeals.com
SUMMARY:Firing All Cylinders at Jeremy's Juke Joint
DESCRIPTION:Firing All Cylinders represent the heavy sound\, excitement\, and intensity of heavy music with influences from the past and present. The group incorporates the classic rock n’ roll sound influenced by bands like AC/DC and Black Sabbath with the heavy hitting styles of modern bands such as KoRn\, Avenged Sevenfold\, System of a Down\, and Slipknot with the added soul of punk rock and thrash. In a short period of time\, Firing All Cylinders has rapidly gained success with unique aggressive sounds and performances which became trademark qualities of the group. \nRadio hits such as\, “Bounce House” and “My Way” have added to the global success of Firing All Cylinders by connecting to a diverse audience. Their popularity has aggressively spread to other countries by forming followings that span from Europe to Asia\, to South America and Australia. Headlining main stages at major music festivals has made Firing All Cylinders into an unstoppable beast within the music industry. Rhythm guitarist\, lead vocalist\, and front man of Firing All Cylinders Rix Boker along with partner-in-crime and lead guitarist Daniel Lucero (aka KURLY)\, fellow four string banger (bassist) Brandon Hill\, and drum head destroyer Cameron Hamilton have molded an incredible following around Firing All Cylinders in an impressive time span. \nTheir vicious heavy but classic sound earned themselves interviews from Soundcrave Magazine\, By The Barricade\, and many other media sources. The release of Firing All Cylinders’ self titled album has allowed them to expand their fan base to uncharted territories of diverse musical backgrounds. They quickly became peers with various emerging bands such as Assuming We Survive\, The Sex Tape Scandal\, and Against All Odds just to name a few. These new found relations with their peers have opened many doors to a new and creative musical frontier. Firing All Cylinders with collaboration of Sirian Productions has helped to fine tune their sound and direction. Together\, these two forces have created a strong bond that has improved the finer qualities of their musical style. Armed with their drive and strong ambition\, Firing All Cylinders and Sirian Productions have overcome many obstacles to bring you the best music possible. \nThe self titled album released by Firing All Cylinders (2014) introduced mankind to a ground breaking new style that mixes influences of the century. Appealing to the younger generation as well as the older generations\, Firing All Cylinders has successfully sold their album to the ages. The band is on a mission to spread their music like an epidemic throughout the world. All of the influences and ambitions regarding the band have paved the way for future albums and releases. What truly defines Firing All Cylinders is the bands’ awareness of rock n’ roll\, its dynamics\, and its life changing capabilities. The band is moving forward with no end in sight\, giving props to the punk rock era with the rage and fury of 80s thrash metal with an additional modern twist. The stage has been set\, brace yourselves\, the storm is coming. FIRE IT UP!!! \nBUY TICKETS \n 
URL:https://murphydeals.com/event/firing-all-cylinders-at-jeremys-juke-joint/2023-06-24/
LOCATION:Jeremy’s Juke Joint\, 91 London Bridge Road\, ##103\, Lake Havasu City\, AZ\, 86403\, United States
CATEGORIES:Music | Concerts
ATTACH;FMTTYPE=image/jpeg:https://murphydeals.com/wp-content/uploads/2023/06/firing.all_.cylinders-e1686598614539.jpg
END:VEVENT
BEGIN:VEVENT
DTSTART;TZID=America/Phoenix:20230623T200000
DTEND;TZID=America/Phoenix:20230623T230000
DTSTAMP:20260425T141639
CREATED:20230612T193833Z
LAST-MODIFIED:20230612T193833Z
UID:10008244-1687550400-1687561200@murphydeals.com
SUMMARY:Firing All Cylinders at Jeremy's Juke Joint
DESCRIPTION:Firing All Cylinders represent the heavy sound\, excitement\, and intensity of heavy music with influences from the past and present. The group incorporates the classic rock n’ roll sound influenced by bands like AC/DC and Black Sabbath with the heavy hitting styles of modern bands such as KoRn\, Avenged Sevenfold\, System of a Down\, and Slipknot with the added soul of punk rock and thrash. In a short period of time\, Firing All Cylinders has rapidly gained success with unique aggressive sounds and performances which became trademark qualities of the group. \nRadio hits such as\, “Bounce House” and “My Way” have added to the global success of Firing All Cylinders by connecting to a diverse audience. Their popularity has aggressively spread to other countries by forming followings that span from Europe to Asia\, to South America and Australia. Headlining main stages at major music festivals has made Firing All Cylinders into an unstoppable beast within the music industry. Rhythm guitarist\, lead vocalist\, and front man of Firing All Cylinders Rix Boker along with partner-in-crime and lead guitarist Daniel Lucero (aka KURLY)\, fellow four string banger (bassist) Brandon Hill\, and drum head destroyer Cameron Hamilton have molded an incredible following around Firing All Cylinders in an impressive time span. \nTheir vicious heavy but classic sound earned themselves interviews from Soundcrave Magazine\, By The Barricade\, and many other media sources. The release of Firing All Cylinders’ self titled album has allowed them to expand their fan base to uncharted territories of diverse musical backgrounds. They quickly became peers with various emerging bands such as Assuming We Survive\, The Sex Tape Scandal\, and Against All Odds just to name a few. These new found relations with their peers have opened many doors to a new and creative musical frontier. Firing All Cylinders with collaboration of Sirian Productions has helped to fine tune their sound and direction. Together\, these two forces have created a strong bond that has improved the finer qualities of their musical style. Armed with their drive and strong ambition\, Firing All Cylinders and Sirian Productions have overcome many obstacles to bring you the best music possible. \nThe self titled album released by Firing All Cylinders (2014) introduced mankind to a ground breaking new style that mixes influences of the century. Appealing to the younger generation as well as the older generations\, Firing All Cylinders has successfully sold their album to the ages. The band is on a mission to spread their music like an epidemic throughout the world. All of the influences and ambitions regarding the band have paved the way for future albums and releases. What truly defines Firing All Cylinders is the bands’ awareness of rock n’ roll\, its dynamics\, and its life changing capabilities. The band is moving forward with no end in sight\, giving props to the punk rock era with the rage and fury of 80s thrash metal with an additional modern twist. The stage has been set\, brace yourselves\, the storm is coming. FIRE IT UP!!! \nBUY TICKETS \n 
URL:https://murphydeals.com/event/firing-all-cylinders-at-jeremys-juke-joint/2023-06-23/
LOCATION:Jeremy’s Juke Joint\, 91 London Bridge Road\, ##103\, Lake Havasu City\, AZ\, 86403\, United States
CATEGORIES:Music | Concerts
ATTACH;FMTTYPE=image/jpeg:https://murphydeals.com/wp-content/uploads/2023/06/firing.all_.cylinders-e1686598614539.jpg
END:VEVENT
END:VCALENDAR