BEGIN:VCALENDAR
VERSION:2.0
PRODID:-//Murphy Deals - ECPv6.15.20//NONSGML v1.0//EN
CALSCALE:GREGORIAN
METHOD:PUBLISH
X-WR-CALNAME:Murphy Deals
X-ORIGINAL-URL:https://murphydeals.com
X-WR-CALDESC:Events for Murphy Deals
REFRESH-INTERVAL;VALUE=DURATION:PT1H
X-Robots-Tag:noindex
X-PUBLISHED-TTL:PT1H
BEGIN:VTIMEZONE
TZID:America/Phoenix
BEGIN:STANDARD
TZOFFSETFROM:-0700
TZOFFSETTO:-0700
TZNAME:MST
DTSTART:20210101T000000
END:STANDARD
END:VTIMEZONE
BEGIN:VEVENT
DTSTART;TZID=America/Phoenix:20221115T170000
DTEND;TZID=America/Phoenix:20221115T190000
DTSTAMP:20260425T151852
CREATED:20220926T202527Z
LAST-MODIFIED:20220929T212158Z
UID:10006347-1668531600-1668538800@murphydeals.com
SUMMARY:Line Dancing at the Flying X Saloon
DESCRIPTION:Tuesday\, October 4\, 2022\n5:00pm-7:00pm\n\n\nLINE DANCING\n\nBeginner thru Advanced 5pm-7pm. 2 hours of fun for $6\nInfo call Alice March 928-727-6514
URL:https://murphydeals.com/event/line-dancing/2022-11-15/
LOCATION:Flying X Saloon\, 2030 McCulloch Blvd N\, Lake Havasu City\, AZ\, 86403
CATEGORIES:Event,Music | Concerts
ATTACH;FMTTYPE=image/jpeg:https://murphydeals.com/wp-content/uploads/2022/09/line-dance-2-e1664318495409.jpg
END:VEVENT
BEGIN:VEVENT
DTSTART;TZID=America/Phoenix:20221122T170000
DTEND;TZID=America/Phoenix:20221122T190000
DTSTAMP:20260425T151852
CREATED:20220926T202527Z
LAST-MODIFIED:20220929T212158Z
UID:10006348-1669136400-1669143600@murphydeals.com
SUMMARY:Line Dancing at the Flying X Saloon
DESCRIPTION:Tuesday\, October 4\, 2022\n5:00pm-7:00pm\n\n\nLINE DANCING\n\nBeginner thru Advanced 5pm-7pm. 2 hours of fun for $6\nInfo call Alice March 928-727-6514
URL:https://murphydeals.com/event/line-dancing/2022-11-22/
LOCATION:Flying X Saloon\, 2030 McCulloch Blvd N\, Lake Havasu City\, AZ\, 86403
CATEGORIES:Event,Music | Concerts
ATTACH;FMTTYPE=image/jpeg:https://murphydeals.com/wp-content/uploads/2022/09/line-dance-2-e1664318495409.jpg
END:VEVENT
BEGIN:VEVENT
DTSTART;TZID=America/Phoenix:20221129T170000
DTEND;TZID=America/Phoenix:20221129T190000
DTSTAMP:20260425T151852
CREATED:20220926T202527Z
LAST-MODIFIED:20220929T212158Z
UID:10006349-1669741200-1669748400@murphydeals.com
SUMMARY:Line Dancing at the Flying X Saloon
DESCRIPTION:Tuesday\, October 4\, 2022\n5:00pm-7:00pm\n\n\nLINE DANCING\n\nBeginner thru Advanced 5pm-7pm. 2 hours of fun for $6\nInfo call Alice March 928-727-6514
URL:https://murphydeals.com/event/line-dancing/2022-11-29/
LOCATION:Flying X Saloon\, 2030 McCulloch Blvd N\, Lake Havasu City\, AZ\, 86403
CATEGORIES:Event,Music | Concerts
ATTACH;FMTTYPE=image/jpeg:https://murphydeals.com/wp-content/uploads/2022/09/line-dance-2-e1664318495409.jpg
END:VEVENT
BEGIN:VEVENT
DTSTART;TZID=America/Phoenix:20221206T170000
DTEND;TZID=America/Phoenix:20221206T190000
DTSTAMP:20260425T151852
CREATED:20220926T202527Z
LAST-MODIFIED:20220929T212158Z
UID:10006350-1670346000-1670353200@murphydeals.com
SUMMARY:Line Dancing at the Flying X Saloon
DESCRIPTION:Tuesday\, October 4\, 2022\n5:00pm-7:00pm\n\n\nLINE DANCING\n\nBeginner thru Advanced 5pm-7pm. 2 hours of fun for $6\nInfo call Alice March 928-727-6514
URL:https://murphydeals.com/event/line-dancing/2022-12-06/
LOCATION:Flying X Saloon\, 2030 McCulloch Blvd N\, Lake Havasu City\, AZ\, 86403
CATEGORIES:Event,Music | Concerts
ATTACH;FMTTYPE=image/jpeg:https://murphydeals.com/wp-content/uploads/2022/09/line-dance-2-e1664318495409.jpg
END:VEVENT
BEGIN:VEVENT
DTSTART;TZID=America/Phoenix:20221213T170000
DTEND;TZID=America/Phoenix:20221213T190000
DTSTAMP:20260425T151852
CREATED:20220926T202527Z
LAST-MODIFIED:20220929T212158Z
UID:10006351-1670950800-1670958000@murphydeals.com
SUMMARY:Line Dancing at the Flying X Saloon
DESCRIPTION:Tuesday\, October 4\, 2022\n5:00pm-7:00pm\n\n\nLINE DANCING\n\nBeginner thru Advanced 5pm-7pm. 2 hours of fun for $6\nInfo call Alice March 928-727-6514
URL:https://murphydeals.com/event/line-dancing/2022-12-13/
LOCATION:Flying X Saloon\, 2030 McCulloch Blvd N\, Lake Havasu City\, AZ\, 86403
CATEGORIES:Event,Music | Concerts
ATTACH;FMTTYPE=image/jpeg:https://murphydeals.com/wp-content/uploads/2022/09/line-dance-2-e1664318495409.jpg
END:VEVENT
BEGIN:VEVENT
DTSTART;TZID=America/Phoenix:20230207T160000
DTEND;TZID=America/Phoenix:20230207T180000
DTSTAMP:20260425T151852
CREATED:20230206T234429Z
LAST-MODIFIED:20230207T000210Z
UID:10006352-1675785600-1675792800@murphydeals.com
SUMMARY:Line Dancing at the Flying X Saloon
DESCRIPTION:Tuesday\, February 7\, 2023\n4:00pm-6:00pm\n\n\nLINE DANCING\n\nBeginner thru Advanced 4pm-6pm. 2 hours of fun for $6\nInfo call Alice March 928-727-6514
URL:https://murphydeals.com/event/line-dancing-2/2023-02-07/
LOCATION:Flying X Saloon\, 2030 McCulloch Blvd N\, Lake Havasu City\, AZ\, 86403
CATEGORIES:Event,Music | Concerts
ATTACH;FMTTYPE=image/jpeg:https://murphydeals.com/wp-content/uploads/2022/09/line-dance-2-e1664318495409.jpg
END:VEVENT
BEGIN:VEVENT
DTSTART;TZID=America/Phoenix:20230214T160000
DTEND;TZID=America/Phoenix:20230214T180000
DTSTAMP:20260425T151852
CREATED:20230206T234429Z
LAST-MODIFIED:20230207T000210Z
UID:10007171-1676390400-1676397600@murphydeals.com
SUMMARY:Line Dancing at the Flying X Saloon
DESCRIPTION:Tuesday\, February 7\, 2023\n4:00pm-6:00pm\n\n\nLINE DANCING\n\nBeginner thru Advanced 4pm-6pm. 2 hours of fun for $6\nInfo call Alice March 928-727-6514
URL:https://murphydeals.com/event/line-dancing-2/2023-02-14/
LOCATION:Flying X Saloon\, 2030 McCulloch Blvd N\, Lake Havasu City\, AZ\, 86403
CATEGORIES:Event,Music | Concerts
ATTACH;FMTTYPE=image/jpeg:https://murphydeals.com/wp-content/uploads/2022/09/line-dance-2-e1664318495409.jpg
END:VEVENT
BEGIN:VEVENT
DTSTART;TZID=America/Phoenix:20230221T160000
DTEND;TZID=America/Phoenix:20230221T180000
DTSTAMP:20260425T151852
CREATED:20230206T234429Z
LAST-MODIFIED:20230207T000210Z
UID:10007172-1676995200-1677002400@murphydeals.com
SUMMARY:Line Dancing at the Flying X Saloon
DESCRIPTION:Tuesday\, February 7\, 2023\n4:00pm-6:00pm\n\n\nLINE DANCING\n\nBeginner thru Advanced 4pm-6pm. 2 hours of fun for $6\nInfo call Alice March 928-727-6514
URL:https://murphydeals.com/event/line-dancing-2/2023-02-21/
LOCATION:Flying X Saloon\, 2030 McCulloch Blvd N\, Lake Havasu City\, AZ\, 86403
CATEGORIES:Event,Music | Concerts
ATTACH;FMTTYPE=image/jpeg:https://murphydeals.com/wp-content/uploads/2022/09/line-dance-2-e1664318495409.jpg
END:VEVENT
BEGIN:VEVENT
DTSTART;TZID=America/Phoenix:20230224T200000
DTEND;TZID=America/Phoenix:20230224T230000
DTSTAMP:20260425T151852
CREATED:20230214T171911Z
LAST-MODIFIED:20230214T171911Z
UID:10007187-1677268800-1677279600@murphydeals.com
SUMMARY:Mark Easterday at the Flying X Saloon
DESCRIPTION:
URL:https://murphydeals.com/event/mark-easterday-at-the-flying-x-saloon/2023-02-24/
LOCATION:Flying X Saloon\, 2030 McCulloch Blvd N\, Lake Havasu City\, AZ\, 86403
CATEGORIES:Music | Concerts
ATTACH;FMTTYPE=image/jpeg:https://murphydeals.com/wp-content/uploads/2023/01/flyingxsaloon-e1674513036257.jpg
END:VEVENT
BEGIN:VEVENT
DTSTART;TZID=America/Phoenix:20230225T200000
DTEND;TZID=America/Phoenix:20230225T230000
DTSTAMP:20260425T151852
CREATED:20230214T171911Z
LAST-MODIFIED:20230214T171911Z
UID:10007188-1677355200-1677366000@murphydeals.com
SUMMARY:Mark Easterday at the Flying X Saloon
DESCRIPTION:
URL:https://murphydeals.com/event/mark-easterday-at-the-flying-x-saloon/2023-02-25/
LOCATION:Flying X Saloon\, 2030 McCulloch Blvd N\, Lake Havasu City\, AZ\, 86403
CATEGORIES:Music | Concerts
ATTACH;FMTTYPE=image/jpeg:https://murphydeals.com/wp-content/uploads/2023/01/flyingxsaloon-e1674513036257.jpg
END:VEVENT
BEGIN:VEVENT
DTSTART;TZID=America/Phoenix:20230228T160000
DTEND;TZID=America/Phoenix:20230228T180000
DTSTAMP:20260425T151852
CREATED:20230206T234429Z
LAST-MODIFIED:20230207T000210Z
UID:10007173-1677600000-1677607200@murphydeals.com
SUMMARY:Line Dancing at the Flying X Saloon
DESCRIPTION:Tuesday\, February 7\, 2023\n4:00pm-6:00pm\n\n\nLINE DANCING\n\nBeginner thru Advanced 4pm-6pm. 2 hours of fun for $6\nInfo call Alice March 928-727-6514
URL:https://murphydeals.com/event/line-dancing-2/2023-02-28/
LOCATION:Flying X Saloon\, 2030 McCulloch Blvd N\, Lake Havasu City\, AZ\, 86403
CATEGORIES:Event,Music | Concerts
ATTACH;FMTTYPE=image/jpeg:https://murphydeals.com/wp-content/uploads/2022/09/line-dance-2-e1664318495409.jpg
END:VEVENT
BEGIN:VEVENT
DTSTART;TZID=America/Phoenix:20230301T183000
DTEND;TZID=America/Phoenix:20230301T223000
DTSTAMP:20260425T151852
CREATED:20230224T182235Z
LAST-MODIFIED:20230224T182235Z
UID:10007267-1677695400-1677709800@murphydeals.com
SUMMARY:Sacred Stone at the Flying X Saloon
DESCRIPTION:
URL:https://murphydeals.com/event/sacred-stone-at-the-flying-x-saloon/
LOCATION:Flying X Saloon\, 2030 McCulloch Blvd N\, Lake Havasu City\, AZ\, 86403
CATEGORIES:Event
ATTACH;FMTTYPE=image/jpeg:https://murphydeals.com/wp-content/uploads/2023/01/flyingxsaloon-e1674513036257.jpg
END:VEVENT
BEGIN:VEVENT
DTSTART;TZID=America/Phoenix:20230323T183000
DTEND;TZID=America/Phoenix:20230323T213000
DTSTAMP:20260425T151852
CREATED:20230320T223916Z
LAST-MODIFIED:20230320T223916Z
UID:10007324-1679596200-1679607000@murphydeals.com
SUMMARY:Swamp Donkey at the Flying X Saloon
DESCRIPTION:
URL:https://murphydeals.com/event/swamp-donkey-at-the-flying-x-saloon/
LOCATION:Flying X Saloon\, 2030 McCulloch Blvd N\, Lake Havasu City\, AZ\, 86403
CATEGORIES:Music | Concerts
ATTACH;FMTTYPE=image/jpeg:https://murphydeals.com/wp-content/uploads/2023/01/flyingxsaloon-e1674513036257.jpg
END:VEVENT
BEGIN:VEVENT
DTSTART;TZID=America/Phoenix:20230326T180000
DTEND;TZID=America/Phoenix:20230326T220000
DTSTAMP:20260425T151852
CREATED:20230320T230839Z
LAST-MODIFIED:20230320T231010Z
UID:10007325-1679853600-1679868000@murphydeals.com
SUMMARY:Johnny Cash Tribute with Mitchell Hall & Tennessee Trio at the Flying X Saloon
DESCRIPTION:$60. per table of 4. Reservations are required
URL:https://murphydeals.com/event/johnny-cash-tribute-with-mitchell-hall-tennessee-trio-at-the-flying-x-saloon/
LOCATION:Flying X Saloon\, 2030 McCulloch Blvd N\, Lake Havasu City\, AZ\, 86403
CATEGORIES:Music | Concerts
ATTACH;FMTTYPE=image/jpeg:https://murphydeals.com/wp-content/uploads/2023/01/flyingxsaloon-e1674513036257.jpg
END:VEVENT
BEGIN:VEVENT
DTSTART;TZID=America/Phoenix:20230327T180000
DTEND;TZID=America/Phoenix:20230327T210000
DTSTAMP:20260425T151852
CREATED:20230327T192507Z
LAST-MODIFIED:20230327T192507Z
UID:10007386-1679940000-1679950800@murphydeals.com
SUMMARY:Briana Marie at the Flying X Saloon
DESCRIPTION:
URL:https://murphydeals.com/event/briana-marie-at-the-flying-x-saloon-2/2023-03-27/
LOCATION:Flying X Saloon\, 2030 McCulloch Blvd N\, Lake Havasu City\, AZ\, 86403
CATEGORIES:Music | Concerts
ATTACH;FMTTYPE=image/jpeg:https://murphydeals.com/wp-content/uploads/2022/05/media-4662-e1679949062835.jpg
END:VEVENT
BEGIN:VEVENT
DTSTART;TZID=America/Phoenix:20230328T180000
DTEND;TZID=America/Phoenix:20230328T220000
DTSTAMP:20260425T151852
CREATED:20230320T232606Z
LAST-MODIFIED:20230320T232606Z
UID:10007329-1680026400-1680040800@murphydeals.com
SUMMARY:Steve Wayman at the Flying X Saloon
DESCRIPTION:
URL:https://murphydeals.com/event/steve-wayman-at-the-flying-x-saloon/
LOCATION:Flying X Saloon\, 2030 McCulloch Blvd N\, Lake Havasu City\, AZ\, 86403
CATEGORIES:Music | Concerts
ATTACH;FMTTYPE=image/jpeg:https://murphydeals.com/wp-content/uploads/2023/01/flyingxsaloon-e1674513036257.jpg
END:VEVENT
BEGIN:VEVENT
DTSTART;TZID=America/Phoenix:20230330T183000
DTEND;TZID=America/Phoenix:20230330T223000
DTSTAMP:20260425T151852
CREATED:20230320T233319Z
LAST-MODIFIED:20230320T233445Z
UID:10007330-1680201000-1680215400@murphydeals.com
SUMMARY:Chuck E Bumps at the Flying X Saloon
DESCRIPTION:
URL:https://murphydeals.com/event/chuck-e-bumps-at-the-flying-x-saloon/
LOCATION:Flying X Saloon\, 2030 McCulloch Blvd N\, Lake Havasu City\, AZ\, 86403
CATEGORIES:Music | Concerts
ATTACH;FMTTYPE=image/jpeg:https://murphydeals.com/wp-content/uploads/2023/01/flyingxsaloon-e1674513036257.jpg
END:VEVENT
BEGIN:VEVENT
DTSTART;TZID=America/Phoenix:20230401T140000
DTEND;TZID=America/Phoenix:20230401T180000
DTSTAMP:20260425T151852
CREATED:20230324T233732Z
LAST-MODIFIED:20230324T233732Z
UID:10007368-1680357600-1680372000@murphydeals.com
SUMMARY:Parrot Head Club Poker Walk in Lake Havasu
DESCRIPTION:
URL:https://murphydeals.com/event/parrot-head-club-poker-walk-in-lake-havasu/
LOCATION:Lake Havasu City\, Virtual Via Zoom\, Lake Havasu City\, AZ\, 86406\, United States
CATEGORIES:Event
ATTACH;FMTTYPE=image/jpeg:https://murphydeals.com/wp-content/uploads/2023/03/phpokerwalk-e1679700790392.jpg
END:VEVENT
BEGIN:VEVENT
DTSTART;TZID=America/Phoenix:20230402T180000
DTEND;TZID=America/Phoenix:20230402T210000
DTSTAMP:20260425T151852
CREATED:20230327T174943Z
LAST-MODIFIED:20230327T174943Z
UID:10007380-1680458400-1680469200@murphydeals.com
SUMMARY:Craig Wayne Boyd at the Flying X Saloon in Lake Havasu
DESCRIPTION:
URL:https://murphydeals.com/event/craig-wayne-boyd-at-the-flying-x-saloon-in-lake-havasu/
LOCATION:Flying X Saloon\, 2030 McCulloch Blvd N\, Lake Havasu City\, AZ\, 86403
CATEGORIES:Music | Concerts
ATTACH;FMTTYPE=image/jpeg:https://murphydeals.com/wp-content/uploads/2023/03/craigwayneboyd-1-1-e1679939357621.jpg
END:VEVENT
BEGIN:VEVENT
DTSTART;TZID=America/Phoenix:20230403T180000
DTEND;TZID=America/Phoenix:20230403T210000
DTSTAMP:20260425T151852
CREATED:20230327T180246Z
LAST-MODIFIED:20230327T180246Z
UID:10007381-1680544800-1680555600@murphydeals.com
SUMMARY:The UAPs at the Flying X Saloon in Lake Havasu
DESCRIPTION:The UAPs Band will be performing for the first time together at Flying X Saloon on Monday April 3rd from 6-9 PM. Come on down and enjoy an evening at The Flying X. \n 
URL:https://murphydeals.com/event/the-uaps-at-the-flying-x-saloon-in-lake-havasu/
LOCATION:Flying X Saloon\, 2030 McCulloch Blvd N\, Lake Havasu City\, AZ\, 86403
CATEGORIES:Music | Concerts
ATTACH;FMTTYPE=image/jpeg:https://murphydeals.com/wp-content/uploads/2023/03/theuaps-1-e1679940018793.jpg
END:VEVENT
BEGIN:VEVENT
DTSTART;TZID=America/Phoenix:20230405T183000
DTEND;TZID=America/Phoenix:20230405T213000
DTSTAMP:20260425T151852
CREATED:20230327T182938Z
LAST-MODIFIED:20230327T183214Z
UID:10007382-1680719400-1680730200@murphydeals.com
SUMMARY:Top Shelf at the Flying X Saloon in Lake Havasu
DESCRIPTION:The band plays a wide variety of rock\, classic rock and a few classic country songs. The focus is on the audience being able to dance to the songs. We have fun and keep the audience entertained. The band is entirely self-sufficient\, having our own sound system\, lights\, etc. \nRich Navarette\, guitarist and vocalist\, was born in California\, and moved to Lake Havasu City\, AZ in 1999. By age sixteen Rich was performing with various groups at clubs\, weddings and private parties. Rich sings lead on numerous selections and plays lead and rhythm guitar\, and also serves as leader of the group. \nAndrew Clair\, keyboardist and vocalist\, is a native of Iowa\, and has a degree in music from Iowa State University. In addition to playing keyboard in the Top Shelf Band\, he also teaches music in the Parker Unified School District. Andrew sings lead in several of the band’s selection. \nJohn Livengood; drummer and vocalist\, was born in Chicago and has fifty years experience as a professional musician. He played in his first professional band at age sixteen\, and has played in several prominent Chicago-area bands\, touring extensively throughout the USA and Canada. He then relocated to Las Vegas\, where he continued his career as a professional musician. John\, a graduate of Southern Utah University\, has a degree in English and History and currently resides in Lake Havasu City\, AZ. \nRic Zakoor\, bass\, is a also seasoned professional musician with decades of experience playing bass and guitar. Originally from California\, Ric has played across much of the USA. He recently relocated from the Phoenix area and now lives in Lake Havasu City.
URL:https://murphydeals.com/event/top-shelf-at-the-flying-x-saloon-in-lake-havasu/
LOCATION:Flying X Saloon\, 2030 McCulloch Blvd N\, Lake Havasu City\, AZ\, 86403
CATEGORIES:Music | Concerts
ATTACH;FMTTYPE=image/jpeg:https://murphydeals.com/wp-content/uploads/2023/03/topshelf1-e1679941924516.jpg
END:VEVENT
BEGIN:VEVENT
DTSTART;TZID=America/Phoenix:20230406T183000
DTEND;TZID=America/Phoenix:20230406T203000
DTSTAMP:20260425T151852
CREATED:20230323T174835Z
LAST-MODIFIED:20230327T185356Z
UID:10006612-1680805800-1680813000@murphydeals.com
SUMMARY:Crosscut at the Flying X Saloon in Lake Havasu
DESCRIPTION:Crosscutt is a local Lake Havasu City band of four passionate musicians known for its signature sound in the area. The group has been together for more than four years and describe their music as Red\, Rock and Blues with influences such as Stevie Ray Vaughan and Johnny Cash. \nCrosscutt band members are: \n\nNic Hovdal — vocals\, rhythm guitar\, lead tambourine\, manager\, and co-founder.\nAnthony Cunningham — lead guitar\, back-up vocals\, self-proclaimed “Wiz Kid\,” and co-founder.\nLarry Thomas — bassist\, back-up vocals\, and self-proclaimed “Lead Soul Man.”\nBen Masie — drums and percussion\, and self-proclaimed “Resident Rocker.”\n\nExpect a great time comprised of original songs\, classic covers and plenty of dancing at a Crosscutt show. Many of the band’s original material was written by Cunningham with input from the rest of the band throughout the rehearsal process. \n  \n  \n 
URL:https://murphydeals.com/event/crosscut-at-the-flying-x-saloon-in-lake-havasu/2023-04-06/
LOCATION:Flying X Saloon\, 2030 McCulloch Blvd N\, Lake Havasu City\, AZ\, 86403
CATEGORIES:Music | Concerts
ATTACH;FMTTYPE=image/jpeg:https://murphydeals.com/wp-content/uploads/2023/03/Crosscut-e1679957214596.jpg
END:VEVENT
BEGIN:VEVENT
DTSTART;TZID=America/Phoenix:20230407T200000
DTEND;TZID=America/Phoenix:20230407T230000
DTSTAMP:20260425T151852
CREATED:20230327T192507Z
LAST-MODIFIED:20230327T192507Z
UID:10007387-1680897600-1680908400@murphydeals.com
SUMMARY:Briana Marie at the Flying X Saloon
DESCRIPTION:
URL:https://murphydeals.com/event/briana-marie-at-the-flying-x-saloon-2/2023-04-07/
LOCATION:Flying X Saloon\, 2030 McCulloch Blvd N\, Lake Havasu City\, AZ\, 86403
CATEGORIES:Music | Concerts
ATTACH;FMTTYPE=image/jpeg:https://murphydeals.com/wp-content/uploads/2022/05/media-4662-e1679949062835.jpg
END:VEVENT
BEGIN:VEVENT
DTSTART;TZID=America/Phoenix:20230408T200000
DTEND;TZID=America/Phoenix:20230408T230000
DTSTAMP:20260425T151852
CREATED:20230327T192507Z
LAST-MODIFIED:20230327T192507Z
UID:10007388-1680984000-1680994800@murphydeals.com
SUMMARY:Briana Marie at the Flying X Saloon
DESCRIPTION:
URL:https://murphydeals.com/event/briana-marie-at-the-flying-x-saloon-2/2023-04-08/
LOCATION:Flying X Saloon\, 2030 McCulloch Blvd N\, Lake Havasu City\, AZ\, 86403
CATEGORIES:Music | Concerts
ATTACH;FMTTYPE=image/jpeg:https://murphydeals.com/wp-content/uploads/2022/05/media-4662-e1679949062835.jpg
END:VEVENT
BEGIN:VEVENT
DTSTART;TZID=America/Phoenix:20230410T180000
DTEND;TZID=America/Phoenix:20230410T200000
DTSTAMP:20260425T151852
CREATED:20230327T193121Z
LAST-MODIFIED:20230327T193121Z
UID:10007391-1681149600-1681156800@murphydeals.com
SUMMARY:Briana Marie Solo Acoustic at the Flying X Saloon
DESCRIPTION:
URL:https://murphydeals.com/event/briana-marie-solo-acoustic-at-the-flying-x-saloon/
LOCATION:Flying X Saloon\, 2030 McCulloch Blvd N\, Lake Havasu City\, AZ\, 86403
CATEGORIES:Music | Concerts
ATTACH;FMTTYPE=image/jpeg:https://murphydeals.com/wp-content/uploads/2022/05/media-4662-e1679949062835.jpg
END:VEVENT
BEGIN:VEVENT
DTSTART;TZID=America/Phoenix:20230411T163000
DTEND;TZID=America/Phoenix:20230411T183000
DTSTAMP:20260425T151852
CREATED:20230403T180622Z
LAST-MODIFIED:20230410T154613Z
UID:10007424-1681230600-1681237800@murphydeals.com
SUMMARY:Happy Hour Benfit For Local Childrens Charities
DESCRIPTION:  \nJoin us for a fun filled Happy Hour with refreshments and raffles as we enjoy the company of our Sisterhood and support the Food4Kidz Backpack Program. It’s easy\, it’s fun and you’ll meet the most amazing women! Come be a part of our Mission of Giving!
URL:https://murphydeals.com/event/happy-hour-at-the-flying-x-saloon/
LOCATION:Flying X Saloon\, 2030 McCulloch Blvd N\, Lake Havasu City\, AZ\, 86403
CATEGORIES:Event
ATTACH;FMTTYPE=image/jpeg:https://murphydeals.com/wp-content/uploads/2023/04/happyhour-1-1-e1680545050905.jpg
END:VEVENT
BEGIN:VEVENT
DTSTART;TZID=America/Phoenix:20230412T183000
DTEND;TZID=America/Phoenix:20230412T213000
DTSTAMP:20260425T151852
CREATED:20220413T013044Z
LAST-MODIFIED:20230327T193900Z
UID:10007392-1681324200-1681335000@murphydeals.com
SUMMARY:Swamp Donkey at the Flying X Saloon
DESCRIPTION:
URL:https://murphydeals.com/event/come-see-swamp-donkey/2023-04-12/
LOCATION:Flying X Saloon\, 2030 McCulloch Blvd N\, Lake Havasu City\, AZ\, 86403
CATEGORIES:Music | Concerts
ATTACH;FMTTYPE=image/jpeg:https://murphydeals.com/wp-content/uploads/2023/01/flyingxsaloon-e1674513036257.jpg
END:VEVENT
BEGIN:VEVENT
DTSTART;TZID=America/Phoenix:20230413T183000
DTEND;TZID=America/Phoenix:20230413T213000
DTSTAMP:20260425T151852
CREATED:20220413T013044Z
LAST-MODIFIED:20230327T193900Z
UID:10007393-1681410600-1681421400@murphydeals.com
SUMMARY:Swamp Donkey at the Flying X Saloon
DESCRIPTION:
URL:https://murphydeals.com/event/come-see-swamp-donkey/2023-04-13/
LOCATION:Flying X Saloon\, 2030 McCulloch Blvd N\, Lake Havasu City\, AZ\, 86403
CATEGORIES:Music | Concerts
ATTACH;FMTTYPE=image/jpeg:https://murphydeals.com/wp-content/uploads/2023/01/flyingxsaloon-e1674513036257.jpg
END:VEVENT
BEGIN:VEVENT
DTSTART;TZID=America/Phoenix:20230414T200000
DTEND;TZID=America/Phoenix:20230414T230000
DTSTAMP:20260425T151852
CREATED:20230327T195541Z
LAST-MODIFIED:20230327T195541Z
UID:10007394-1681502400-1681513200@murphydeals.com
SUMMARY:Thrillbilly Deluxe at the Flying X Saloon
DESCRIPTION:Out of the depths of the Mojave Desert comes a country band that gives audiences what they’ve been craving…. an exciting and rousing country show\, with an edge\, sharpened by a touch of whiskey\, a case of beer\, and a feeling that’s as down-home as the music that they play. \nFormed in 2011\, Thrillbilly Deluxe is a four-piece country ensemble based out of Las Vegas\, NV that has been entertaining fans with their hand-picked covers of modern\, and classic country artists\, as well as their own original music. The band gets their fans moving to the music of artists such as Jason Aldean\, Merle Haggard\, Kenny Chesney\, Luke Bryan\, Alan Jackson\, Garth Brooks\, Elvis Presley\, Dwight Yoakam\, Keith Urban\, Eric Church\, and Hank Williams Jr.\, just to name a few. \nWhether it’s performing in a club\, a showroom\, a saloon\, a convention stage\, or for a private party\, Thrillbilly Deluxe will bring the people an energetic rockin’ country show to keep the beer taps flowing and the party going! \n 
URL:https://murphydeals.com/event/thrillbilly-deluxe-at-the-flying-x-saloon/2023-04-14/
LOCATION:Flying X Saloon\, 2030 McCulloch Blvd N\, Lake Havasu City\, AZ\, 86403
CATEGORIES:Music | Concerts
ATTACH;FMTTYPE=image/jpeg:https://murphydeals.com/wp-content/uploads/2023/03/thrillbilly-e1679946906508.jpg
END:VEVENT
BEGIN:VEVENT
DTSTART;TZID=America/Phoenix:20230415T200000
DTEND;TZID=America/Phoenix:20230415T230000
DTSTAMP:20260425T151852
CREATED:20230327T195541Z
LAST-MODIFIED:20230327T195541Z
UID:10007395-1681588800-1681599600@murphydeals.com
SUMMARY:Thrillbilly Deluxe at the Flying X Saloon
DESCRIPTION:Out of the depths of the Mojave Desert comes a country band that gives audiences what they’ve been craving…. an exciting and rousing country show\, with an edge\, sharpened by a touch of whiskey\, a case of beer\, and a feeling that’s as down-home as the music that they play. \nFormed in 2011\, Thrillbilly Deluxe is a four-piece country ensemble based out of Las Vegas\, NV that has been entertaining fans with their hand-picked covers of modern\, and classic country artists\, as well as their own original music. The band gets their fans moving to the music of artists such as Jason Aldean\, Merle Haggard\, Kenny Chesney\, Luke Bryan\, Alan Jackson\, Garth Brooks\, Elvis Presley\, Dwight Yoakam\, Keith Urban\, Eric Church\, and Hank Williams Jr.\, just to name a few. \nWhether it’s performing in a club\, a showroom\, a saloon\, a convention stage\, or for a private party\, Thrillbilly Deluxe will bring the people an energetic rockin’ country show to keep the beer taps flowing and the party going! \n 
URL:https://murphydeals.com/event/thrillbilly-deluxe-at-the-flying-x-saloon/2023-04-15/
LOCATION:Flying X Saloon\, 2030 McCulloch Blvd N\, Lake Havasu City\, AZ\, 86403
CATEGORIES:Music | Concerts
ATTACH;FMTTYPE=image/jpeg:https://murphydeals.com/wp-content/uploads/2023/03/thrillbilly-e1679946906508.jpg
END:VEVENT
END:VCALENDAR