BEGIN:VCALENDAR
VERSION:2.0
PRODID:-//Murphy Deals - ECPv6.15.20//NONSGML v1.0//EN
CALSCALE:GREGORIAN
METHOD:PUBLISH
X-WR-CALNAME:Murphy Deals
X-ORIGINAL-URL:https://murphydeals.com
X-WR-CALDESC:Events for Murphy Deals
REFRESH-INTERVAL;VALUE=DURATION:PT1H
X-Robots-Tag:noindex
X-PUBLISHED-TTL:PT1H
BEGIN:VTIMEZONE
TZID:America/Phoenix
BEGIN:STANDARD
TZOFFSETFROM:-0700
TZOFFSETTO:-0700
TZNAME:MST
DTSTART:20220101T000000
END:STANDARD
END:VTIMEZONE
BEGIN:VEVENT
DTSTART;TZID=America/Phoenix:20230716T200000
DTEND;TZID=America/Phoenix:20230716T213000
DTSTAMP:20260425T144935
CREATED:20230509T161958Z
LAST-MODIFIED:20230605T155750Z
UID:10007804-1689537600-1689543000@murphydeals.com
SUMMARY:Frank Marino’s Divas at Don Laughlin’s Riverside Resort
DESCRIPTION:Frank Marino\, A Las Vegas Icon\nDivas – this 75-minute energetic show starring Las Vegas’ longest running headliner Frank Marino as comic icon Joan Rivers features an all star cast of superstar female impersonators who not only recreate but almost uncannily duplicate the likenesses of stars ranging from Britney Spears to Cher and Diana Ross to Beyonce even Madonna and Dolly Parton have been known to stop by. Meanwhile\, Marino in his role as the show’s emcee and star changes between every act bringing an international whirlwind of couture to the stage with each spectacular entrance. \nMarino always knew he would become a star\, even as a small child\, growing up in New York. What he didn’t realize was that he’d have to be dressed up in glittering Bob Mackie gowns\, and strapped into towering Manolo Blahnik stilettos to do so. And that’s before he gets into his makeup\, wigs and jewelry! “The ladder of success was even harder to climb wearing high heels!” Marino wittily quips. \nLike a fine wine\, Frank Marino keeps getting better with age. \n\nShow Time 8:00 PM PST\nFloor Seats: $38.00 + $4.36 SVC CHG + Tax\nRiser Seats: $32.00 + $4.36 SVC CHG + Tax\nLocals: Floor Seats $33.00 + $4.36 SVC CHG + Tax\nLocals: Riser Seats $28.00 + $4.36 SVC CHG + Tax\n\nBUY TICKETS \n 
URL:https://murphydeals.com/event/frank-marinos-divas-at-the-riverside-resort-in-laughlin/2023-07-16/
LOCATION:Don Laughlin’s Riverside Resort Hotel and Casino\, 1650 S Casino Drive\, Laughlin\, Nevada\, 89029
CATEGORIES:Comedy | Comedian,Event
ATTACH;FMTTYPE=image/jpeg:https://murphydeals.com/wp-content/uploads/2023/05/frankmarino-1.jpg
END:VEVENT
BEGIN:VEVENT
DTSTART;TZID=America/Phoenix:20230716T200000
DTEND;TZID=America/Phoenix:20230716T213000
DTSTAMP:20260425T144935
CREATED:20230509T161213Z
LAST-MODIFIED:20230515T230205Z
UID:10007829-1689537600-1689543000@murphydeals.com
SUMMARY:Frank Marino’s Divas at Don Laughlin’s Riverside Resort
DESCRIPTION:Frank Marino\, A Las Vegas Icon\nDivas – this 75-minute energetic show starring Las Vegas’ longest running headliner Frank Marino as comic icon Joan Rivers features an all star cast of superstar female impersonators who not only recreate but almost uncannily duplicate the likenesses of stars ranging from Britney Spears to Cher and Diana Ross to Beyonce even Madonna and Dolly Parton have been known to stop by. Meanwhile\, Marino in his role as the show’s emcee and star changes between every act bringing an international whirlwind of couture to the stage with each spectacular entrance. \nMarino always knew he would become a star\, even as a small child\, growing up in New York. What he didn’t realize was that he’d have to be dressed up in glittering Bob Mackie gowns\, and strapped into towering Manolo Blahnik stilettos to do so. And that’s before he gets into his makeup\, wigs and jewelry! “The ladder of success was even harder to climb wearing high heels!” Marino wittily quips. \nLike a fine wine\, Frank Marino keeps getting better with age. \nBUY TICKETS \n\nShow Time 8:00 PM PST\nFloor Seats: $38.00 + $4.36 SVC CHG + Tax\nRiser Seats: $32.00 + $4.36 SVC CHG + Tax\nLocals: Floor Seats $33.00 + $4.36 SVC CHG + Tax\nLocals: Riser Seats $28.00 + $4.36 SVC CHG + Tax
URL:https://murphydeals.com/event/frank-marinos-divas-at-riverside-resort-in-laughlin/2023-07-16/
LOCATION:Nevada
CATEGORIES:Comedy | Comedian,Event
ATTACH;FMTTYPE=image/jpeg:https://murphydeals.com/wp-content/uploads/2023/05/frankmarino-1.jpg
END:VEVENT
BEGIN:VEVENT
DTSTART;TZID=America/Phoenix:20230715T200000
DTEND;TZID=America/Phoenix:20230715T213000
DTSTAMP:20260425T144935
CREATED:20230509T161958Z
LAST-MODIFIED:20230605T155750Z
UID:10007803-1689451200-1689456600@murphydeals.com
SUMMARY:Frank Marino’s Divas at Don Laughlin’s Riverside Resort
DESCRIPTION:Frank Marino\, A Las Vegas Icon\nDivas – this 75-minute energetic show starring Las Vegas’ longest running headliner Frank Marino as comic icon Joan Rivers features an all star cast of superstar female impersonators who not only recreate but almost uncannily duplicate the likenesses of stars ranging from Britney Spears to Cher and Diana Ross to Beyonce even Madonna and Dolly Parton have been known to stop by. Meanwhile\, Marino in his role as the show’s emcee and star changes between every act bringing an international whirlwind of couture to the stage with each spectacular entrance. \nMarino always knew he would become a star\, even as a small child\, growing up in New York. What he didn’t realize was that he’d have to be dressed up in glittering Bob Mackie gowns\, and strapped into towering Manolo Blahnik stilettos to do so. And that’s before he gets into his makeup\, wigs and jewelry! “The ladder of success was even harder to climb wearing high heels!” Marino wittily quips. \nLike a fine wine\, Frank Marino keeps getting better with age. \n\nShow Time 8:00 PM PST\nFloor Seats: $38.00 + $4.36 SVC CHG + Tax\nRiser Seats: $32.00 + $4.36 SVC CHG + Tax\nLocals: Floor Seats $33.00 + $4.36 SVC CHG + Tax\nLocals: Riser Seats $28.00 + $4.36 SVC CHG + Tax\n\nBUY TICKETS \n 
URL:https://murphydeals.com/event/frank-marinos-divas-at-the-riverside-resort-in-laughlin/2023-07-15/
LOCATION:Don Laughlin’s Riverside Resort Hotel and Casino\, 1650 S Casino Drive\, Laughlin\, Nevada\, 89029
CATEGORIES:Comedy | Comedian,Event
ATTACH;FMTTYPE=image/jpeg:https://murphydeals.com/wp-content/uploads/2023/05/frankmarino-1.jpg
END:VEVENT
BEGIN:VEVENT
DTSTART;TZID=America/Phoenix:20230715T200000
DTEND;TZID=America/Phoenix:20230715T213000
DTSTAMP:20260425T144935
CREATED:20230509T161213Z
LAST-MODIFIED:20230515T230205Z
UID:10007828-1689451200-1689456600@murphydeals.com
SUMMARY:Frank Marino’s Divas at Don Laughlin’s Riverside Resort
DESCRIPTION:Frank Marino\, A Las Vegas Icon\nDivas – this 75-minute energetic show starring Las Vegas’ longest running headliner Frank Marino as comic icon Joan Rivers features an all star cast of superstar female impersonators who not only recreate but almost uncannily duplicate the likenesses of stars ranging from Britney Spears to Cher and Diana Ross to Beyonce even Madonna and Dolly Parton have been known to stop by. Meanwhile\, Marino in his role as the show’s emcee and star changes between every act bringing an international whirlwind of couture to the stage with each spectacular entrance. \nMarino always knew he would become a star\, even as a small child\, growing up in New York. What he didn’t realize was that he’d have to be dressed up in glittering Bob Mackie gowns\, and strapped into towering Manolo Blahnik stilettos to do so. And that’s before he gets into his makeup\, wigs and jewelry! “The ladder of success was even harder to climb wearing high heels!” Marino wittily quips. \nLike a fine wine\, Frank Marino keeps getting better with age. \nBUY TICKETS \n\nShow Time 8:00 PM PST\nFloor Seats: $38.00 + $4.36 SVC CHG + Tax\nRiser Seats: $32.00 + $4.36 SVC CHG + Tax\nLocals: Floor Seats $33.00 + $4.36 SVC CHG + Tax\nLocals: Riser Seats $28.00 + $4.36 SVC CHG + Tax
URL:https://murphydeals.com/event/frank-marinos-divas-at-riverside-resort-in-laughlin/2023-07-15/
LOCATION:Nevada
CATEGORIES:Comedy | Comedian,Event
ATTACH;FMTTYPE=image/jpeg:https://murphydeals.com/wp-content/uploads/2023/05/frankmarino-1.jpg
END:VEVENT
BEGIN:VEVENT
DTSTART;TZID=America/Phoenix:20230714T200000
DTEND;TZID=America/Phoenix:20230714T213000
DTSTAMP:20260425T144935
CREATED:20230509T161958Z
LAST-MODIFIED:20230605T155750Z
UID:10007802-1689364800-1689370200@murphydeals.com
SUMMARY:Frank Marino’s Divas at Don Laughlin’s Riverside Resort
DESCRIPTION:Frank Marino\, A Las Vegas Icon\nDivas – this 75-minute energetic show starring Las Vegas’ longest running headliner Frank Marino as comic icon Joan Rivers features an all star cast of superstar female impersonators who not only recreate but almost uncannily duplicate the likenesses of stars ranging from Britney Spears to Cher and Diana Ross to Beyonce even Madonna and Dolly Parton have been known to stop by. Meanwhile\, Marino in his role as the show’s emcee and star changes between every act bringing an international whirlwind of couture to the stage with each spectacular entrance. \nMarino always knew he would become a star\, even as a small child\, growing up in New York. What he didn’t realize was that he’d have to be dressed up in glittering Bob Mackie gowns\, and strapped into towering Manolo Blahnik stilettos to do so. And that’s before he gets into his makeup\, wigs and jewelry! “The ladder of success was even harder to climb wearing high heels!” Marino wittily quips. \nLike a fine wine\, Frank Marino keeps getting better with age. \n\nShow Time 8:00 PM PST\nFloor Seats: $38.00 + $4.36 SVC CHG + Tax\nRiser Seats: $32.00 + $4.36 SVC CHG + Tax\nLocals: Floor Seats $33.00 + $4.36 SVC CHG + Tax\nLocals: Riser Seats $28.00 + $4.36 SVC CHG + Tax\n\nBUY TICKETS \n 
URL:https://murphydeals.com/event/frank-marinos-divas-at-the-riverside-resort-in-laughlin/2023-07-14/
LOCATION:Don Laughlin’s Riverside Resort Hotel and Casino\, 1650 S Casino Drive\, Laughlin\, Nevada\, 89029
CATEGORIES:Comedy | Comedian,Event
ATTACH;FMTTYPE=image/jpeg:https://murphydeals.com/wp-content/uploads/2023/05/frankmarino-1.jpg
END:VEVENT
BEGIN:VEVENT
DTSTART;TZID=America/Phoenix:20230714T200000
DTEND;TZID=America/Phoenix:20230714T213000
DTSTAMP:20260425T144935
CREATED:20230509T161213Z
LAST-MODIFIED:20230515T230205Z
UID:10007827-1689364800-1689370200@murphydeals.com
SUMMARY:Frank Marino’s Divas at Don Laughlin’s Riverside Resort
DESCRIPTION:Frank Marino\, A Las Vegas Icon\nDivas – this 75-minute energetic show starring Las Vegas’ longest running headliner Frank Marino as comic icon Joan Rivers features an all star cast of superstar female impersonators who not only recreate but almost uncannily duplicate the likenesses of stars ranging from Britney Spears to Cher and Diana Ross to Beyonce even Madonna and Dolly Parton have been known to stop by. Meanwhile\, Marino in his role as the show’s emcee and star changes between every act bringing an international whirlwind of couture to the stage with each spectacular entrance. \nMarino always knew he would become a star\, even as a small child\, growing up in New York. What he didn’t realize was that he’d have to be dressed up in glittering Bob Mackie gowns\, and strapped into towering Manolo Blahnik stilettos to do so. And that’s before he gets into his makeup\, wigs and jewelry! “The ladder of success was even harder to climb wearing high heels!” Marino wittily quips. \nLike a fine wine\, Frank Marino keeps getting better with age. \nBUY TICKETS \n\nShow Time 8:00 PM PST\nFloor Seats: $38.00 + $4.36 SVC CHG + Tax\nRiser Seats: $32.00 + $4.36 SVC CHG + Tax\nLocals: Floor Seats $33.00 + $4.36 SVC CHG + Tax\nLocals: Riser Seats $28.00 + $4.36 SVC CHG + Tax
URL:https://murphydeals.com/event/frank-marinos-divas-at-riverside-resort-in-laughlin/2023-07-14/
LOCATION:Nevada
CATEGORIES:Comedy | Comedian,Event
ATTACH;FMTTYPE=image/jpeg:https://murphydeals.com/wp-content/uploads/2023/05/frankmarino-1.jpg
END:VEVENT
BEGIN:VEVENT
DTSTART;TZID=America/Phoenix:20230713T200000
DTEND;TZID=America/Phoenix:20230713T213000
DTSTAMP:20260425T144935
CREATED:20230509T161958Z
LAST-MODIFIED:20230605T155750Z
UID:10008207-1689278400-1689283800@murphydeals.com
SUMMARY:Frank Marino’s Divas at Don Laughlin’s Riverside Resort
DESCRIPTION:Frank Marino\, A Las Vegas Icon\nDivas – this 75-minute energetic show starring Las Vegas’ longest running headliner Frank Marino as comic icon Joan Rivers features an all star cast of superstar female impersonators who not only recreate but almost uncannily duplicate the likenesses of stars ranging from Britney Spears to Cher and Diana Ross to Beyonce even Madonna and Dolly Parton have been known to stop by. Meanwhile\, Marino in his role as the show’s emcee and star changes between every act bringing an international whirlwind of couture to the stage with each spectacular entrance. \nMarino always knew he would become a star\, even as a small child\, growing up in New York. What he didn’t realize was that he’d have to be dressed up in glittering Bob Mackie gowns\, and strapped into towering Manolo Blahnik stilettos to do so. And that’s before he gets into his makeup\, wigs and jewelry! “The ladder of success was even harder to climb wearing high heels!” Marino wittily quips. \nLike a fine wine\, Frank Marino keeps getting better with age. \n\nShow Time 8:00 PM PST\nFloor Seats: $38.00 + $4.36 SVC CHG + Tax\nRiser Seats: $32.00 + $4.36 SVC CHG + Tax\nLocals: Floor Seats $33.00 + $4.36 SVC CHG + Tax\nLocals: Riser Seats $28.00 + $4.36 SVC CHG + Tax\n\nBUY TICKETS \n 
URL:https://murphydeals.com/event/frank-marinos-divas-at-the-riverside-resort-in-laughlin/2023-07-13/
LOCATION:Don Laughlin’s Riverside Resort Hotel and Casino\, 1650 S Casino Drive\, Laughlin\, Nevada\, 89029
CATEGORIES:Comedy | Comedian,Event
ATTACH;FMTTYPE=image/jpeg:https://murphydeals.com/wp-content/uploads/2023/05/frankmarino-1.jpg
END:VEVENT
BEGIN:VEVENT
DTSTART;TZID=America/Phoenix:20230515T000000
DTEND;TZID=America/Phoenix:20230515T000000
DTSTAMP:20260425T144935
CREATED:20230509T161213Z
LAST-MODIFIED:20230515T230205Z
UID:10007826-1684108800-1684108800@murphydeals.com
SUMMARY:Frank Marino’s Divas at Don Laughlin’s Riverside Resort
DESCRIPTION:Frank Marino\, A Las Vegas Icon\nDivas – this 75-minute energetic show starring Las Vegas’ longest running headliner Frank Marino as comic icon Joan Rivers features an all star cast of superstar female impersonators who not only recreate but almost uncannily duplicate the likenesses of stars ranging from Britney Spears to Cher and Diana Ross to Beyonce even Madonna and Dolly Parton have been known to stop by. Meanwhile\, Marino in his role as the show’s emcee and star changes between every act bringing an international whirlwind of couture to the stage with each spectacular entrance. \nMarino always knew he would become a star\, even as a small child\, growing up in New York. What he didn’t realize was that he’d have to be dressed up in glittering Bob Mackie gowns\, and strapped into towering Manolo Blahnik stilettos to do so. And that’s before he gets into his makeup\, wigs and jewelry! “The ladder of success was even harder to climb wearing high heels!” Marino wittily quips. \nLike a fine wine\, Frank Marino keeps getting better with age. \nBUY TICKETS \n\nShow Time 8:00 PM PST\nFloor Seats: $38.00 + $4.36 SVC CHG + Tax\nRiser Seats: $32.00 + $4.36 SVC CHG + Tax\nLocals: Floor Seats $33.00 + $4.36 SVC CHG + Tax\nLocals: Riser Seats $28.00 + $4.36 SVC CHG + Tax
URL:https://murphydeals.com/event/frank-marinos-divas-at-riverside-resort-in-laughlin/2023-05-15/
LOCATION:Nevada
CATEGORIES:Comedy | Comedian,Event
ATTACH;FMTTYPE=image/jpeg:https://murphydeals.com/wp-content/uploads/2023/05/frankmarino-1.jpg
END:VEVENT
END:VCALENDAR