BEGIN:VCALENDAR
VERSION:2.0
PRODID:-//Murphy Deals - ECPv6.15.20//NONSGML v1.0//EN
CALSCALE:GREGORIAN
METHOD:PUBLISH
X-WR-CALNAME:Murphy Deals
X-ORIGINAL-URL:https://murphydeals.com
X-WR-CALDESC:Events for Murphy Deals
REFRESH-INTERVAL;VALUE=DURATION:PT1H
X-Robots-Tag:noindex
X-PUBLISHED-TTL:PT1H
BEGIN:VTIMEZONE
TZID:America/Phoenix
BEGIN:STANDARD
TZOFFSETFROM:-0700
TZOFFSETTO:-0700
TZNAME:MST
DTSTART:20220101T000000
END:STANDARD
END:VTIMEZONE
BEGIN:VEVENT
DTSTART;TZID=America/Phoenix:20230526T180000
DTEND;TZID=America/Phoenix:20230526T210000
DTSTAMP:20260425T170828
CREATED:20230522T163717Z
LAST-MODIFIED:20230522T163717Z
UID:10007833-1685124000-1685134800@murphydeals.com
SUMMARY:Franklin Smith at Harleyz and Hotrodz in Lake Havasu
DESCRIPTION:Franklin has spent the past 25 years playing music to fans that value traditional country music. Writing from his heart has helped him pen over 100 songs that are in his catalog. \nIf he’s not writing about his faith\, he’s likely telling a story of crying\, loving or leaving. His baritone voice compliments his storytelling in a way that makes him a favorite among those who value the roots of country music. His live performances blend traditional favorites like Keith Whitley\, Waylon Jennings\, Don Williams and George Strait along with his own music to make the show full of music from yesterday and today. \nFranklin has shared the stage with many acts including Mark Chestnut\, Asleep at the Wheel\, Neal McCoy\, Pam Tillis and many more of his favorites in country music. Gypsy Troubadour will capture you with their authenticity\, talent\, and unique sound while also connecting with each listener in a way that will undoubtedly create a lasting impression. \n 
URL:https://murphydeals.com/event/franklin-smith-at-harleyz-and-hotrodz-in-lake-havasu/
LOCATION:Harleyz And Hot Rodz\, 2061 Swanson Ave\, Lake Havasu City\, AZ\, 86403\, United States
CATEGORIES:Music | Concerts
ATTACH;FMTTYPE=image/jpeg:https://murphydeals.com/wp-content/uploads/2023/05/franklin-smith-e1684773352232.jpg
END:VEVENT
END:VCALENDAR