BEGIN:VCALENDAR
VERSION:2.0
PRODID:-//Murphy Deals - ECPv6.15.20//NONSGML v1.0//EN
CALSCALE:GREGORIAN
METHOD:PUBLISH
X-WR-CALNAME:Murphy Deals
X-ORIGINAL-URL:https://murphydeals.com
X-WR-CALDESC:Events for Murphy Deals
REFRESH-INTERVAL;VALUE=DURATION:PT1H
X-Robots-Tag:noindex
X-PUBLISHED-TTL:PT1H
BEGIN:VTIMEZONE
TZID:America/Phoenix
BEGIN:STANDARD
TZOFFSETFROM:-0700
TZOFFSETTO:-0700
TZNAME:MST
DTSTART:20220101T000000
END:STANDARD
END:VTIMEZONE
BEGIN:VEVENT
DTSTART;TZID=America/Phoenix:20231123T110000
DTEND;TZID=America/Phoenix:20231123T130000
DTSTAMP:20260425T103918
CREATED:20231120T224449Z
LAST-MODIFIED:20231120T224454Z
UID:10008571-1700737200-1700744400@murphydeals.com
SUMMARY:Thanksgiving Feast
DESCRIPTION:
URL:https://murphydeals.com/event/thanksgiving-feast/
LOCATION:Mount Olive Lutheran Church\, 2170 Havasupai Blvd.\, Lake Havasu City\, AZ\, 86403
CATEGORIES:Event
ATTACH;FMTTYPE=image/png:https://murphydeals.com/wp-content/uploads/2023/11/Thanksgiving-Meal-Slide-23-1-e1700520206327.png
END:VEVENT
BEGIN:VEVENT
DTSTART;TZID=America/Phoenix:20230618T093000
DTEND;TZID=America/Phoenix:20230618T190000
DTSTAMP:20260425T103918
CREATED:20220602T230756Z
LAST-MODIFIED:20230616T221319Z
UID:10001637-1687080600-1687114800@murphydeals.com
SUMMARY:FREE Father's Day Movie at Movies Havasu
DESCRIPTION:Movies Havasu is treating all of you awesome Fathers out there to a free movie\, popcorn and soda on Father’s Day!\n 
URL:https://murphydeals.com/event/happy-feet-free-at-movies-havasu/
LOCATION:Movies Havasu\, 180 Swanson Ave\, Lake Havasu City\, Arizona\, 86403
CATEGORIES:Arts | Theatre
ATTACH;FMTTYPE=image/png:https://murphydeals.com/wp-content/uploads/2022/06/FREE-Movie-1-e1686953236928.png
END:VEVENT
BEGIN:VEVENT
DTSTART;VALUE=DATE:20230603
DTEND;VALUE=DATE:20230604
DTSTAMP:20260425T103918
CREATED:20230404T171120Z
LAST-MODIFIED:20230404T171120Z
UID:10007438-1685750400-1685836799@murphydeals.com
SUMMARY:Arizona Free Fishing Day in Lake Havasu
DESCRIPTION:The Arizona Game and Fish Department (AZGFD) invites everyone to fish Arizona’s waters for free Saturday\, June 3 only. It’s an excellent opportunity to get outside with the family for some fun and relaxing outdoor recreation. \nArizona’s Free Fishing Day is celebrated as part of National Fishing and Boating Week. On Saturday\, no fishing licenses are required for persons fishing any public waters in Arizona. \n“Whether you’re a seasoned angler who wants to introduce a newcomer to the sport\, or someone who’s always been interested but never took that next step\, this is the perfect time to head out to your nearest community lake and experience what fishing in Arizona is all about\,” said Julie Carter\, aquatic wildlife branch chief. “Or take advantage of cooler weather by fishing a lake or stream in Arizona’s high country.” \nAll fishing regulations\, including daily bag limits\, remain in effect on Free Fishing Day. Children under 10 can fish for free throughout the year in Arizona\, so this special fishing license exemption gives older youths and parents a free pass for the day\, as well. \nYou can find your favorite Lake Havasu fishing dock here. \nNot sure how to fish and would like to learn? Check out AZGFD’s “Learn to Fish Video Series.” \nThen\, once you’re hooked on fishing\, purchase a valid Arizona fishing license online for only $37 (for Arizona residents 18 and older). A combination fish/hunt license is only $5 for youths 10 to 17. \nAnglers also can share their fishing success stories and photos to AZGFD’s FishAZ Facebook group\, as well as connect with other anglers around the state.
URL:https://murphydeals.com/event/arizona-free-fishing-day-in-lake-havasu/
LOCATION:AZ
CATEGORIES:Event
ATTACH;FMTTYPE=image/jpeg:https://murphydeals.com/wp-content/uploads/2023/04/father-and-mother-with-son-and-daughter-on-fishing-2022-01-18-23-41-30-utc-1-scaled-e1680628182662.jpg
END:VEVENT
END:VCALENDAR