BEGIN:VCALENDAR
VERSION:2.0
PRODID:-//Murphy Deals - ECPv6.15.20//NONSGML v1.0//EN
CALSCALE:GREGORIAN
METHOD:PUBLISH
X-WR-CALNAME:Murphy Deals
X-ORIGINAL-URL:https://murphydeals.com
X-WR-CALDESC:Events for Murphy Deals
REFRESH-INTERVAL;VALUE=DURATION:PT1H
X-Robots-Tag:noindex
X-PUBLISHED-TTL:PT1H
BEGIN:VTIMEZONE
TZID:America/Phoenix
BEGIN:STANDARD
TZOFFSETFROM:-0700
TZOFFSETTO:-0700
TZNAME:MST
DTSTART:20220101T000000
END:STANDARD
END:VTIMEZONE
BEGIN:VEVENT
DTSTART;TZID=America/Phoenix:20231006T190000
DTEND;TZID=America/Phoenix:20231006T220000
DTSTAMP:20260425T140741
CREATED:20230619T220705Z
LAST-MODIFIED:20230619T221325Z
UID:10008291-1696618800-1696629600@murphydeals.com
SUMMARY:Freedom Heartsong at Jeremy's Juke Joint
DESCRIPTION:Freedom Heartsong live at Jeremy’s Juke Joint in Lake Havasu City\, AZ! His original music as well as his power trio\, electric full band live performances bring bluesy\, soulful\, rockin’ and rollin’ tunes filled with positive energy. His work is infused with socially aware messaging and poetic meaningful lyricism overflowing with good vibes. He creates music with the loving intention of inspiring all people to be their best selves and enjoy life to the fullest. \n 
URL:https://murphydeals.com/event/freedom-heartsong-at-jeremys-juke-joint/2023-10-06/
LOCATION:Jeremy’s Juke Joint\, 91 London Bridge Road\, ##103\, Lake Havasu City\, AZ\, 86403\, United States
CATEGORIES:Music | Concerts
ATTACH;FMTTYPE=image/jpeg:https://murphydeals.com/wp-content/uploads/2023/06/freedomheartsong-1-e1687212795761.jpg
END:VEVENT
BEGIN:VEVENT
DTSTART;TZID=America/Phoenix:20231005T190000
DTEND;TZID=America/Phoenix:20231005T220000
DTSTAMP:20260425T140741
CREATED:20230619T220705Z
LAST-MODIFIED:20230619T221325Z
UID:10008290-1696532400-1696543200@murphydeals.com
SUMMARY:Freedom Heartsong at Jeremy's Juke Joint
DESCRIPTION:Freedom Heartsong live at Jeremy’s Juke Joint in Lake Havasu City\, AZ! His original music as well as his power trio\, electric full band live performances bring bluesy\, soulful\, rockin’ and rollin’ tunes filled with positive energy. His work is infused with socially aware messaging and poetic meaningful lyricism overflowing with good vibes. He creates music with the loving intention of inspiring all people to be their best selves and enjoy life to the fullest. \n 
URL:https://murphydeals.com/event/freedom-heartsong-at-jeremys-juke-joint/2023-10-05/
LOCATION:Jeremy’s Juke Joint\, 91 London Bridge Road\, ##103\, Lake Havasu City\, AZ\, 86403\, United States
CATEGORIES:Music | Concerts
ATTACH;FMTTYPE=image/jpeg:https://murphydeals.com/wp-content/uploads/2023/06/freedomheartsong-1-e1687212795761.jpg
END:VEVENT
END:VCALENDAR