BEGIN:VCALENDAR
VERSION:2.0
PRODID:-//Murphy Deals - ECPv6.15.20//NONSGML v1.0//EN
CALSCALE:GREGORIAN
METHOD:PUBLISH
X-WR-CALNAME:Murphy Deals
X-ORIGINAL-URL:https://murphydeals.com
X-WR-CALDESC:Events for Murphy Deals
REFRESH-INTERVAL;VALUE=DURATION:PT1H
X-Robots-Tag:noindex
X-PUBLISHED-TTL:PT1H
BEGIN:VTIMEZONE
TZID:America/Phoenix
BEGIN:STANDARD
TZOFFSETFROM:-0700
TZOFFSETTO:-0700
TZNAME:MST
DTSTART:20220101T000000
END:STANDARD
END:VTIMEZONE
BEGIN:VEVENT
DTSTART;TZID=America/Phoenix:20230513T133000
DTEND;TZID=America/Phoenix:20230513T173000
DTSTAMP:20260425T141037
CREATED:20230424T213019Z
LAST-MODIFIED:20230424T213019Z
UID:10007607-1683984600-1683999000@murphydeals.com
SUMMARY:US Freestyle Championship 2023 Under the London Bridge in Lake Havasu
DESCRIPTION:Come watch the ( Spring Round) 2023 US Freestyle Championships! \nCompetition will take place in the bridgewater channel under the World famous London Bridge in Lake Havasu City. Free to spectators.
URL:https://murphydeals.com/event/us-freestyle-championship-2023-under-the-london-bridge-in-lake-havasu/
LOCATION:Lake Havasu City Visitor Center\, 422 English Village\, Lake Havasu City\, AZ\, 86403\, United States
CATEGORIES:Event
ATTACH;FMTTYPE=image/jpeg:https://murphydeals.com/wp-content/uploads/2023/04/usfreestyle-1-e1682371709696.jpg
END:VEVENT
END:VCALENDAR