BEGIN:VCALENDAR
VERSION:2.0
PRODID:-//Murphy Deals - ECPv6.15.20//NONSGML v1.0//EN
CALSCALE:GREGORIAN
METHOD:PUBLISH
X-ORIGINAL-URL:https://murphydeals.com
X-WR-CALDESC:Events for Murphy Deals
REFRESH-INTERVAL;VALUE=DURATION:PT1H
X-Robots-Tag:noindex
X-PUBLISHED-TTL:PT1H
BEGIN:VTIMEZONE
TZID:America/Phoenix
BEGIN:STANDARD
TZOFFSETFROM:-0700
TZOFFSETTO:-0700
TZNAME:MST
DTSTART:20220101T000000
END:STANDARD
END:VTIMEZONE
BEGIN:VEVENT
DTSTART;TZID=America/Phoenix:20230121T090000
DTEND;TZID=America/Phoenix:20230121T140000
DTSTAMP:20260425T123128
CREATED:20221028T170538Z
LAST-MODIFIED:20221028T172420Z
UID:10006523-1674291600-1674309600@murphydeals.com
SUMMARY:Alice In Wonderland Experience
DESCRIPTION:ALICE IN WONDERLAND LAKE HAVASU CITY\n\n\n“A BRILLIANT DAY OUT WITH FAMILY & FRIENDS”\n– TIMEOUT\nAlice is trapped in Wonderland and time is running out to save her! \nFollow Alice down the rabbit hole and enter a virtual world of adventure\, intrigue and impossible things at this immersive Alice in Wonderland event. \nFor one day only\, the streets of Lake Havasu City\, AZ will turn into a giant\, escape-room-style experience on Saturday\, January the 21st\, 2023. Don’t be late! \nSolve clues which just get curiouser and curiouser\, take on mad and mischievous challenges\, and uncover a dark conspiracy at the heart of Wonderland. \nHit the Select Event button to book your team place today. \nGET TICKETS \n\n\nTHE HIGHLIGHTS\n\n\nA new interactive escape-room style experience\nJust 1 ticket needed per team. Each ticket admits up to 6 adults plus children (kids play FREE)\nReceive clues to your phone as you scramble across town solving puzzles and completing challenges against the clock.
URL:https://murphydeals.com/event/alice-in-wonderland-experience/
LOCATION:AZ
CATEGORIES:Event
ATTACH;FMTTYPE=image/webp:https://murphydeals.com/wp-content/uploads/2022/10/Alicve-e1666976730456.webp
END:VEVENT
BEGIN:VEVENT
DTSTART;TZID=America/Phoenix:20230310T140000
DTEND;TZID=America/Phoenix:20230310T210000
DTSTAMP:20260425T123128
CREATED:20230213T204135Z
LAST-MODIFIED:20230213T205000Z
UID:10007178-1678456800-1678482000@murphydeals.com
SUMMARY:Beach Kick-Off Party at Harrah's Laughlin.
DESCRIPTION:Grab a cold cocktail and hit the soft sand beach along the Colorado River as we kick off the 2023 beach season. Be prepared to have fun all day long. \n$10 Cover. \nYou may also purchase tickets at the Harrah’s Box Office. \nBUY TICKETS \n 
URL:https://murphydeals.com/event/beach-kick-off-party-at-harrahs-laughlin/
LOCATION:Harrah’s Laughlin Beach Resort & Casino\, 2900 S Casino Dr\, Laughlin\, NV\, 89029\, United States
CATEGORIES:Event,Music | Concerts
ATTACH;FMTTYPE=image/jpeg:https://murphydeals.com/wp-content/uploads/2023/02/prtybeach-e1676321373771.jpg
END:VEVENT
BEGIN:VEVENT
DTSTART;TZID=America/Phoenix:20230318T113000
DTEND;TZID=America/Phoenix:20230318T170000
DTSTAMP:20260425T123128
CREATED:20221101T183115Z
LAST-MODIFIED:20230119T220422Z
UID:10006554-1679139000-1679158800@murphydeals.com
SUMMARY:2023 Bands and Brews by the Beach in Lake Havasu
DESCRIPTION:Live Music! \nBands\, Games\, Food Trucks! \nCraft Brew/Spirits Festival joins Bands and Brews by the Beach originated by the Lake Havasu Chamber Foundation for Education & Leadership (CFEL) Leadership Lake Havasu Class of 2022. \nOne Eyed Romeo | The 64’s | Crosscutt\nStoney’s Grill | Sweet Berry | El Chaparro | Sweet Breeze Crepes\nHangar 24 Brewery LHC | Four Peaks Brewing Co | New Belgium Brewing | SLRRRP Shots\n** Bulk VIP tickets sales of 10 automatically reserves a table in the VIP area. \nGET TICKETS \n 
URL:https://murphydeals.com/event/2023-bands-and-brews-by-the-beach-in-lake-havasu/
LOCATION:London Bridge Beach\, 1340 McCulloch Boulevard North\, Lake Havasu City\, AZ\, 86403\, United States
CATEGORIES:Event,Festival,Music | Concerts
ATTACH;FMTTYPE=image/webp:https://murphydeals.com/wp-content/uploads/2022/11/BandsBrews-1-e1669850770745.webp
END:VEVENT
BEGIN:VEVENT
DTSTART;TZID=America/Phoenix:20230409T130000
DTEND;TZID=America/Phoenix:20230409T170000
DTSTAMP:20260425T123128
CREATED:20230403T223918Z
LAST-MODIFIED:20230403T223918Z
UID:10007435-1681045200-1681059600@murphydeals.com
SUMMARY:Family Game Day at YardCity in Lake Havasu
DESCRIPTION:April is Child Abuse Prevention Month! \nOn April 9 HAVEN is inviting all families to come to a FREE Family Game Day. There will be games\, activities\, crafts\, a photo booth\, face painting\, light refreshments\, and parenting resources. Come spend time with your family and enjoy a day of fun. The greatest gift you can give your child is your time!
URL:https://murphydeals.com/event/family-game-day-at-yardcity-in-lake-havasu/
LOCATION:YardCity\, 2101 McCulloch Blvd N\, Lake Havasu City\, AZ\, 86403\, United States
CATEGORIES:Event
ATTACH;FMTTYPE=image/jpeg:https://murphydeals.com/wp-content/uploads/2023/04/gameday-1-e1680561344227.jpg
END:VEVENT
BEGIN:VEVENT
DTSTART;TZID=America/Phoenix:20230415T100000
DTEND;TZID=America/Phoenix:20230415T210000
DTSTAMP:20260425T123128
CREATED:20230329T191250Z
LAST-MODIFIED:20230410T203205Z
UID:10007413-1681552800-1681592400@murphydeals.com
SUMMARY:Food Truck Friendzy
DESCRIPTION:
URL:https://murphydeals.com/event/food-truck-friendzy/
LOCATION:Bullhead City Community Park\, 1251 AZ-95\, Bullhead City\, AZ\, 86429
CATEGORIES:Event,Music | Concerts
ATTACH;FMTTYPE=image/jpeg:https://murphydeals.com/wp-content/uploads/2023/03/Food-Truck-Frendzy-1-e1680117163649.jpg
END:VEVENT
BEGIN:VEVENT
DTSTART;VALUE=DATE:20230426
DTEND;VALUE=DATE:20230430
DTSTAMP:20260425T123128
CREATED:20230414T160857Z
LAST-MODIFIED:20230414T161149Z
UID:10007510-1682467200-1682812799@murphydeals.com
SUMMARY:Ink mayhem tattoo convention 2023 at Anderson Fieldhouse in Bullhead
DESCRIPTION:Come check us out at the @ the 16th annual ink mayhem tattoo convention. Happening during the Bullhead River Run motorcycle rally. Mayhem the main event the tattoo convention will have 100+ tattoo artists from around the world. Yup. We have an artist coming from Italy and another artists from Spain At the evolution tattoo booth with our friend Steven van Paulk with our own local artists jason vancil and Jeremy alyn. Be \nInk Mayhem Tattoo Convention\nConcert Friday 28th (Counts 77)\nConcert Saturday 29th (Slaughter)\nThe tattoo convention will have daily tattoo competitions. Live tattooing\, custom designs.\nGames\, raffles\, music and more. \nThe rally is\nApril 26th thru 29th 2023\nBullhead city\, Az\n3 locations for events\nBeer garden\nVendors\nRv parking\nTent camping \nMayhem Charity poker run Friday \nMen of Fire MC veterans poker run Saturday. \nFind all your info @\nWww.Mayheminfo.com \n 
URL:https://murphydeals.com/event/ink-mayhem-tattoo-convention-2023-at-anderson-fieldhouse-in-bullhead/
LOCATION:Anderson Field House\, 3663 Bullhead Parkway\, Bullhead City\, AZ\, 86442\, United States
CATEGORIES:Event
ATTACH;FMTTYPE=image/jpeg:https://murphydeals.com/wp-content/uploads/2023/04/ink-mayhem-1-e1681488702370.jpg
END:VEVENT
BEGIN:VEVENT
DTSTART;TZID=America/Phoenix:20230506T163000
DTEND;TZID=America/Phoenix:20230506T210000
DTSTAMP:20260425T123128
CREATED:20230414T192243Z
LAST-MODIFIED:20230414T193543Z
UID:10007518-1683390600-1683406800@murphydeals.com
SUMMARY:Friends of the National Rifle Association Foundation Annual Fundraiser & Banquet in Lake Havasu
DESCRIPTION:London Bridge Friends of the National Rifle Association Foundation will host its annual banquet\, auction and fundraiser. This is a fun evening of games\, live and silent auctions\, raffles and bucket raffles. This event is open to the public. Doors open at 4pm\, the event starts at 4:30pm. \nClick here for more information and to purchase tickets! \nEvent dates\, times and/or details are subject to change. Please contact event coordinator to verify information. \nFree
URL:https://murphydeals.com/event/friends-of-the-national-rifle-association-foundation-annual-fundraiser-banquet-in-lake-havasu/
LOCATION:Lake Havasu City Relics & Rods Hall\, 100 Park Avenue\, Lake Havasu City\, AZ\, 86403\, United States
CATEGORIES:Charity | Benefits,Event
ATTACH;FMTTYPE=image/jpeg:https://murphydeals.com/wp-content/uploads/2023/04/friendsnra-e1681500773924.jpg
END:VEVENT
BEGIN:VEVENT
DTSTART;TZID=America/Phoenix:20231020T170000
DTEND;TZID=America/Phoenix:20231020T193000
DTSTAMP:20260425T123128
CREATED:20221024T175746Z
LAST-MODIFIED:20231019T184444Z
UID:10006494-1697821200-1697830200@murphydeals.com
SUMMARY:Pumpkinfest at Mohave Community College in Bullhead
DESCRIPTION:October 20th\, 2022 @ 5:00pm – 7:30pm
URL:https://murphydeals.com/event/pumpkinfest-at-mohave-community-college-building-600/
LOCATION:Mohave Community College Bullhead\, 3400 Hwy 95\, Bullhead City\, AZ
CATEGORIES:Event
ATTACH;FMTTYPE=image/jpeg:https://murphydeals.com/wp-content/uploads/2022/10/pumpkinfest-1-e1697740805757.jpg
END:VEVENT
BEGIN:VEVENT
DTSTART;TZID=America/Phoenix:20231111T090000
DTEND;TZID=America/Phoenix:20231111T170000
DTSTAMP:20260425T123128
CREATED:20221107T190348Z
LAST-MODIFIED:20230501T224014Z
UID:10007468-1699693200-1699722000@murphydeals.com
SUMMARY:53nd Annual Gem & Mineral Show at Lake Havasu City Aquatic Center
DESCRIPTION:Marvel at the showcase of jewerly designs and art created by the members of the Gem & Mineral Society\, who also highlight their collections of unusual minerals\, fossils and rocks from all over the world. This boutique marketplace hosts more than 40 unique vendor booths that help you find special holiday gifts. \nWatch as professionals demonstrate their crafts and find plenty of opportunities to shop for faceted and cabochon jewels\, fossils\, tools\, findings\, slabs\, finished jewelry and gifts galore! There will be raffles and hourly door prizes\, games and prizes for the kids\, as well as food and beverage services available. \nSchedule: \nSat: 9am-5pm\nSun: 9am-4pm \nFor more details\, including vendor information\, visit the Gem & Mineral Society’s website or call 928.733.6270. \nEvent dates and times are subject to change. Please contact event coordinator to verify information. \n$2 per person; children under 12 free
URL:https://murphydeals.com/event/52nd-annual-gem-mineral-show-at-lake-havasu-city-aquatic-center/2023-11-11/
LOCATION:Lake Havasu City Aquatic Center\, 100 Park Ave\, Lake Havasu City\, AZ\, 86403\, United States
CATEGORIES:Event
ATTACH;FMTTYPE=image/jpeg:https://murphydeals.com/wp-content/uploads/2022/11/Gems-e1681161847864.jpg
END:VEVENT
BEGIN:VEVENT
DTSTART;TZID=America/Phoenix:20231112T090000
DTEND;TZID=America/Phoenix:20231112T160000
DTSTAMP:20260425T123128
CREATED:20221107T190348Z
LAST-MODIFIED:20230501T224014Z
UID:10007469-1699779600-1699804800@murphydeals.com
SUMMARY:53nd Annual Gem & Mineral Show at Lake Havasu City Aquatic Center
DESCRIPTION:Marvel at the showcase of jewerly designs and art created by the members of the Gem & Mineral Society\, who also highlight their collections of unusual minerals\, fossils and rocks from all over the world. This boutique marketplace hosts more than 40 unique vendor booths that help you find special holiday gifts. \nWatch as professionals demonstrate their crafts and find plenty of opportunities to shop for faceted and cabochon jewels\, fossils\, tools\, findings\, slabs\, finished jewelry and gifts galore! There will be raffles and hourly door prizes\, games and prizes for the kids\, as well as food and beverage services available. \nSchedule: \nSat: 9am-5pm\nSun: 9am-4pm \nFor more details\, including vendor information\, visit the Gem & Mineral Society’s website or call 928.733.6270. \nEvent dates and times are subject to change. Please contact event coordinator to verify information. \n$2 per person; children under 12 free
URL:https://murphydeals.com/event/52nd-annual-gem-mineral-show-at-lake-havasu-city-aquatic-center/2023-11-12/
LOCATION:Lake Havasu City Aquatic Center\, 100 Park Ave\, Lake Havasu City\, AZ\, 86403\, United States
CATEGORIES:Event
ATTACH;FMTTYPE=image/jpeg:https://murphydeals.com/wp-content/uploads/2022/11/Gems-e1681161847864.jpg
END:VEVENT
END:VCALENDAR