BEGIN:VCALENDAR
VERSION:2.0
PRODID:-//Murphy Deals - ECPv6.15.20//NONSGML v1.0//EN
CALSCALE:GREGORIAN
METHOD:PUBLISH
X-ORIGINAL-URL:https://murphydeals.com
X-WR-CALDESC:Events for Murphy Deals
REFRESH-INTERVAL;VALUE=DURATION:PT1H
X-Robots-Tag:noindex
X-PUBLISHED-TTL:PT1H
BEGIN:VTIMEZONE
TZID:America/Phoenix
BEGIN:STANDARD
TZOFFSETFROM:-0700
TZOFFSETTO:-0700
TZNAME:MST
DTSTART:20220101T000000
END:STANDARD
END:VTIMEZONE
BEGIN:VEVENT
DTSTART;TZID=America/Phoenix:20230624T190000
DTEND;TZID=America/Phoenix:20230624T233000
DTSTAMP:20260425T151612
CREATED:20230619T225223Z
LAST-MODIFIED:20230619T225223Z
UID:10008292-1687633200-1687649400@murphydeals.com
SUMMARY:Circus Rhapsody West Coast Tour 2023 at Jeremy's Juke Joint
DESCRIPTION:
URL:https://murphydeals.com/event/circus-rhapsody-west-coast-tour-2023-at-jeremys-juke-joint/
LOCATION:Jeremy’s Juke Joint\, 91 London Bridge Road\, ##103\, Lake Havasu City\, AZ\, 86403\, United States
CATEGORIES:Music | Concerts
ATTACH;FMTTYPE=image/jpeg:https://murphydeals.com/wp-content/uploads/2023/06/circus.rhapsody-1-e1687215063150.jpg
END:VEVENT
END:VCALENDAR