BEGIN:VCALENDAR
VERSION:2.0
PRODID:-//Murphy Deals - ECPv6.15.20//NONSGML v1.0//EN
CALSCALE:GREGORIAN
METHOD:PUBLISH
X-ORIGINAL-URL:https://murphydeals.com
X-WR-CALDESC:Events for Murphy Deals
REFRESH-INTERVAL;VALUE=DURATION:PT1H
X-Robots-Tag:noindex
X-PUBLISHED-TTL:PT1H
BEGIN:VTIMEZONE
TZID:America/Phoenix
BEGIN:STANDARD
TZOFFSETFROM:-0700
TZOFFSETTO:-0700
TZNAME:MST
DTSTART:20220101T000000
END:STANDARD
END:VTIMEZONE
BEGIN:VEVENT
DTSTART;TZID=America/Phoenix:20230326T173000
DTEND;TZID=America/Phoenix:20230326T190000
DTSTAMP:20260425T190732
CREATED:20230220T203736Z
LAST-MODIFIED:20230221T165835Z
UID:10007212-1679851800-1679857200@murphydeals.com
SUMMARY:Blue Water Resort Comedy at the Dig Lounge
DESCRIPTION:
URL:https://murphydeals.com/event/comedy-at-the-dig-lounge-at-the-blue-water-casino/2023-03-26/
LOCATION:Bluewater Resort and Casino\, 11300 Resort\, Parker\, 85344\, United States
CATEGORIES:Comedy | Comedian,Event
ATTACH;FMTTYPE=image/jpeg:https://murphydeals.com/wp-content/uploads/2023/02/bluewater-e1676925401931.jpeg
END:VEVENT
BEGIN:VEVENT
DTSTART;TZID=America/Phoenix:20230319T173000
DTEND;TZID=America/Phoenix:20230319T190000
DTSTAMP:20260425T190732
CREATED:20230220T203736Z
LAST-MODIFIED:20230221T165835Z
UID:10007211-1679247000-1679252400@murphydeals.com
SUMMARY:Blue Water Resort Comedy at the Dig Lounge
DESCRIPTION:
URL:https://murphydeals.com/event/comedy-at-the-dig-lounge-at-the-blue-water-casino/2023-03-19/
LOCATION:Bluewater Resort and Casino\, 11300 Resort\, Parker\, 85344\, United States
CATEGORIES:Comedy | Comedian,Event
ATTACH;FMTTYPE=image/jpeg:https://murphydeals.com/wp-content/uploads/2023/02/bluewater-e1676925401931.jpeg
END:VEVENT
BEGIN:VEVENT
DTSTART;TZID=America/Phoenix:20230312T173000
DTEND;TZID=America/Phoenix:20230312T190000
DTSTAMP:20260425T190732
CREATED:20230220T203736Z
LAST-MODIFIED:20230221T165835Z
UID:10007210-1678642200-1678647600@murphydeals.com
SUMMARY:Blue Water Resort Comedy at the Dig Lounge
DESCRIPTION:
URL:https://murphydeals.com/event/comedy-at-the-dig-lounge-at-the-blue-water-casino/2023-03-12/
LOCATION:Bluewater Resort and Casino\, 11300 Resort\, Parker\, 85344\, United States
CATEGORIES:Comedy | Comedian,Event
ATTACH;FMTTYPE=image/jpeg:https://murphydeals.com/wp-content/uploads/2023/02/bluewater-e1676925401931.jpeg
END:VEVENT
END:VCALENDAR