BEGIN:VCALENDAR
VERSION:2.0
PRODID:-//Murphy Deals - ECPv6.15.20//NONSGML v1.0//EN
CALSCALE:GREGORIAN
METHOD:PUBLISH
X-WR-CALNAME:Murphy Deals
X-ORIGINAL-URL:https://murphydeals.com
X-WR-CALDESC:Events for Murphy Deals
REFRESH-INTERVAL;VALUE=DURATION:PT1H
X-Robots-Tag:noindex
X-PUBLISHED-TTL:PT1H
BEGIN:VTIMEZONE
TZID:America/Phoenix
BEGIN:STANDARD
TZOFFSETFROM:-0700
TZOFFSETTO:-0700
TZNAME:MST
DTSTART:20220101T000000
END:STANDARD
END:VTIMEZONE
BEGIN:VEVENT
DTSTART;TZID=America/Phoenix:20230303T173000
DTEND;TZID=America/Phoenix:20230303T210000
DTSTAMP:20260425T113101
CREATED:20230224T174726Z
LAST-MODIFIED:20230224T174726Z
UID:10007265-1677864600-1677877200@murphydeals.com
SUMMARY:Swamp Donkey at Hangar 24
DESCRIPTION:
URL:https://murphydeals.com/event/swamp-donkey-at-hangar-24/
LOCATION:Hangar 24 Lake Havasu City\, AZ\, 5600 Arizona 95\, Lake Havasu City\, AZ\, 86404\, United States
CATEGORIES:Event
ATTACH;FMTTYPE=image/jpeg:https://murphydeals.com/wp-content/uploads/2023/02/Hangar24-1-e1677260829772.jpg
END:VEVENT
BEGIN:VEVENT
DTSTART;TZID=America/Phoenix:20230625T110000
DTEND;TZID=America/Phoenix:20230625T200000
DTSTAMP:20260425T113101
CREATED:20230612T222638Z
LAST-MODIFIED:20230612T222638Z
UID:10008253-1687690800-1687723200@murphydeals.com
SUMMARY:Sunday Football–Happy Hour All Day at Hangar 24
DESCRIPTION: 
URL:https://murphydeals.com/event/sunday-football-happy-hour-all-day-at-hangar-24/
LOCATION:Hangar 24 Lake Havasu City\, AZ\, 5600 Arizona 95\, Lake Havasu City\, AZ\, 86404\, United States
CATEGORIES:Event
ATTACH;FMTTYPE=image/jpeg:https://murphydeals.com/wp-content/uploads/2023/06/hanger-24-e1686608661276.jpg
END:VEVENT
END:VCALENDAR