BEGIN:VCALENDAR
VERSION:2.0
PRODID:-//Murphy Deals - ECPv6.15.20//NONSGML v1.0//EN
CALSCALE:GREGORIAN
METHOD:PUBLISH
X-ORIGINAL-URL:https://murphydeals.com
X-WR-CALDESC:Events for Murphy Deals
REFRESH-INTERVAL;VALUE=DURATION:PT1H
X-Robots-Tag:noindex
X-PUBLISHED-TTL:PT1H
BEGIN:VTIMEZONE
TZID:America/Phoenix
BEGIN:STANDARD
TZOFFSETFROM:-0700
TZOFFSETTO:-0700
TZNAME:MST
DTSTART:20220101T000000
END:STANDARD
END:VTIMEZONE
BEGIN:VEVENT
DTSTART;TZID=America/Phoenix:20230624T200000
DTEND;TZID=America/Phoenix:20230624T230000
DTSTAMP:20260425T142452
CREATED:20230612T200414Z
LAST-MODIFIED:20230612T200414Z
UID:10008247-1687636800-1687647600@murphydeals.com
SUMMARY:Mudfish at Harleyz And Hot Rodz
DESCRIPTION:Come see one of Havasu’s true Classic Rock Bands. Mudfish will not disappoint. Come out for a rockin good time. \n 
URL:https://murphydeals.com/event/mudfish-at-harleyz-and-hot-rodz/
LOCATION:Harleyz And Hot Rodz\, 2061 Swanson Ave\, Lake Havasu City\, AZ\, 86403\, United States
CATEGORIES:Music | Concerts
ATTACH;FMTTYPE=image/jpeg:https://murphydeals.com/wp-content/uploads/2023/03/mudfish.jpg
END:VEVENT
BEGIN:VEVENT
DTSTART;TZID=America/Phoenix:20230623T180000
DTEND;TZID=America/Phoenix:20230623T210000
DTSTAMP:20260425T142452
CREATED:20230612T202333Z
LAST-MODIFIED:20230612T202333Z
UID:10008248-1687543200-1687554000@murphydeals.com
SUMMARY:The Terry Hopple Experience at Harleyz And Hot Rodz
DESCRIPTION:Come down to Harleyz And Hot Rodz to listen and sing along with Terry Hopple. He’s been rockin up and down The Colorado River for years. Not you average acoustic gig!
URL:https://murphydeals.com/event/the-terry-hopple-experience-at-harleyz-and-hot-rodz/
LOCATION:Harleyz And Hot Rodz\, 2061 Swanson Ave\, Lake Havasu City\, AZ\, 86403\, United States
CATEGORIES:Music | Concerts
ATTACH;FMTTYPE=image/jpeg:https://murphydeals.com/wp-content/uploads/2023/06/terry.hopple-e1686601364369.jpg
END:VEVENT
BEGIN:VEVENT
DTSTART;TZID=America/Phoenix:20230621T170000
DTEND;TZID=America/Phoenix:20230621T200000
DTSTAMP:20260425T142452
CREATED:20230612T195244Z
LAST-MODIFIED:20230612T195244Z
UID:10008246-1687366800-1687377600@murphydeals.com
SUMMARY:Damian Tiner at Harleyz And Hot Rodz
DESCRIPTION:Live Acoustic Artist\, Damian Tiner\, will now be at Harleyz And Hot Rodz on Wednesday Evenings. Come down and show your local musicians some support. \nDamian is the founding member and Guitarist and Vocalist of 29 Palms California Original Hard Rock Band The Dirtboys. Formed in 2010 and well known through the Mojave Desert. Damian is also a Solo Performing Artist Playing a wide range of Classic Rock and Modern Rock songs and is known to play some Outlaw Country\, as well as his own Original Rock Songs including “Purple Flower” & “Diamond Jack” which are played on Radio Stations Internationally and Can be found on all Major Music Streaming Platforms under Damian Lee Tiner. \n 
URL:https://murphydeals.com/event/damian-tiner-at-harleyz-and-hot-rodz/
LOCATION:Harleyz And Hot Rodz\, 2061 Swanson Ave\, Lake Havasu City\, AZ\, 86403\, United States
CATEGORIES:Music | Concerts
ATTACH;FMTTYPE=image/jpeg:https://murphydeals.com/wp-content/uploads/2023/06/damiantiner-1-e1686599479169.jpg
END:VEVENT
END:VCALENDAR