BEGIN:VCALENDAR
VERSION:2.0
PRODID:-//Murphy Deals - ECPv6.15.20//NONSGML v1.0//EN
CALSCALE:GREGORIAN
METHOD:PUBLISH
X-WR-CALNAME:Murphy Deals
X-ORIGINAL-URL:https://murphydeals.com
X-WR-CALDESC:Events for Murphy Deals
REFRESH-INTERVAL;VALUE=DURATION:PT1H
X-Robots-Tag:noindex
X-PUBLISHED-TTL:PT1H
BEGIN:VTIMEZONE
TZID:America/Phoenix
BEGIN:STANDARD
TZOFFSETFROM:-0700
TZOFFSETTO:-0700
TZNAME:MST
DTSTART:20210101T000000
END:STANDARD
END:VTIMEZONE
BEGIN:VEVENT
DTSTART;TZID=America/Phoenix:20230513T203000
DTEND;TZID=America/Phoenix:20230513T223000
DTSTAMP:20260425T142742
CREATED:20230227T172826Z
LAST-MODIFIED:20230227T173057Z
UID:10007291-1684009800-1684017000@murphydeals.com
SUMMARY:Little Joe Y La Familia at Fiesta Showroom at Harrah's Laughlin
DESCRIPTION:Little Joe Y La Familia tickets are available now! Five-time Grammy award-winning artist and performer Little Joe Hernandez has recorded more than 70 albums across a career that spans six decades. The traditional Tex-Mex style of norteño by Little Joe fuses traditional ranchera and polka rhythms with jazz\, country\, R&B\, and pop to create the up-tempo hybrid known as “Tejano.” Together with his band\, Little Joe Y La Familia\, his music reaches far beyond the Texas and Mexico borders and is one of the most popular Tex-Mex bands in the music industry. Little Joe is renowned as the “King of the Brown Sound.” \nLittle Joe was an important voice in the ’60s and ’70s civil rights movements for Chicanos and friends with the late César Chávez. Born in poverty to a cotton picker family\, Little Joe took up the trade as a child before finding success as a musician. The Texas native’s genres include Latin\, Tejano\, Chicano\, Country\, and Contemporary Blues. \nReleasing his eighth live album in May 2021\, Little Joe claims eventually\, all those songs come back to him — “Out of nowhere\, I start singing a song I haven’t sung in 40\, 50 years. When I get on stage\, something magical happens. I don’t stop to think. I’m free. Some agave (tequila) always helps\, of course\, to loosen the memory or control it or whatever it does.” Buy Little Joe Y La Familia tickets to experience the breadth and depth of this renowned “Tejano” performer! \nBUY TICKETS
URL:https://murphydeals.com/event/little-joe-y-la-familia-at-fiesta-showroom-at-harrahs-laughlin/2023-05-13/
LOCATION:Harrah’s Laughlin Beach Resort & Casino\, 2900 S Casino Dr\, Laughlin\, NV\, 89029\, United States
CATEGORIES:Music | Concerts
ATTACH;FMTTYPE=image/jpeg:https://murphydeals.com/wp-content/uploads/2023/02/littlejoeylafam-e1677519045598.jpg
END:VEVENT
BEGIN:VEVENT
DTSTART;TZID=America/Phoenix:20230512T203000
DTEND;TZID=America/Phoenix:20230512T223000
DTSTAMP:20260425T142742
CREATED:20230227T172826Z
LAST-MODIFIED:20230227T173057Z
UID:10007290-1683923400-1683930600@murphydeals.com
SUMMARY:Little Joe Y La Familia at Fiesta Showroom at Harrah's Laughlin
DESCRIPTION:Little Joe Y La Familia tickets are available now! Five-time Grammy award-winning artist and performer Little Joe Hernandez has recorded more than 70 albums across a career that spans six decades. The traditional Tex-Mex style of norteño by Little Joe fuses traditional ranchera and polka rhythms with jazz\, country\, R&B\, and pop to create the up-tempo hybrid known as “Tejano.” Together with his band\, Little Joe Y La Familia\, his music reaches far beyond the Texas and Mexico borders and is one of the most popular Tex-Mex bands in the music industry. Little Joe is renowned as the “King of the Brown Sound.” \nLittle Joe was an important voice in the ’60s and ’70s civil rights movements for Chicanos and friends with the late César Chávez. Born in poverty to a cotton picker family\, Little Joe took up the trade as a child before finding success as a musician. The Texas native’s genres include Latin\, Tejano\, Chicano\, Country\, and Contemporary Blues. \nReleasing his eighth live album in May 2021\, Little Joe claims eventually\, all those songs come back to him — “Out of nowhere\, I start singing a song I haven’t sung in 40\, 50 years. When I get on stage\, something magical happens. I don’t stop to think. I’m free. Some agave (tequila) always helps\, of course\, to loosen the memory or control it or whatever it does.” Buy Little Joe Y La Familia tickets to experience the breadth and depth of this renowned “Tejano” performer! \nBUY TICKETS
URL:https://murphydeals.com/event/little-joe-y-la-familia-at-fiesta-showroom-at-harrahs-laughlin/2023-05-12/
LOCATION:Harrah’s Laughlin Beach Resort & Casino\, 2900 S Casino Dr\, Laughlin\, NV\, 89029\, United States
CATEGORIES:Music | Concerts
ATTACH;FMTTYPE=image/jpeg:https://murphydeals.com/wp-content/uploads/2023/02/littlejoeylafam-e1677519045598.jpg
END:VEVENT
BEGIN:VEVENT
DTSTART;TZID=America/Phoenix:20230421T200000
DTEND;TZID=America/Phoenix:20230421T230000
DTSTAMP:20260425T142742
CREATED:20230213T222744Z
LAST-MODIFIED:20230213T222744Z
UID:10007180-1682107200-1682118000@murphydeals.com
SUMMARY:Willie Nelson & Family at Harrah’s Laughlin
DESCRIPTION:With a seven-decade career\, Willie Nelson has earned every conceivable award as a musician and amassed reputable credentials as an author\, actor and activist. He continues to thrive as a relevant and progressive musical and cultural force. \n  \nBUY TICKETS
URL:https://murphydeals.com/event/willie-nelson-family-at-harrahs-laughlin/
LOCATION:Harrah’s Laughlin Beach Resort & Casino\, 2900 S Casino Dr\, Laughlin\, NV\, 89029\, United States
CATEGORIES:Event,Music | Concerts
ATTACH;FMTTYPE=image/jpeg:https://murphydeals.com/wp-content/uploads/2023/02/willie-e1676326974336.jpg
END:VEVENT
BEGIN:VEVENT
DTSTART;TZID=America/Phoenix:20230318T200000
DTEND;TZID=America/Phoenix:20230318T223000
DTSTAMP:20260425T142742
CREATED:20221205T223205Z
LAST-MODIFIED:20230113T212912Z
UID:10006786-1679169600-1679178600@murphydeals.com
SUMMARY:Whiskey Myers at Harrah's in Laughlin
DESCRIPTION:Don’t miss Whiskey Myers at the Rio Vista Amphitheater at Harrah’s Laughlin! Genre-bending band Whiskey Myers have played more than 3\,000 live shows to ever-increasing crowd sizes since their emergence in 2007. Their self-produced fifth studio album\, Whiskey Myers out now on the band’s own Wiggy Thump Records\, debuted at No. 1 on both the Country and Americana/Folk sales charts\, at No. 2 on the Rock chart and No. 6 on the all-genre Billboard 200 chart. \n\n\n\nPrice: Starting at $38\nDates: March 18\, 2023\nTime: 8pm\nPhone: (702) 298-4600\n\nBUY TICKETS
URL:https://murphydeals.com/event/whiskey-myers-at-rio-vista-amphitheater/
LOCATION:Harrah’s Laughlin Beach Resort & Casino\, 2900 S Casino Dr\, Laughlin\, NV\, 89029\, United States
CATEGORIES:Music | Concerts
ATTACH;FMTTYPE=image/jpeg:https://murphydeals.com/wp-content/uploads/2022/12/Whiskey-Myers1-e1670279401894.jpg
END:VEVENT
BEGIN:VEVENT
DTSTART;TZID=America/Phoenix:20221230T200000
DTEND;TZID=America/Phoenix:20221230T220000
DTSTAMP:20260425T142742
CREATED:20221205T231746Z
LAST-MODIFIED:20221205T232638Z
UID:10006789-1672430400-1672437600@murphydeals.com
SUMMARY:Beatles vs. Stones-A Musical Showdown at the Fiesta Showroom
DESCRIPTION:Don’t miss Beatles vs. Stones-A Musical Showdown at the Fiesta Showroom at Harrah’s Laughlin! Two of the greatest bands of all time face off in a high-energy\, adrenaline-pumping musical showdown. The Fab Four\, represented by tribute band Abbey Road will engage in a barrage of hits against premier Rolling Stones tribute band Start Me Up. It’s a face-off you won’t want to miss! \n\n\n\nPrice: Starting at $27\nRecurrence: Recurring daily\nDates: December 28\, 2022 – December 30\, 2022\nTime: 8pm\n\nBUY TICKETS
URL:https://murphydeals.com/event/beatles-vs-stones-a-musical-showdown-at-the-fiesta-showroom/2022-12-30/
LOCATION:Harrah’s Laughlin Beach Resort & Casino\, 2900 S Casino Dr\, Laughlin\, NV\, 89029\, United States
CATEGORIES:Music | Concerts
ATTACH;FMTTYPE=image/jpeg:https://murphydeals.com/wp-content/uploads/2022/12/beatlesvsstones-e1670282086568.jpg
END:VEVENT
BEGIN:VEVENT
DTSTART;TZID=America/Phoenix:20221229T200000
DTEND;TZID=America/Phoenix:20221229T220000
DTSTAMP:20260425T142742
CREATED:20221205T231746Z
LAST-MODIFIED:20221205T232638Z
UID:10006788-1672344000-1672351200@murphydeals.com
SUMMARY:Beatles vs. Stones-A Musical Showdown at the Fiesta Showroom
DESCRIPTION:Don’t miss Beatles vs. Stones-A Musical Showdown at the Fiesta Showroom at Harrah’s Laughlin! Two of the greatest bands of all time face off in a high-energy\, adrenaline-pumping musical showdown. The Fab Four\, represented by tribute band Abbey Road will engage in a barrage of hits against premier Rolling Stones tribute band Start Me Up. It’s a face-off you won’t want to miss! \n\n\n\nPrice: Starting at $27\nRecurrence: Recurring daily\nDates: December 28\, 2022 – December 30\, 2022\nTime: 8pm\n\nBUY TICKETS
URL:https://murphydeals.com/event/beatles-vs-stones-a-musical-showdown-at-the-fiesta-showroom/2022-12-29/
LOCATION:Harrah’s Laughlin Beach Resort & Casino\, 2900 S Casino Dr\, Laughlin\, NV\, 89029\, United States
CATEGORIES:Music | Concerts
ATTACH;FMTTYPE=image/jpeg:https://murphydeals.com/wp-content/uploads/2022/12/beatlesvsstones-e1670282086568.jpg
END:VEVENT
BEGIN:VEVENT
DTSTART;TZID=America/Phoenix:20221228T200000
DTEND;TZID=America/Phoenix:20221228T220000
DTSTAMP:20260425T142742
CREATED:20221205T231746Z
LAST-MODIFIED:20221205T232638Z
UID:10006787-1672257600-1672264800@murphydeals.com
SUMMARY:Beatles vs. Stones-A Musical Showdown at the Fiesta Showroom
DESCRIPTION:Don’t miss Beatles vs. Stones-A Musical Showdown at the Fiesta Showroom at Harrah’s Laughlin! Two of the greatest bands of all time face off in a high-energy\, adrenaline-pumping musical showdown. The Fab Four\, represented by tribute band Abbey Road will engage in a barrage of hits against premier Rolling Stones tribute band Start Me Up. It’s a face-off you won’t want to miss! \n\n\n\nPrice: Starting at $27\nRecurrence: Recurring daily\nDates: December 28\, 2022 – December 30\, 2022\nTime: 8pm\n\nBUY TICKETS
URL:https://murphydeals.com/event/beatles-vs-stones-a-musical-showdown-at-the-fiesta-showroom/2022-12-28/
LOCATION:Harrah’s Laughlin Beach Resort & Casino\, 2900 S Casino Dr\, Laughlin\, NV\, 89029\, United States
CATEGORIES:Music | Concerts
ATTACH;FMTTYPE=image/jpeg:https://murphydeals.com/wp-content/uploads/2022/12/beatlesvsstones-e1670282086568.jpg
END:VEVENT
END:VCALENDAR