BEGIN:VCALENDAR
VERSION:2.0
PRODID:-//Murphy Deals - ECPv6.15.20//NONSGML v1.0//EN
CALSCALE:GREGORIAN
METHOD:PUBLISH
X-WR-CALNAME:Murphy Deals
X-ORIGINAL-URL:https://murphydeals.com
X-WR-CALDESC:Events for Murphy Deals
REFRESH-INTERVAL;VALUE=DURATION:PT1H
X-Robots-Tag:noindex
X-PUBLISHED-TTL:PT1H
BEGIN:VTIMEZONE
TZID:America/Phoenix
BEGIN:STANDARD
TZOFFSETFROM:-0700
TZOFFSETTO:-0700
TZNAME:MST
DTSTART:20220101T000000
END:STANDARD
END:VTIMEZONE
BEGIN:VEVENT
DTSTART;TZID=America/Phoenix:20230429T173000
DTEND;TZID=America/Phoenix:20230429T220000
DTSTAMP:20260425T091607
CREATED:20220425T193532Z
LAST-MODIFIED:20230221T230046Z
UID:10007247-1682789400-1682805600@murphydeals.com
SUMMARY:Monster Truck Insanity Tour
DESCRIPTION:The Monster Truck Insanity Tour returns to the Havasu 95 Speedway to host an all out BATTLE with 2 HUGE shows! Don’t miss these awesome MONSTERS compete in tailgate dragging\, Insanity Style Skills Shootout\, heads up Battle Bracket racing\, and wild high flying\, car crushing\, mud flinging freestyle! \nThe Lake Havasu monster truck lineup features some of the BEST trucks in the entire US: \nDEVASTATOR: Havasu’s own monster truck will go to battle in it’s former hometown!\nOBSESSED: The king of big air and the stoppie invades Arizona!\nRAT ATTACK: The nation’s largest Corvette monster truck!\nWILDCARD: He’s got an ace up his sleeve for the competition!\nTHE BOSS: Bringing the all new look out for 2022!\nBIG MAMA: This kid is ready for battle\, and looking to SEND IT!\nROVER: He won’t let anything get in his way of the championship!\nWHEELS OF FREEDOM: Take a ride in a REAL monster truck! \nThis event also includes: \nPro Mini Monster Mafia: Watch these Last Kids on Earth get WILD in their third scale monster trucks\, hitting the same obstacles as their full size counterparts! It’s off the hook! \nJet Truck Meltdown: The old school Chevy truck\, Blast From the Past Jet Truck\, returns to put on a fire exhibition like you’ve never seen before! You don’t want to miss this! \nMonster Truck Ride Experience: The Wheels of Freedom Monster Ride Truck will be on hand giving rides before and after each show\, as well as during intermissions! Don’t miss your chance to ride in a REAL monster truck! Small fee applies\, pay at the show. \nTough Truck & UTV Races: Watch these wild locals get out of control in their tough trucks and UTV’s! Cash payouts to the winners\, competitors register at the arena from 4p-6p each night! \nAutograph Pit Party: This event features a pre-show Pit Party prior to each show! The Pit Party is FREE with paid admission\, so don’t miss your chance to get up close and personal with the trucks\, meet the drivers\, and check out the track from 5:30p-6:30p prior to each show! \nCatch all of the action at the Havasu 95 Speedway! \nDISCOUNTED tickets and VIP passes available online at www.arizonamonstertrucks.com! The sooner you buy\, the more you save! \nFriday April 28th AND Saturday April 29th. Gates open at 5:00p\, AUTOGRAPH PIT PARTY 5:30p-6:30p\, Showtime is 7:00p each night! \n*No outside food or beverages allowed. Concessions and adult beverages available at the show! \nComplete event information online at www.arizonamonstertrucks.com! 
URL:https://murphydeals.com/event/monster-truck-insanity-tour/2023-04-29/
LOCATION:Havasu 95 Speedway at SARA Park\, 7260 Dub Campbell Park Way\, Lake Havasu City\, AZ\, United States
CATEGORIES:Event
ATTACH;FMTTYPE=image/jpeg:https://murphydeals.com/wp-content/uploads/2022/04/MonsterTruckInsanityTour2022_40374_12944-e1677020416246.jpeg
END:VEVENT
BEGIN:VEVENT
DTSTART;TZID=America/Phoenix:20230428T173000
DTEND;TZID=America/Phoenix:20230428T220000
DTSTAMP:20260425T091607
CREATED:20220425T193532Z
LAST-MODIFIED:20230221T230046Z
UID:10007246-1682703000-1682719200@murphydeals.com
SUMMARY:Monster Truck Insanity Tour
DESCRIPTION:The Monster Truck Insanity Tour returns to the Havasu 95 Speedway to host an all out BATTLE with 2 HUGE shows! Don’t miss these awesome MONSTERS compete in tailgate dragging\, Insanity Style Skills Shootout\, heads up Battle Bracket racing\, and wild high flying\, car crushing\, mud flinging freestyle! \nThe Lake Havasu monster truck lineup features some of the BEST trucks in the entire US: \nDEVASTATOR: Havasu’s own monster truck will go to battle in it’s former hometown!\nOBSESSED: The king of big air and the stoppie invades Arizona!\nRAT ATTACK: The nation’s largest Corvette monster truck!\nWILDCARD: He’s got an ace up his sleeve for the competition!\nTHE BOSS: Bringing the all new look out for 2022!\nBIG MAMA: This kid is ready for battle\, and looking to SEND IT!\nROVER: He won’t let anything get in his way of the championship!\nWHEELS OF FREEDOM: Take a ride in a REAL monster truck! \nThis event also includes: \nPro Mini Monster Mafia: Watch these Last Kids on Earth get WILD in their third scale monster trucks\, hitting the same obstacles as their full size counterparts! It’s off the hook! \nJet Truck Meltdown: The old school Chevy truck\, Blast From the Past Jet Truck\, returns to put on a fire exhibition like you’ve never seen before! You don’t want to miss this! \nMonster Truck Ride Experience: The Wheels of Freedom Monster Ride Truck will be on hand giving rides before and after each show\, as well as during intermissions! Don’t miss your chance to ride in a REAL monster truck! Small fee applies\, pay at the show. \nTough Truck & UTV Races: Watch these wild locals get out of control in their tough trucks and UTV’s! Cash payouts to the winners\, competitors register at the arena from 4p-6p each night! \nAutograph Pit Party: This event features a pre-show Pit Party prior to each show! The Pit Party is FREE with paid admission\, so don’t miss your chance to get up close and personal with the trucks\, meet the drivers\, and check out the track from 5:30p-6:30p prior to each show! \nCatch all of the action at the Havasu 95 Speedway! \nDISCOUNTED tickets and VIP passes available online at www.arizonamonstertrucks.com! The sooner you buy\, the more you save! \nFriday April 28th AND Saturday April 29th. Gates open at 5:00p\, AUTOGRAPH PIT PARTY 5:30p-6:30p\, Showtime is 7:00p each night! \n*No outside food or beverages allowed. Concessions and adult beverages available at the show! \nComplete event information online at www.arizonamonstertrucks.com! 
URL:https://murphydeals.com/event/monster-truck-insanity-tour/2023-04-28/
LOCATION:Havasu 95 Speedway at SARA Park\, 7260 Dub Campbell Park Way\, Lake Havasu City\, AZ\, United States
CATEGORIES:Event
ATTACH;FMTTYPE=image/jpeg:https://murphydeals.com/wp-content/uploads/2022/04/MonsterTruckInsanityTour2022_40374_12944-e1677020416246.jpeg
END:VEVENT
END:VCALENDAR