BEGIN:VCALENDAR
VERSION:2.0
PRODID:-//Murphy Deals - ECPv6.15.20//NONSGML v1.0//EN
CALSCALE:GREGORIAN
METHOD:PUBLISH
X-WR-CALNAME:Murphy Deals
X-ORIGINAL-URL:https://murphydeals.com
X-WR-CALDESC:Events for Murphy Deals
REFRESH-INTERVAL;VALUE=DURATION:PT1H
X-Robots-Tag:noindex
X-PUBLISHED-TTL:PT1H
BEGIN:VTIMEZONE
TZID:America/Phoenix
BEGIN:STANDARD
TZOFFSETFROM:-0700
TZOFFSETTO:-0700
TZNAME:MST
DTSTART:20220101T000000
END:STANDARD
END:VTIMEZONE
BEGIN:VEVENT
DTSTART;TZID=America/Phoenix:20230405T180000
DTEND;TZID=America/Phoenix:20230405T200000
DTSTAMP:20260425T204028
CREATED:20230403T201408Z
LAST-MODIFIED:20230403T201408Z
UID:10007428-1680717600-1680724800@murphydeals.com
SUMMARY:Bunco Time at Havasu Aquatic Center
DESCRIPTION:Havasu Chapter 61 OES Bunco Fundraiser \nDoors open at 530. Just $15 for a ticket. Proceeds will benefit our local nonprofit charities: Meals on Wheels\, Haven\, Hospice\, LHC Police Explorer’s. \nSteven’s Tacos will be onsite with Tacos for purchase!\nFor more info or to purchase tickets contact:\nAlicia Fernandez at 602.531.9488 \nSponsoring organization: Havasu Chapter 61\, Order of the Eastern Star\, a nonprofit organization
URL:https://murphydeals.com/event/bunco-time-at-havasu-aquatic-center/
LOCATION:Lake Havasu City Aquatic Center\, 100 Park Ave\, Lake Havasu City\, AZ\, 86403\, United States
CATEGORIES:Event
ATTACH;FMTTYPE=image/jpeg:https://murphydeals.com/wp-content/uploads/2023/04/buncotime-1-1-e1680552271264.jpg
END:VEVENT
END:VCALENDAR