BEGIN:VCALENDAR
VERSION:2.0
PRODID:-//Murphy Deals - ECPv6.15.20//NONSGML v1.0//EN
CALSCALE:GREGORIAN
METHOD:PUBLISH
X-WR-CALNAME:Murphy Deals
X-ORIGINAL-URL:https://murphydeals.com
X-WR-CALDESC:Events for Murphy Deals
REFRESH-INTERVAL;VALUE=DURATION:PT1H
X-Robots-Tag:noindex
X-PUBLISHED-TTL:PT1H
BEGIN:VTIMEZONE
TZID:America/Phoenix
BEGIN:STANDARD
TZOFFSETFROM:-0700
TZOFFSETTO:-0700
TZNAME:MST
DTSTART:20220101T000000
END:STANDARD
END:VTIMEZONE
BEGIN:VEVENT
DTSTART;TZID=America/Phoenix:20230729T080000
DTEND;TZID=America/Phoenix:20230729T120000
DTSTAMP:20260425T161718
CREATED:20230619T234055Z
LAST-MODIFIED:20230619T234055Z
UID:10008294-1690617600-1690632000@murphydeals.com
SUMMARY:16th Annual Back to School Health Fair at Lake Havasu Aquatic Center
DESCRIPTION:
URL:https://murphydeals.com/event/16th-annual-back-to-school-health-fair-at-lake-havasu-aquatic-center/
LOCATION:Lake Havasu City Aquatic Center\, 100 Park Ave\, Lake Havasu City\, AZ\, 86403\, United States
CATEGORIES:Event
ATTACH;FMTTYPE=image/jpeg:https://murphydeals.com/wp-content/uploads/2023/06/piratebacktoschool-1-1-e1687217061874.jpg
END:VEVENT
BEGIN:VEVENT
DTSTART;TZID=America/Phoenix:20230225T100000
DTEND;TZID=America/Phoenix:20230225T140000
DTSTAMP:20260425T161718
CREATED:20230223T151735Z
LAST-MODIFIED:20230223T153552Z
UID:10007252-1677319200-1677333600@murphydeals.com
SUMMARY:Mohave Family Health Fair
DESCRIPTION:
URL:https://murphydeals.com/event/mohave-family-health-fair/
LOCATION:AZ
CATEGORIES:Event
ATTACH;FMTTYPE=image/jpeg:https://murphydeals.com/wp-content/uploads/2023/02/HealthFair-1-e1677165428379.jpg
END:VEVENT
END:VCALENDAR