BEGIN:VCALENDAR
VERSION:2.0
PRODID:-//Murphy Deals - ECPv6.15.20//NONSGML v1.0//EN
CALSCALE:GREGORIAN
METHOD:PUBLISH
X-WR-CALNAME:Murphy Deals
X-ORIGINAL-URL:https://murphydeals.com
X-WR-CALDESC:Events for Murphy Deals
REFRESH-INTERVAL;VALUE=DURATION:PT1H
X-Robots-Tag:noindex
X-PUBLISHED-TTL:PT1H
BEGIN:VTIMEZONE
TZID:America/Phoenix
BEGIN:STANDARD
TZOFFSETFROM:-0700
TZOFFSETTO:-0700
TZNAME:MST
DTSTART:20210101T000000
END:STANDARD
END:VTIMEZONE
BEGIN:VEVENT
DTSTART;TZID=America/Phoenix:20221225T000000
DTEND;TZID=America/Phoenix:20221225T000000
DTSTAMP:20260425T145023
CREATED:20221128T221356Z
LAST-MODIFIED:20221130T212106Z
UID:10006647-1671926400-1671926400@murphydeals.com
SUMMARY:Holiday Dining in Lake Havasu
DESCRIPTION:The following restaurants will be open on Christmas Day\, Dec. 25\, 2022 (this is not a complete listing and does not include fast food restaurants): \nDenny’s\, 24 hours: https://www.golakehavasu.com/dennys \nHokkaido\, 11am-9pm: https://www.golakehavasu.com/hokkaido-asian-cuisine \nIHOP\, 7am-3pm: https://www.golakehavasu.com/ihop \nMartini Bay at the London Bridge Resort\, reservations recommended 4-9pm: https://www.golakehavasu.com/martini-bay \n\n\n\nDetails\n\nDate: December 25th\nTime: 12:00am – 12:00am
URL:https://murphydeals.com/event/holiday-dining-in-lake-havasu/
CATEGORIES:Event
ATTACH;FMTTYPE=image/jpeg:https://murphydeals.com/wp-content/uploads/2022/11/Christmas-dinner-e1669842942565.jpg
END:VEVENT
END:VCALENDAR