BEGIN:VCALENDAR
VERSION:2.0
PRODID:-//Murphy Deals - ECPv6.15.20//NONSGML v1.0//EN
CALSCALE:GREGORIAN
METHOD:PUBLISH
X-ORIGINAL-URL:https://murphydeals.com
X-WR-CALDESC:Events for Murphy Deals
REFRESH-INTERVAL;VALUE=DURATION:PT1H
X-Robots-Tag:noindex
X-PUBLISHED-TTL:PT1H
BEGIN:VTIMEZONE
TZID:America/Phoenix
BEGIN:STANDARD
TZOFFSETFROM:-0700
TZOFFSETTO:-0700
TZNAME:MST
DTSTART:20220101T000000
END:STANDARD
END:VTIMEZONE
BEGIN:VEVENT
DTSTART;TZID=America/Phoenix:20230310T100000
DTEND;TZID=America/Phoenix:20230310T170000
DTSTAMP:20260425T094606
CREATED:20230105T163540Z
LAST-MODIFIED:20230105T165922Z
UID:10006883-1678442400-1678467600@murphydeals.com
SUMMARY:Classic Car & Home Show at Anderson Field House
DESCRIPTION:Enjoy 100’s of beautiful classic cars\, hot rods\, motorcycles and boats. \nFriday/Saturday-  10AM – 5PM\nSunday- 10AM – 4PM\nMarch 10th – 12th\, 2023
URL:https://murphydeals.com/event/third-annual-tri-state-classic-car-home-show/2023-03-10/
LOCATION:Anderson Auto Group Fieldhouse\, 3663 Bullhead Parkway\, Bullhead City\, AZ\, 86442\, United States
CATEGORIES:Arizona Car Shows,Car Show,Event
ATTACH;FMTTYPE=image/jpeg:https://murphydeals.com/wp-content/uploads/2023/01/AFCar-Show-1-e1672936492500.jpg
END:VEVENT
BEGIN:VEVENT
DTSTART;TZID=America/Phoenix:20230311T100000
DTEND;TZID=America/Phoenix:20230311T170000
DTSTAMP:20260425T094606
CREATED:20230105T163540Z
LAST-MODIFIED:20230105T165922Z
UID:10006884-1678528800-1678554000@murphydeals.com
SUMMARY:Classic Car & Home Show at Anderson Field House
DESCRIPTION:Enjoy 100’s of beautiful classic cars\, hot rods\, motorcycles and boats. \nFriday/Saturday-  10AM – 5PM\nSunday- 10AM – 4PM\nMarch 10th – 12th\, 2023
URL:https://murphydeals.com/event/third-annual-tri-state-classic-car-home-show/2023-03-11/
LOCATION:Anderson Auto Group Fieldhouse\, 3663 Bullhead Parkway\, Bullhead City\, AZ\, 86442\, United States
CATEGORIES:Arizona Car Shows,Car Show,Event
ATTACH;FMTTYPE=image/jpeg:https://murphydeals.com/wp-content/uploads/2023/01/AFCar-Show-1-e1672936492500.jpg
END:VEVENT
BEGIN:VEVENT
DTSTART;TZID=America/Phoenix:20230312T100000
DTEND;TZID=America/Phoenix:20230313T160000
DTSTAMP:20260425T094606
CREATED:20230105T163540Z
LAST-MODIFIED:20230105T165922Z
UID:10006885-1678615200-1678723200@murphydeals.com
SUMMARY:Classic Car & Home Show at Anderson Field House
DESCRIPTION:Enjoy 100’s of beautiful classic cars\, hot rods\, motorcycles and boats. \nFriday/Saturday-  10AM – 5PM\nSunday- 10AM – 4PM\nMarch 10th – 12th\, 2023
URL:https://murphydeals.com/event/third-annual-tri-state-classic-car-home-show/2023-03-12/
LOCATION:Anderson Auto Group Fieldhouse\, 3663 Bullhead Parkway\, Bullhead City\, AZ\, 86442\, United States
CATEGORIES:Arizona Car Shows,Car Show,Event
ATTACH;FMTTYPE=image/jpeg:https://murphydeals.com/wp-content/uploads/2023/01/AFCar-Show-1-e1672936492500.jpg
END:VEVENT
END:VCALENDAR