BEGIN:VCALENDAR
VERSION:2.0
PRODID:-//Murphy Deals - ECPv6.15.20//NONSGML v1.0//EN
CALSCALE:GREGORIAN
METHOD:PUBLISH
X-WR-CALNAME:Murphy Deals
X-ORIGINAL-URL:https://murphydeals.com
X-WR-CALDESC:Events for Murphy Deals
REFRESH-INTERVAL;VALUE=DURATION:PT1H
X-Robots-Tag:noindex
X-PUBLISHED-TTL:PT1H
BEGIN:VTIMEZONE
TZID:America/Phoenix
BEGIN:STANDARD
TZOFFSETFROM:-0700
TZOFFSETTO:-0700
TZNAME:MST
DTSTART:20220101T000000
END:STANDARD
END:VTIMEZONE
BEGIN:VEVENT
DTSTART;TZID=America/Phoenix:20230708T190000
DTEND;TZID=America/Phoenix:20230708T220000
DTSTAMP:20260425T092846
CREATED:20230221T174802Z
LAST-MODIFIED:20230526T165837Z
UID:10007227-1688842800-1688853600@murphydeals.com
SUMMARY:Red White & Blue Skate Party!
DESCRIPTION:Lake Havasu City\, 7260 Sara Pkwy\, Lake Havasu City\, AZ 86403\, USA \n\n\n\nAbout the event\n\n\nThis is a Free community event for all ages. Roller Skates & Roller Blades welcome! \nRoller Assist Bars are available and provided by our wonderful sponsor. \nPlease NO Hoover Boards\, Skate Boards\, Scooters\, or other motorized wheels are allowed on the rink during the event for safety. You are welcome and encouraged\, to use these types of wheels outside\, around the rink.
URL:https://murphydeals.com/event/havasu-skates-shamrock-skate-party/
LOCATION:Sara Park Rotary Rink\, 7260 Sara Parkway\, Lake Havasu City\, AZ\, 86406
CATEGORIES:Event,Sports | Activities
ATTACH;FMTTYPE=image/jpeg:https://murphydeals.com/wp-content/uploads/2023/02/Skate-Party.jpg
END:VEVENT
BEGIN:VEVENT
DTSTART;TZID=America/Phoenix:20230318T190000
DTEND;TZID=America/Phoenix:20230318T220000
DTSTAMP:20260425T092846
CREATED:20220519T173058Z
LAST-MODIFIED:20230221T174832Z
UID:10001615-1679166000-1679176800@murphydeals.com
SUMMARY:Havasu Skates Shamrock Skate Party!
DESCRIPTION:Lake Havasu City\, 7260 Sara Pkwy\, Lake Havasu City\, AZ 86403 \n\n\n\n\n\n\nSaturday\, March 18th  2023  7pm-10pm MST \nMarch-June our skating hours return to 7pm-10pm. \nOur party theme colors will be Green & Gold!  Break out your St Patty’s day gear\, best costume wins a prize! \nWe just got Limbo sticks! Join us at 7:30pm center rink for a fun game of Limbo and a cool prize!  The limbo stick will be placed center rink so you can practice before we play the game.
URL:https://murphydeals.com/event/havasu-skates-at-sara-park-roller-rink/
LOCATION:Sara Park Rotary Rink\, 7260 Sara Parkway\, Lake Havasu City\, AZ\, 86406
CATEGORIES:Event,Sports | Activities
ATTACH;FMTTYPE=image/jpeg:https://murphydeals.com/wp-content/uploads/2022/05/Shamrock-1-e1673912336490.jpg
END:VEVENT
END:VCALENDAR