BEGIN:VCALENDAR
VERSION:2.0
PRODID:-//Murphy Deals - ECPv6.15.20//NONSGML v1.0//EN
CALSCALE:GREGORIAN
METHOD:PUBLISH
X-WR-CALNAME:Murphy Deals
X-ORIGINAL-URL:https://murphydeals.com
X-WR-CALDESC:Events for Murphy Deals
REFRESH-INTERVAL;VALUE=DURATION:PT1H
X-Robots-Tag:noindex
X-PUBLISHED-TTL:PT1H
BEGIN:VTIMEZONE
TZID:America/Phoenix
BEGIN:STANDARD
TZOFFSETFROM:-0700
TZOFFSETTO:-0700
TZNAME:MST
DTSTART:20220101T000000
END:STANDARD
END:VTIMEZONE
BEGIN:VEVENT
DTSTART;TZID=America/Phoenix:20230514T210000
DTEND;TZID=America/Phoenix:20230514T223000
DTSTAMP:20260425T124751
CREATED:20230424T232443Z
LAST-MODIFIED:20230424T232443Z
UID:10007613-1684098000-1684103400@murphydeals.com
SUMMARY:Jay Reid at the L.A. Comedy Club at the Edgewater Resort in Laughlin
DESCRIPTION:Jay Reid is an American comedian and actor. He got his start in comedy performing stand-up in small clubs throughout Las Vegas. Reid came to wider prominence after his TV debut on BET’s “Coming to the Stage.” \n This Las Vegas-raised comedian has single-handedly captured the likes of millions after winning Bill Bellamy’s “Who’s Got Jokes?”  His triumph on “Who’s Got Jokes?” landed him his own comedy special “L.M.A.O.” On the TvONE network. Jay was also on “The Ladies Night Out Tour” as well as starred in Showtime’s highly anticipated comedy special “Ladies Night Out  Comedy Special.” \nReid has recently released his 3rd comedy special “That Don’t Go Together” on Dry Bar + with a fourth special coming later this year. \nMAY 10\, 2023 – MAY 14\, 2023\nL.A. COMEDY CLUB\nwith Special Guest Comedians \nShow starts at 9pm \n 
URL:https://murphydeals.com/event/jay-reid-at-the-l-a-comedy-club-at-the-edgewater-resort-in-laughlin/2023-05-14/
LOCATION:Edgewater Resort\, 2020 S Casino Dr\, Laughlin\, NV\, 89029\, United States
CATEGORIES:Comedy | Comedian,Event
ATTACH;FMTTYPE=image/jpeg:https://murphydeals.com/wp-content/uploads/2023/04/Comedian-J-Reid-PhotoShoot-106-2-2-1024x717-1-e1682375354863.jpg
END:VEVENT
BEGIN:VEVENT
DTSTART;TZID=America/Phoenix:20230513T210000
DTEND;TZID=America/Phoenix:20230513T223000
DTSTAMP:20260425T124751
CREATED:20230424T232443Z
LAST-MODIFIED:20230424T232443Z
UID:10007612-1684011600-1684017000@murphydeals.com
SUMMARY:Jay Reid at the L.A. Comedy Club at the Edgewater Resort in Laughlin
DESCRIPTION:Jay Reid is an American comedian and actor. He got his start in comedy performing stand-up in small clubs throughout Las Vegas. Reid came to wider prominence after his TV debut on BET’s “Coming to the Stage.” \n This Las Vegas-raised comedian has single-handedly captured the likes of millions after winning Bill Bellamy’s “Who’s Got Jokes?”  His triumph on “Who’s Got Jokes?” landed him his own comedy special “L.M.A.O.” On the TvONE network. Jay was also on “The Ladies Night Out Tour” as well as starred in Showtime’s highly anticipated comedy special “Ladies Night Out  Comedy Special.” \nReid has recently released his 3rd comedy special “That Don’t Go Together” on Dry Bar + with a fourth special coming later this year. \nMAY 10\, 2023 – MAY 14\, 2023\nL.A. COMEDY CLUB\nwith Special Guest Comedians \nShow starts at 9pm \n 
URL:https://murphydeals.com/event/jay-reid-at-the-l-a-comedy-club-at-the-edgewater-resort-in-laughlin/2023-05-13/
LOCATION:Edgewater Resort\, 2020 S Casino Dr\, Laughlin\, NV\, 89029\, United States
CATEGORIES:Comedy | Comedian,Event
ATTACH;FMTTYPE=image/jpeg:https://murphydeals.com/wp-content/uploads/2023/04/Comedian-J-Reid-PhotoShoot-106-2-2-1024x717-1-e1682375354863.jpg
END:VEVENT
BEGIN:VEVENT
DTSTART;TZID=America/Phoenix:20230512T210000
DTEND;TZID=America/Phoenix:20230512T223000
DTSTAMP:20260425T124751
CREATED:20230424T232443Z
LAST-MODIFIED:20230424T232443Z
UID:10007611-1683925200-1683930600@murphydeals.com
SUMMARY:Jay Reid at the L.A. Comedy Club at the Edgewater Resort in Laughlin
DESCRIPTION:Jay Reid is an American comedian and actor. He got his start in comedy performing stand-up in small clubs throughout Las Vegas. Reid came to wider prominence after his TV debut on BET’s “Coming to the Stage.” \n This Las Vegas-raised comedian has single-handedly captured the likes of millions after winning Bill Bellamy’s “Who’s Got Jokes?”  His triumph on “Who’s Got Jokes?” landed him his own comedy special “L.M.A.O.” On the TvONE network. Jay was also on “The Ladies Night Out Tour” as well as starred in Showtime’s highly anticipated comedy special “Ladies Night Out  Comedy Special.” \nReid has recently released his 3rd comedy special “That Don’t Go Together” on Dry Bar + with a fourth special coming later this year. \nMAY 10\, 2023 – MAY 14\, 2023\nL.A. COMEDY CLUB\nwith Special Guest Comedians \nShow starts at 9pm \n 
URL:https://murphydeals.com/event/jay-reid-at-the-l-a-comedy-club-at-the-edgewater-resort-in-laughlin/2023-05-12/
LOCATION:Edgewater Resort\, 2020 S Casino Dr\, Laughlin\, NV\, 89029\, United States
CATEGORIES:Comedy | Comedian,Event
ATTACH;FMTTYPE=image/jpeg:https://murphydeals.com/wp-content/uploads/2023/04/Comedian-J-Reid-PhotoShoot-106-2-2-1024x717-1-e1682375354863.jpg
END:VEVENT
BEGIN:VEVENT
DTSTART;TZID=America/Phoenix:20230511T210000
DTEND;TZID=America/Phoenix:20230511T223000
DTSTAMP:20260425T124751
CREATED:20230424T232443Z
LAST-MODIFIED:20230424T232443Z
UID:10007610-1683838800-1683844200@murphydeals.com
SUMMARY:Jay Reid at the L.A. Comedy Club at the Edgewater Resort in Laughlin
DESCRIPTION:Jay Reid is an American comedian and actor. He got his start in comedy performing stand-up in small clubs throughout Las Vegas. Reid came to wider prominence after his TV debut on BET’s “Coming to the Stage.” \n This Las Vegas-raised comedian has single-handedly captured the likes of millions after winning Bill Bellamy’s “Who’s Got Jokes?”  His triumph on “Who’s Got Jokes?” landed him his own comedy special “L.M.A.O.” On the TvONE network. Jay was also on “The Ladies Night Out Tour” as well as starred in Showtime’s highly anticipated comedy special “Ladies Night Out  Comedy Special.” \nReid has recently released his 3rd comedy special “That Don’t Go Together” on Dry Bar + with a fourth special coming later this year. \nMAY 10\, 2023 – MAY 14\, 2023\nL.A. COMEDY CLUB\nwith Special Guest Comedians \nShow starts at 9pm \n 
URL:https://murphydeals.com/event/jay-reid-at-the-l-a-comedy-club-at-the-edgewater-resort-in-laughlin/2023-05-11/
LOCATION:Edgewater Resort\, 2020 S Casino Dr\, Laughlin\, NV\, 89029\, United States
CATEGORIES:Comedy | Comedian,Event
ATTACH;FMTTYPE=image/jpeg:https://murphydeals.com/wp-content/uploads/2023/04/Comedian-J-Reid-PhotoShoot-106-2-2-1024x717-1-e1682375354863.jpg
END:VEVENT
BEGIN:VEVENT
DTSTART;TZID=America/Phoenix:20230510T210000
DTEND;TZID=America/Phoenix:20230510T223000
DTSTAMP:20260425T124751
CREATED:20230424T232443Z
LAST-MODIFIED:20230424T232443Z
UID:10007609-1683752400-1683757800@murphydeals.com
SUMMARY:Jay Reid at the L.A. Comedy Club at the Edgewater Resort in Laughlin
DESCRIPTION:Jay Reid is an American comedian and actor. He got his start in comedy performing stand-up in small clubs throughout Las Vegas. Reid came to wider prominence after his TV debut on BET’s “Coming to the Stage.” \n This Las Vegas-raised comedian has single-handedly captured the likes of millions after winning Bill Bellamy’s “Who’s Got Jokes?”  His triumph on “Who’s Got Jokes?” landed him his own comedy special “L.M.A.O.” On the TvONE network. Jay was also on “The Ladies Night Out Tour” as well as starred in Showtime’s highly anticipated comedy special “Ladies Night Out  Comedy Special.” \nReid has recently released his 3rd comedy special “That Don’t Go Together” on Dry Bar + with a fourth special coming later this year. \nMAY 10\, 2023 – MAY 14\, 2023\nL.A. COMEDY CLUB\nwith Special Guest Comedians \nShow starts at 9pm \n 
URL:https://murphydeals.com/event/jay-reid-at-the-l-a-comedy-club-at-the-edgewater-resort-in-laughlin/2023-05-10/
LOCATION:Edgewater Resort\, 2020 S Casino Dr\, Laughlin\, NV\, 89029\, United States
CATEGORIES:Comedy | Comedian,Event
ATTACH;FMTTYPE=image/jpeg:https://murphydeals.com/wp-content/uploads/2023/04/Comedian-J-Reid-PhotoShoot-106-2-2-1024x717-1-e1682375354863.jpg
END:VEVENT
END:VCALENDAR