BEGIN:VCALENDAR
VERSION:2.0
PRODID:-//Murphy Deals - ECPv6.15.20//NONSGML v1.0//EN
CALSCALE:GREGORIAN
METHOD:PUBLISH
X-WR-CALNAME:Murphy Deals
X-ORIGINAL-URL:https://murphydeals.com
X-WR-CALDESC:Events for Murphy Deals
REFRESH-INTERVAL;VALUE=DURATION:PT1H
X-Robots-Tag:noindex
X-PUBLISHED-TTL:PT1H
BEGIN:VTIMEZONE
TZID:America/Phoenix
BEGIN:STANDARD
TZOFFSETFROM:-0700
TZOFFSETTO:-0700
TZNAME:MST
DTSTART:20220101T000000
END:STANDARD
END:VTIMEZONE
BEGIN:VEVENT
DTSTART;TZID=America/Phoenix:20230329T150000
DTEND;TZID=America/Phoenix:20230329T180000
DTSTAMP:20260425T081542
CREATED:20220901T232557Z
LAST-MODIFIED:20230327T192110Z
UID:10001670-1680102000-1680112800@murphydeals.com
SUMMARY:Spring After Hours Job Fair
DESCRIPTION:
URL:https://murphydeals.com/event/mohave-county-job-fair/
LOCATION:Anderson Auto Group Fieldhouse\, 3663 Bullhead Parkway\, Bullhead City\, AZ\, 86442\, United States
CATEGORIES:Event
ATTACH;FMTTYPE=image/png:https://murphydeals.com/wp-content/uploads/2022/09/2023-Spring-Job-Fair-Employer-Vendor-1-e1679931635874.png
END:VEVENT
END:VCALENDAR