BEGIN:VCALENDAR
VERSION:2.0
PRODID:-//Murphy Deals - ECPv6.15.20//NONSGML v1.0//EN
CALSCALE:GREGORIAN
METHOD:PUBLISH
X-WR-CALNAME:Murphy Deals
X-ORIGINAL-URL:https://murphydeals.com
X-WR-CALDESC:Events for Murphy Deals
REFRESH-INTERVAL;VALUE=DURATION:PT1H
X-Robots-Tag:noindex
X-PUBLISHED-TTL:PT1H
BEGIN:VTIMEZONE
TZID:America/Phoenix
BEGIN:STANDARD
TZOFFSETFROM:-0700
TZOFFSETTO:-0700
TZNAME:MST
DTSTART:20220101T000000
END:STANDARD
END:VTIMEZONE
BEGIN:VEVENT
DTSTART;TZID=America/Phoenix:20230519T190000
DTEND;TZID=America/Phoenix:20230519T213000
DTSTAMP:20260425T132854
CREATED:20230317T220540Z
LAST-MODIFIED:20230317T223337Z
UID:10007306-1684522800-1684531800@murphydeals.com
SUMMARY:Journey at Laughlin Events Center
DESCRIPTION:Tickets from $85 \nThe iconic band\, known for unforgettable classics as “Don’t Stop Believin’\,” “Any Way You Want It\,” “Lights\,” “Faithfully\,” “Wheel in the Sky” and “Separate Ways (Worlds Apart)\,” among others\, has been a classic rock staple since forming in 1973. Journey’s agreeable blend of melodic hard rock and epic balladry has resulted in 25 gold- and platinum-certified albums\, including “Escape\,” which rocketed to the top of the charts\, sold millions and was certified diamond by the RIAA. The band currently consists of guitarist and vocalist Neal Schon; keyboardist and vocalist Jonathan Cain; keyboardist and vocalist Jason Derlatka; drummer and vocalist Deen Castronovo; bassist Todd Jensen; and lead vocalist Arnel Pineda. Blending elements of keyboard riffs\, guitar solos and percussion with powerful vocals\, Journey’s melodies and lyrics are infectious among listeners. \nBUY TICKETS
URL:https://murphydeals.com/event/journey-at-laughlin-events-center/
LOCATION:Laughlin Event Center\, 500 Bruce Woodbury Drive\, Laughlin\, Nevada\, 89029
CATEGORIES:Event,Music | Concerts
ATTACH;FMTTYPE=image/jpeg:https://murphydeals.com/wp-content/uploads/2023/03/journeys-e1679091894738.jpg
END:VEVENT
END:VCALENDAR