BEGIN:VCALENDAR
VERSION:2.0
PRODID:-//Murphy Deals - ECPv6.15.20//NONSGML v1.0//EN
CALSCALE:GREGORIAN
METHOD:PUBLISH
X-WR-CALNAME:Murphy Deals
X-ORIGINAL-URL:https://murphydeals.com
X-WR-CALDESC:Events for Murphy Deals
REFRESH-INTERVAL;VALUE=DURATION:PT1H
X-Robots-Tag:noindex
X-PUBLISHED-TTL:PT1H
BEGIN:VTIMEZONE
TZID:America/Phoenix
BEGIN:STANDARD
TZOFFSETFROM:-0700
TZOFFSETTO:-0700
TZNAME:MST
DTSTART:20220101T000000
END:STANDARD
END:VTIMEZONE
BEGIN:VEVENT
DTSTART;TZID=America/Phoenix:20230416T200000
DTEND;TZID=America/Phoenix:20230416T213000
DTSTAMP:20260425T162255
CREATED:20221114T195618Z
LAST-MODIFIED:20230221T192347Z
UID:10006592-1681675200-1681680600@murphydeals.com
SUMMARY:Kenny Cetera's Chicago Experience at Don Laughlin's Resort
DESCRIPTION:Kenny Cetera’s Chicago Experience A Tribute to the Music of Chicago. \nKenny has recorded with Chicago\, Peter Cetera\, Richard Marx\, Kenny Rogers\, Julio Iglesias\, Bill Champlin\, Agnetha Faltskog (of “ABBA” fame)\, and producer David Foster. \nIn 1984\, Kenny added his unmistakable tenor vocals to several songs on the Chicago 17 album – including the chart- topping “You’re the Inspiration\,” “Stay The Night\,” “Along Comes A Woman” and “Prima Donna” and was quickly recruited by the band to hit the road for one of the most memorable tours in their history. Adding a vocal element that the band never had live before\, two Cetera voices together. Kenny also played drums\, percussion and keyboards on that tour and became a large part of the stage show\, a fan-favorite\, and permanently engrained in the musical heritage of CHICAGO. \nKENNY CETERA’S CHICAGO EXPERIENCE will take you back to a time that made you look forward to living your life to its fullest….with inspirational songs that will make you smile and feel stronger every day. All you have to do is listen. \n\nShow Time 8:00 PM PST\nFloor Seats: $38.00 + $4.36 SVC CHG + Tax\nRiser Seats: $32.00 + $4.36 SVC CHG + Tax\nLocals: Floor Seats $33.00 + $4.36 SVC CHG + Tax\nLocals: Riser Seats $28.00 + $4.36 SVC CHG + Tax\n\nGET TICKETS
URL:https://murphydeals.com/event/kenny-ceteras-chicago-experience-at-don-laughlins-riverside-resort-hotel-casino/2023-04-16/
LOCATION:Don Laughlin’s Riverside Resort Hotel and Casino\, 1650 S Casino Drive\, Laughlin\, Nevada\, 89029
CATEGORIES:Event,Music | Concerts
ATTACH;FMTTYPE=image/jpeg:https://murphydeals.com/wp-content/uploads/2022/11/Kenny-Cetera-Chicago-202-500x278-1-e1670007122773.jpg
END:VEVENT
BEGIN:VEVENT
DTSTART;TZID=America/Phoenix:20230415T200000
DTEND;TZID=America/Phoenix:20230415T213000
DTSTAMP:20260425T162255
CREATED:20221114T195618Z
LAST-MODIFIED:20230221T192347Z
UID:10006591-1681588800-1681594200@murphydeals.com
SUMMARY:Kenny Cetera's Chicago Experience at Don Laughlin's Resort
DESCRIPTION:Kenny Cetera’s Chicago Experience A Tribute to the Music of Chicago. \nKenny has recorded with Chicago\, Peter Cetera\, Richard Marx\, Kenny Rogers\, Julio Iglesias\, Bill Champlin\, Agnetha Faltskog (of “ABBA” fame)\, and producer David Foster. \nIn 1984\, Kenny added his unmistakable tenor vocals to several songs on the Chicago 17 album – including the chart- topping “You’re the Inspiration\,” “Stay The Night\,” “Along Comes A Woman” and “Prima Donna” and was quickly recruited by the band to hit the road for one of the most memorable tours in their history. Adding a vocal element that the band never had live before\, two Cetera voices together. Kenny also played drums\, percussion and keyboards on that tour and became a large part of the stage show\, a fan-favorite\, and permanently engrained in the musical heritage of CHICAGO. \nKENNY CETERA’S CHICAGO EXPERIENCE will take you back to a time that made you look forward to living your life to its fullest….with inspirational songs that will make you smile and feel stronger every day. All you have to do is listen. \n\nShow Time 8:00 PM PST\nFloor Seats: $38.00 + $4.36 SVC CHG + Tax\nRiser Seats: $32.00 + $4.36 SVC CHG + Tax\nLocals: Floor Seats $33.00 + $4.36 SVC CHG + Tax\nLocals: Riser Seats $28.00 + $4.36 SVC CHG + Tax\n\nGET TICKETS
URL:https://murphydeals.com/event/kenny-ceteras-chicago-experience-at-don-laughlins-riverside-resort-hotel-casino/2023-04-15/
LOCATION:Don Laughlin’s Riverside Resort Hotel and Casino\, 1650 S Casino Drive\, Laughlin\, Nevada\, 89029
CATEGORIES:Event,Music | Concerts
ATTACH;FMTTYPE=image/jpeg:https://murphydeals.com/wp-content/uploads/2022/11/Kenny-Cetera-Chicago-202-500x278-1-e1670007122773.jpg
END:VEVENT
BEGIN:VEVENT
DTSTART;TZID=America/Phoenix:20230414T200000
DTEND;TZID=America/Phoenix:20230414T213000
DTSTAMP:20260425T162255
CREATED:20221114T195618Z
LAST-MODIFIED:20230221T192347Z
UID:10006590-1681502400-1681507800@murphydeals.com
SUMMARY:Kenny Cetera's Chicago Experience at Don Laughlin's Resort
DESCRIPTION:Kenny Cetera’s Chicago Experience A Tribute to the Music of Chicago. \nKenny has recorded with Chicago\, Peter Cetera\, Richard Marx\, Kenny Rogers\, Julio Iglesias\, Bill Champlin\, Agnetha Faltskog (of “ABBA” fame)\, and producer David Foster. \nIn 1984\, Kenny added his unmistakable tenor vocals to several songs on the Chicago 17 album – including the chart- topping “You’re the Inspiration\,” “Stay The Night\,” “Along Comes A Woman” and “Prima Donna” and was quickly recruited by the band to hit the road for one of the most memorable tours in their history. Adding a vocal element that the band never had live before\, two Cetera voices together. Kenny also played drums\, percussion and keyboards on that tour and became a large part of the stage show\, a fan-favorite\, and permanently engrained in the musical heritage of CHICAGO. \nKENNY CETERA’S CHICAGO EXPERIENCE will take you back to a time that made you look forward to living your life to its fullest….with inspirational songs that will make you smile and feel stronger every day. All you have to do is listen. \n\nShow Time 8:00 PM PST\nFloor Seats: $38.00 + $4.36 SVC CHG + Tax\nRiser Seats: $32.00 + $4.36 SVC CHG + Tax\nLocals: Floor Seats $33.00 + $4.36 SVC CHG + Tax\nLocals: Riser Seats $28.00 + $4.36 SVC CHG + Tax\n\nGET TICKETS
URL:https://murphydeals.com/event/kenny-ceteras-chicago-experience-at-don-laughlins-riverside-resort-hotel-casino/2023-04-14/
LOCATION:Don Laughlin’s Riverside Resort Hotel and Casino\, 1650 S Casino Drive\, Laughlin\, Nevada\, 89029
CATEGORIES:Event,Music | Concerts
ATTACH;FMTTYPE=image/jpeg:https://murphydeals.com/wp-content/uploads/2022/11/Kenny-Cetera-Chicago-202-500x278-1-e1670007122773.jpg
END:VEVENT
BEGIN:VEVENT
DTSTART;TZID=America/Phoenix:20230413T200000
DTEND;TZID=America/Phoenix:20230413T213000
DTSTAMP:20260425T162255
CREATED:20221114T195618Z
LAST-MODIFIED:20230221T192347Z
UID:10006589-1681416000-1681421400@murphydeals.com
SUMMARY:Kenny Cetera's Chicago Experience at Don Laughlin's Resort
DESCRIPTION:Kenny Cetera’s Chicago Experience A Tribute to the Music of Chicago. \nKenny has recorded with Chicago\, Peter Cetera\, Richard Marx\, Kenny Rogers\, Julio Iglesias\, Bill Champlin\, Agnetha Faltskog (of “ABBA” fame)\, and producer David Foster. \nIn 1984\, Kenny added his unmistakable tenor vocals to several songs on the Chicago 17 album – including the chart- topping “You’re the Inspiration\,” “Stay The Night\,” “Along Comes A Woman” and “Prima Donna” and was quickly recruited by the band to hit the road for one of the most memorable tours in their history. Adding a vocal element that the band never had live before\, two Cetera voices together. Kenny also played drums\, percussion and keyboards on that tour and became a large part of the stage show\, a fan-favorite\, and permanently engrained in the musical heritage of CHICAGO. \nKENNY CETERA’S CHICAGO EXPERIENCE will take you back to a time that made you look forward to living your life to its fullest….with inspirational songs that will make you smile and feel stronger every day. All you have to do is listen. \n\nShow Time 8:00 PM PST\nFloor Seats: $38.00 + $4.36 SVC CHG + Tax\nRiser Seats: $32.00 + $4.36 SVC CHG + Tax\nLocals: Floor Seats $33.00 + $4.36 SVC CHG + Tax\nLocals: Riser Seats $28.00 + $4.36 SVC CHG + Tax\n\nGET TICKETS
URL:https://murphydeals.com/event/kenny-ceteras-chicago-experience-at-don-laughlins-riverside-resort-hotel-casino/2023-04-13/
LOCATION:Don Laughlin’s Riverside Resort Hotel and Casino\, 1650 S Casino Drive\, Laughlin\, Nevada\, 89029
CATEGORIES:Event,Music | Concerts
ATTACH;FMTTYPE=image/jpeg:https://murphydeals.com/wp-content/uploads/2022/11/Kenny-Cetera-Chicago-202-500x278-1-e1670007122773.jpg
END:VEVENT
BEGIN:VEVENT
DTSTART;TZID=America/Phoenix:20230412T200000
DTEND;TZID=America/Phoenix:20230412T213000
DTSTAMP:20260425T162255
CREATED:20221114T195618Z
LAST-MODIFIED:20230221T192347Z
UID:10006588-1681329600-1681335000@murphydeals.com
SUMMARY:Kenny Cetera's Chicago Experience at Don Laughlin's Resort
DESCRIPTION:Kenny Cetera’s Chicago Experience A Tribute to the Music of Chicago. \nKenny has recorded with Chicago\, Peter Cetera\, Richard Marx\, Kenny Rogers\, Julio Iglesias\, Bill Champlin\, Agnetha Faltskog (of “ABBA” fame)\, and producer David Foster. \nIn 1984\, Kenny added his unmistakable tenor vocals to several songs on the Chicago 17 album – including the chart- topping “You’re the Inspiration\,” “Stay The Night\,” “Along Comes A Woman” and “Prima Donna” and was quickly recruited by the band to hit the road for one of the most memorable tours in their history. Adding a vocal element that the band never had live before\, two Cetera voices together. Kenny also played drums\, percussion and keyboards on that tour and became a large part of the stage show\, a fan-favorite\, and permanently engrained in the musical heritage of CHICAGO. \nKENNY CETERA’S CHICAGO EXPERIENCE will take you back to a time that made you look forward to living your life to its fullest….with inspirational songs that will make you smile and feel stronger every day. All you have to do is listen. \n\nShow Time 8:00 PM PST\nFloor Seats: $38.00 + $4.36 SVC CHG + Tax\nRiser Seats: $32.00 + $4.36 SVC CHG + Tax\nLocals: Floor Seats $33.00 + $4.36 SVC CHG + Tax\nLocals: Riser Seats $28.00 + $4.36 SVC CHG + Tax\n\nGET TICKETS
URL:https://murphydeals.com/event/kenny-ceteras-chicago-experience-at-don-laughlins-riverside-resort-hotel-casino/2023-04-12/
LOCATION:Don Laughlin’s Riverside Resort Hotel and Casino\, 1650 S Casino Drive\, Laughlin\, Nevada\, 89029
CATEGORIES:Event,Music | Concerts
ATTACH;FMTTYPE=image/jpeg:https://murphydeals.com/wp-content/uploads/2022/11/Kenny-Cetera-Chicago-202-500x278-1-e1670007122773.jpg
END:VEVENT
END:VCALENDAR