BEGIN:VCALENDAR
VERSION:2.0
PRODID:-//Murphy Deals - ECPv6.15.20//NONSGML v1.0//EN
CALSCALE:GREGORIAN
METHOD:PUBLISH
X-ORIGINAL-URL:https://murphydeals.com
X-WR-CALDESC:Events for Murphy Deals
REFRESH-INTERVAL;VALUE=DURATION:PT1H
X-Robots-Tag:noindex
X-PUBLISHED-TTL:PT1H
BEGIN:VTIMEZONE
TZID:America/Phoenix
BEGIN:STANDARD
TZOFFSETFROM:-0700
TZOFFSETTO:-0700
TZNAME:MST
DTSTART:20210101T000000
END:STANDARD
END:VTIMEZONE
BEGIN:VEVENT
DTSTART;TZID=America/Phoenix:20221120T100000
DTEND;TZID=America/Phoenix:20221120T160000
DTSTAMP:20260425T143742
CREATED:20221115T164405Z
LAST-MODIFIED:20221117T155833Z
UID:10006608-1668938400-1668960000@murphydeals.com
SUMMARY:American Home Boutique's 2nd Annual Christmas Event in Ft Mohave
DESCRIPTION:American Home Boutique’s 2nd Annual Christmas event \nSunday November 20th from 10am-4pm \n5717 HWY 95 Ste 3\, Ft Mohave\, AZ \nHot Chocolate & Treats \nGift-Clothing-Jewelry-Kitchen- \nCandles-Home Decor-and More \nFirst 40 people will receive a gift bag
URL:https://murphydeals.com/event/american-home-boutiques-2nd-annual-christmas-event-in-ft-mohave/
CATEGORIES:Event
ATTACH;FMTTYPE=image/jpeg:https://murphydeals.com/wp-content/uploads/2022/11/ChristB-scaled-e1668530602806.jpg
END:VEVENT
END:VCALENDAR