BEGIN:VCALENDAR
VERSION:2.0
PRODID:-//Murphy Deals - ECPv6.15.20//NONSGML v1.0//EN
CALSCALE:GREGORIAN
METHOD:PUBLISH
X-ORIGINAL-URL:https://murphydeals.com
X-WR-CALDESC:Events for Murphy Deals
REFRESH-INTERVAL;VALUE=DURATION:PT1H
X-Robots-Tag:noindex
X-PUBLISHED-TTL:PT1H
BEGIN:VTIMEZONE
TZID:America/Phoenix
BEGIN:STANDARD
TZOFFSETFROM:-0700
TZOFFSETTO:-0700
TZNAME:MST
DTSTART:20220101T000000
END:STANDARD
END:VTIMEZONE
BEGIN:VEVENT
DTSTART;TZID=America/Phoenix:20230507T140000
DTEND;TZID=America/Phoenix:20230507T163000
DTSTAMP:20260425T033225
CREATED:20230421T172337Z
LAST-MODIFIED:20230505T193814Z
UID:10007776-1683468000-1683477000@murphydeals.com
SUMMARY:Swan Lake at Lake Havasu Performing Arts Center
DESCRIPTION:The Lake Havasu Ballet proudly presents the timeless story of Swan Lake.\nSwan Lake is the story of young Prince Siegfried who falls in love with Princess Odette. Odette and her companions transform into swans under the spell cast by evil sorcerer Baron von Rothbart. Their days are spent gracefully gliding on a lake only to return to their human form at night\, according to the Miami City Ballet. \nThere will be two performances at 7pm Saturday\, May 6 and 2pm Sunday\, May 7. \nTickets range from $10 to $20 \nGET TICKETS
URL:https://murphydeals.com/event/swan-lake-at-lake-havasu-high-school-performing-arts-center-in-lake-havasu/2023-05-07/
LOCATION:Lake Havasu Performing Arts Center\, 2675 S. Palo Verde Blvd.\, Lake Havasu City\, AZ\, 86403
CATEGORIES:Arts | Theatre,Event
ATTACH;FMTTYPE=image/jpeg:https://murphydeals.com/wp-content/uploads/2023/04/Swan-Lake-1-e1683140123966.jpeg
END:VEVENT
BEGIN:VEVENT
DTSTART;TZID=America/Phoenix:20230506T190000
DTEND;TZID=America/Phoenix:20230506T213000
DTSTAMP:20260425T033225
CREATED:20230421T172337Z
LAST-MODIFIED:20230505T193814Z
UID:10007566-1683399600-1683408600@murphydeals.com
SUMMARY:Swan Lake at Lake Havasu Performing Arts Center
DESCRIPTION:The Lake Havasu Ballet proudly presents the timeless story of Swan Lake.\nSwan Lake is the story of young Prince Siegfried who falls in love with Princess Odette. Odette and her companions transform into swans under the spell cast by evil sorcerer Baron von Rothbart. Their days are spent gracefully gliding on a lake only to return to their human form at night\, according to the Miami City Ballet. \nThere will be two performances at 7pm Saturday\, May 6 and 2pm Sunday\, May 7. \nTickets range from $10 to $20 \nGET TICKETS
URL:https://murphydeals.com/event/swan-lake-at-lake-havasu-high-school-performing-arts-center-in-lake-havasu/2023-05-06/
LOCATION:Lake Havasu Performing Arts Center\, 2675 S. Palo Verde Blvd.\, Lake Havasu City\, AZ\, 86403
CATEGORIES:Arts | Theatre,Event
ATTACH;FMTTYPE=image/jpeg:https://murphydeals.com/wp-content/uploads/2023/04/Swan-Lake-1-e1683140123966.jpeg
END:VEVENT
BEGIN:VEVENT
DTSTART;TZID=America/Phoenix:20230427T190000
DTEND;TZID=America/Phoenix:20230427T210000
DTSTAMP:20260425T033225
CREATED:20230421T171344Z
LAST-MODIFIED:20230421T171344Z
UID:10007565-1682622000-1682629200@murphydeals.com
SUMMARY:Lake Havasu High School Spring Performance: "Into the Woods"
DESCRIPTION:Lake Havasu High School drama students will perform the musical “Into the Woods.” \nAccording to Music Theatre International\, “James Lapine and Stephen Sondheim take everyone’s favorite storybook characters and bring them together for a timeless\, yet relevant\, piece… and a rare modern classic. The Tony Award-winning book and score are both enchanting and touching. The story follows a Baker and his wife\, who wish to have a child; Cinderella\, who wishes to attend the King’s Festival; and Jack\, who wishes his cow would give milk. When the Baker and his wife learn that they cannot have a child because of a Witch’s curse\, the two set off on a journey to break the curse. Everyone’s wish is granted\, but the consequences of their actions return to haunt them later with disastrous results.” \nTickets can be purchased at the door for $7 for adults and $5 for students and children (cash only).
URL:https://murphydeals.com/event/lake-havasu-high-school-spring-performance-into-the-woods/
LOCATION:Lake Havasu High School\, 2675 Palo Verde Blvd S\, Lake Havasu City\, Arizona\, 86403
CATEGORIES:Arts | Theatre,Event
ATTACH;FMTTYPE=image/jpeg:https://murphydeals.com/wp-content/uploads/2023/04/comedymask-1-scaled-e1682096824296.jpg
END:VEVENT
END:VCALENDAR