BEGIN:VCALENDAR
VERSION:2.0
PRODID:-//Murphy Deals - ECPv6.15.20//NONSGML v1.0//EN
CALSCALE:GREGORIAN
METHOD:PUBLISH
X-WR-CALNAME:Murphy Deals
X-ORIGINAL-URL:https://murphydeals.com
X-WR-CALDESC:Events for Murphy Deals
REFRESH-INTERVAL;VALUE=DURATION:PT1H
X-Robots-Tag:noindex
X-PUBLISHED-TTL:PT1H
BEGIN:VTIMEZONE
TZID:America/Phoenix
BEGIN:STANDARD
TZOFFSETFROM:-0700
TZOFFSETTO:-0700
TZNAME:MST
DTSTART:20220101T000000
END:STANDARD
END:VTIMEZONE
BEGIN:VEVENT
DTSTART;TZID=America/Phoenix:20230107T183000
DTEND;TZID=America/Phoenix:20230107T200000
DTSTAMP:20260425T075812
CREATED:20221212T203325Z
LAST-MODIFIED:20221212T203325Z
UID:10006816-1673116200-1673121600@murphydeals.com
SUMMARY:Back on their BS Comedy Tour at Legendz Sports Bar and Grill
DESCRIPTION:BUY TICKETS
URL:https://murphydeals.com/event/back-on-their-bs-comedy-tour-at-legendz-sports-bar-and-grill/
LOCATION:Legendz Sports Bar & Grill\, 2048 McCulloch Blvd N\, Lake Havasu City\, AZ\, 86403\, United States
CATEGORIES:Comedy | Comedian,Event
ATTACH;FMTTYPE=image/jpeg:https://murphydeals.com/wp-content/uploads/2022/12/Comey-Jan-2023-3-e1670877183807.jpg
END:VEVENT
BEGIN:VEVENT
DTSTART;TZID=America/Phoenix:20230120T190000
DTEND;TZID=America/Phoenix:20230120T210000
DTSTAMP:20260425T075812
CREATED:20221212T205445Z
LAST-MODIFIED:20221212T205445Z
UID:10006817-1674241200-1674248400@murphydeals.com
SUMMARY:Led Zepagain Tribute Concert at Lake Havasu City Aquatic Center
DESCRIPTION:$25-$35 per show\n\nThe Ultimate Tribute to America’s Favorite Band\, Led Zeppelin!\n\nLed Zepagain promises exactly that….an unforgettable night featuring the music of the Led Zeppelin – one of the most successful rock bands of all time!\n\nSince they exploded on to the scene in 1988\, Sony recording artists Led Zepagain have become highly regarded as the most accurate and authentic replication of Led Zeppelin in the world today. With well over a million downloads on iTunes to their credit\, Led Zepagain’s popularity has also seeped into pop culture by having been mentioned on the network TV shows “The Gilmore Girls”\, “Chicago Fire” and “Bad Judge” !\n\nGeneral seating per show is $25\, and VIP seating per show is $35. To purchase tickets\, click here. \nDoors open at 6pm\, Show starts at 7pm\n\nThe bar will be open throughout the show.
URL:https://murphydeals.com/event/led-zepagain-tribute-concert-at-lake-havasu-city-aquatic-center/
LOCATION:Lake Havasu City Aquatic Center\, 100 Park Ave\, Lake Havasu City\, AZ\, 86403\, United States
CATEGORIES:Event,Music | Concerts
ATTACH;FMTTYPE=image/jpeg:https://murphydeals.com/wp-content/uploads/2022/12/LEDZEPAGAIN-e1670878400311.jpg
END:VEVENT
BEGIN:VEVENT
DTSTART;TZID=America/Phoenix:20230121T190000
DTEND;TZID=America/Phoenix:20230121T210000
DTSTAMP:20260425T075812
CREATED:20221212T211558Z
LAST-MODIFIED:20221212T211558Z
UID:10006818-1674327600-1674334800@murphydeals.com
SUMMARY:PROJECT PRESLEY: BEYOND ’77 at LAKE HAVASU AQUATIC CENTER
DESCRIPTION:THE ULTIMATE ELVIS ALTERNATE REALITY CONCERT\nThe year is 1977 but we are in an alternate reality. A kind of “if only” wish.\nHave you ever wondered where Elvis’ career might have taken him had his health recovered in 1977 and he lived to record more incredible music and perform more incredible shows?\nBEYOND ’77 starring Chance Tinder gives us a glimpse into what a healthy\, 50-year Elvis Presley concert would have felt like. \nDon’t miss this alternate reality – if only…. \nCLICK HERE FOR TICKETS
URL:https://murphydeals.com/event/project-presley-beyond-77-at-lake-havasu-aquatic-center/
LOCATION:Lake Havasu City Aquatic Center\, 100 Park Ave\, Lake Havasu City\, AZ\, 86403\, United States
CATEGORIES:Event,Music | Concerts
ATTACH;FMTTYPE=image/jpeg:https://murphydeals.com/wp-content/uploads/2022/12/projectpresley-e1670879591398.jpg
END:VEVENT
BEGIN:VEVENT
DTSTART;TZID=America/Phoenix:20230125T190000
DTEND;TZID=America/Phoenix:20230125T210000
DTSTAMP:20260425T075812
CREATED:20221212T214448Z
LAST-MODIFIED:20221212T215614Z
UID:10006819-1674673200-1674680400@murphydeals.com
SUMMARY:Studio 54: The Disco Explosion at Lake Havasu City Aquatic Center
DESCRIPTION:Take a trip to the Decade of Disco -The 1970’s – with an exclusive VIP Ticket to the hottest night club in town. This fantastic show will have you dancing in the aisles as you boogie the night away to some of the most iconic hits of the 70’s. \nWorld-class singers & musicians performing the greatest hits from these timeless artists – live! From ‘The Bee Gees’ to ‘Donna Summer’. ‘Gloria Gaynor’ to ‘The Jackson 5’ & So many more… \nBring your flares\, your afros\, and turn those collars up for an unforgettable night of dance-floor-filling 45’s. Incredible style from an incredible decade with the most incredible music. Studio 54 will have you screaming out for more! \nCLICK HERE FOR TICKETS
URL:https://murphydeals.com/event/studio-54-the-disco-explosion-at-lake-havasu-city-aquatic-center/
LOCATION:Lake Havasu City Aquatic Center\, 100 Park Ave\, Lake Havasu City\, AZ\, 86403\, United States
CATEGORIES:Event,Music | Concerts
ATTACH;FMTTYPE=image/jpeg:https://murphydeals.com/wp-content/uploads/2022/12/event_header-e1670881714679.jpg
END:VEVENT
BEGIN:VEVENT
DTSTART;TZID=America/Phoenix:20230422T163000
DTEND;TZID=America/Phoenix:20230422T203000
DTSTAMP:20260425T075812
CREATED:20230417T234827Z
LAST-MODIFIED:20230417T235116Z
UID:10007545-1682181000-1682195400@murphydeals.com
SUMMARY:Dry Heat at Hanger 24 in Lake Havasu
DESCRIPTION:
URL:https://murphydeals.com/event/dry-heat-at-hanger-24-in-lake-havasu/2023-04-22/
LOCATION:Hangar 24 Lake Havasu City\, AZ\, 5600 Arizona 95\, Lake Havasu City\, AZ\, 86404\, United States
CATEGORIES:Event
ATTACH;FMTTYPE=image/jpeg:https://murphydeals.com/wp-content/uploads/2023/04/dry-heat-e1681839382965.jpeg
END:VEVENT
BEGIN:VEVENT
DTSTART;TZID=America/Phoenix:20230501T180000
DTEND;TZID=America/Phoenix:20230501T200000
DTSTAMP:20260425T075812
CREATED:20230501T171611Z
LAST-MODIFIED:20230515T205726Z
UID:10007728-1682964000-1682971200@murphydeals.com
SUMMARY:Briana Marie at the Flying X Saloon in Lake Havasu
DESCRIPTION: 
URL:https://murphydeals.com/event/briana-marie-at-the-flying-x-saloon-in-lake-havasu/2023-05-01/
LOCATION:Flying X Saloon\, 2030 McCulloch Blvd N\, Lake Havasu City\, AZ\, 86403
CATEGORIES:Event,Music | Concerts
ATTACH;FMTTYPE=image/jpeg:https://murphydeals.com/wp-content/uploads/2023/05/briana.marie-1-e1684183079747.jpg
END:VEVENT
BEGIN:VEVENT
DTSTART;TZID=America/Phoenix:20230502T180000
DTEND;TZID=America/Phoenix:20230502T200000
DTSTAMP:20260425T075812
CREATED:20230501T173311Z
LAST-MODIFIED:20230515T211215Z
UID:10007734-1683050400-1683057600@murphydeals.com
SUMMARY:Steve Wayman at the Flying X Saloon in Lake Havasu
DESCRIPTION:A country singer with a deep mellow voice and a passion for music plays local venues in Lake Havasu City\, Arizona including the Elks Lodge \,Eagles Lodge\, the American Legion and The Flying X. Steve’s music choices range from classic country to old time rock ‘n’ roll. His career has taken him to various locations throughout the United States including Presleys Jubilee in Branson Missouri\, and the Grand Canyon Railway in Williams Arizona. Steve has opened for several major acts while performing in the Phoenix area.\n\nSteve opened for Ray Price\, Eddy Raven\, Gary Morris\, and David Frizzell to name a few.\n\nOn Sunday mornings Steve directs the choir at Christ Chapel Church in Lake Havasu City\, Arizona. Steve also worked the last 20 years as a music teacher with the Lake Havasu City Unified School District and Telesis Charter School. Steve is now retired from teaching.
URL:https://murphydeals.com/event/steve-wayman-at-the-flying-x-saloon-in-lake-havasu/2023-05-02/
LOCATION:Flying X Saloon\, 2030 McCulloch Blvd N\, Lake Havasu City\, AZ\, 86403
CATEGORIES:Event,Music | Concerts
ATTACH;FMTTYPE=image/jpeg:https://murphydeals.com/wp-content/uploads/2023/05/steve.wayman-e1684185021136.jpg
END:VEVENT
BEGIN:VEVENT
DTSTART;TZID=America/Phoenix:20230503T183000
DTEND;TZID=America/Phoenix:20230503T203000
DTSTAMP:20260425T075812
CREATED:20230501T174440Z
LAST-MODIFIED:20230501T174440Z
UID:10007738-1683138600-1683145800@murphydeals.com
SUMMARY:Dry Heat Band at Flying X Saloon in Lake Havasu
DESCRIPTION:
URL:https://murphydeals.com/event/dry-heat-band-at-flying-x-saloon-in-lake-havasu/
LOCATION:Flying X Saloon\, 2030 McCulloch Blvd N\, Lake Havasu City\, AZ\, 86403
CATEGORIES:Event,Music | Concerts
ATTACH;FMTTYPE=image/jpeg:https://murphydeals.com/wp-content/uploads/2023/04/dry-heat-e1681839382965.jpeg
END:VEVENT
BEGIN:VEVENT
DTSTART;TZID=America/Phoenix:20230503T183000
DTEND;TZID=America/Phoenix:20230503T223000
DTSTAMP:20260425T075812
CREATED:20230418T173655Z
LAST-MODIFIED:20230418T173655Z
UID:10007550-1683138600-1683153000@murphydeals.com
SUMMARY:Dry Heat at the Flying X Saloon in Lake Havasu
DESCRIPTION:
URL:https://murphydeals.com/event/dry-heat-at-the-flying-x-saloon-in-lake-havasu/
LOCATION:Flying X Saloon\, 2030 McCulloch Blvd N\, Lake Havasu City\, AZ\, 86403
CATEGORIES:Event,Music | Concerts
ATTACH;FMTTYPE=image/jpeg:https://murphydeals.com/wp-content/uploads/2023/04/dry-heat-e1681839382965.jpeg
END:VEVENT
BEGIN:VEVENT
DTSTART;TZID=America/Phoenix:20230505T163000
DTEND;TZID=America/Phoenix:20230505T203000
DTSTAMP:20260425T075812
CREATED:20230417T234827Z
LAST-MODIFIED:20230417T235116Z
UID:10007546-1683304200-1683318600@murphydeals.com
SUMMARY:Dry Heat at Hanger 24 in Lake Havasu
DESCRIPTION:
URL:https://murphydeals.com/event/dry-heat-at-hanger-24-in-lake-havasu/2023-05-05/
LOCATION:Hangar 24 Lake Havasu City\, AZ\, 5600 Arizona 95\, Lake Havasu City\, AZ\, 86404\, United States
CATEGORIES:Event
ATTACH;FMTTYPE=image/jpeg:https://murphydeals.com/wp-content/uploads/2023/04/dry-heat-e1681839382965.jpeg
END:VEVENT
BEGIN:VEVENT
DTSTART;TZID=America/Phoenix:20230505T180000
DTEND;TZID=America/Phoenix:20230505T210000
DTSTAMP:20260425T075812
CREATED:20230424T190150Z
LAST-MODIFIED:20230501T220340Z
UID:10007604-1683309600-1683320400@murphydeals.com
SUMMARY:First Friday First Friday on McCulloch Blvd in Lake Havasu
DESCRIPTION:The Final Event of the Season! \nSpitball brought SO much energy and rock to First Friday in March that we had to bring them back to Havasu! \nSka\, Punk and Reggae tunes all night with Spitball at YARDCITY from 6-9:30P \nSave May 5th for Art\, Music\, Culture and Food in Downtown Lake Havasu
URL:https://murphydeals.com/event/first-friday-first-friday-on-mcculloch-blvd-in-lake-havasu/
LOCATION:Lake Havasu City\, Virtual Via Zoom\, Lake Havasu City\, AZ\, 86406\, United States
CATEGORIES:Event
ATTACH;FMTTYPE=image/jpeg:https://murphydeals.com/wp-content/uploads/2023/03/FF-e1679355537575.jpg
END:VEVENT
BEGIN:VEVENT
DTSTART;TZID=America/Phoenix:20230505T200000
DTEND;TZID=America/Phoenix:20230505T223000
DTSTAMP:20260425T075812
CREATED:20230501T182715Z
LAST-MODIFIED:20230501T182715Z
UID:10007740-1683316800-1683325800@murphydeals.com
SUMMARY:American Mile Band at the Flying X Saloon in Lake Havasu
DESCRIPTION:
URL:https://murphydeals.com/event/american-mile-band-at-the-flying-x-saloon-in-lake-havasu/2023-05-05/
LOCATION:Flying X Saloon\, 2030 McCulloch Blvd N\, Lake Havasu City\, AZ\, 86403
CATEGORIES:Event,Music | Concerts
ATTACH;FMTTYPE=image/jpeg:https://murphydeals.com/wp-content/uploads/2023/05/american-mile-e1682965414815.jpg
END:VEVENT
BEGIN:VEVENT
DTSTART;TZID=America/Phoenix:20230506T130000
DTEND;TZID=America/Phoenix:20230506T170000
DTSTAMP:20260425T075812
CREATED:20230418T174351Z
LAST-MODIFIED:20230418T174351Z
UID:10007551-1683378000-1683392400@murphydeals.com
SUMMARY:Dry Heat at BJ's Cantina in Lake Havasu
DESCRIPTION:
URL:https://murphydeals.com/event/dry-heat-at-bjs-cantina-in-lake-havasu/
LOCATION:BJ’s Cabana Bar & Karaoke\, 2122 McCulloch Boulevard North\, Lake Havasu City\, AZ\, 86403\, United States
CATEGORIES:Event,Music | Concerts
ATTACH;FMTTYPE=image/jpeg:https://murphydeals.com/wp-content/uploads/2023/04/dry-heat-e1681839382965.jpeg
END:VEVENT
BEGIN:VEVENT
DTSTART;TZID=America/Phoenix:20230506T173000
DTEND;TZID=America/Phoenix:20230506T203000
DTSTAMP:20260425T075812
CREATED:20230424T173320Z
LAST-MODIFIED:20230424T173433Z
UID:10007598-1683394200-1683405000@murphydeals.com
SUMMARY:Scott & Sabrina at Hangar 24 in Lake Havasu
DESCRIPTION:Join Scott & Sabrina\, a modern country/rock duo from Southern Oregon that now live in Lake Havasu City. From their fresh originals to unique covers of classics from multiple eras & genres\, this couple of singers\, songwriters\, musicians\, and recording artists are bound to play something you’ll enjoy!! Come see why they are called “Havasu’s Best Kept Secret\,” and are playing all over California\, Arizona\, & Nevada. 🎶🤘🎵 \n 
URL:https://murphydeals.com/event/scott-sabrina-at-hangar-24-in-lake-havasu/
LOCATION:Hangar 24 Lake Havasu City\, AZ\, 5600 Arizona 95\, Lake Havasu City\, AZ\, 86404\, United States
CATEGORIES:Event,Music | Concerts
ATTACH;FMTTYPE=image/jpeg:https://murphydeals.com/wp-content/uploads/2023/03/scottsabrina-1-e1679956202568.jpg
END:VEVENT
BEGIN:VEVENT
DTSTART;TZID=America/Phoenix:20230506T200000
DTEND;TZID=America/Phoenix:20230506T223000
DTSTAMP:20260425T075812
CREATED:20230501T182715Z
LAST-MODIFIED:20230501T182715Z
UID:10007741-1683403200-1683412200@murphydeals.com
SUMMARY:American Mile Band at the Flying X Saloon in Lake Havasu
DESCRIPTION:
URL:https://murphydeals.com/event/american-mile-band-at-the-flying-x-saloon-in-lake-havasu/2023-05-06/
LOCATION:Flying X Saloon\, 2030 McCulloch Blvd N\, Lake Havasu City\, AZ\, 86403
CATEGORIES:Event,Music | Concerts
ATTACH;FMTTYPE=image/jpeg:https://murphydeals.com/wp-content/uploads/2023/05/american-mile-e1682965414815.jpg
END:VEVENT
BEGIN:VEVENT
DTSTART;TZID=America/Phoenix:20230506T200000
DTEND;TZID=America/Phoenix:20230506T230000
DTSTAMP:20260425T075812
CREATED:20230418T175958Z
LAST-MODIFIED:20230418T175958Z
UID:10007553-1683403200-1683414000@murphydeals.com
SUMMARY:Dry Heat at Harleyz & Hotrodz in Lake Havasu
DESCRIPTION:Dry Heat will be rockin’ Harleyz & Hot Rodz !! Come on out for some great food\, ice cold beverages and live music!
URL:https://murphydeals.com/event/dry-heat-at-harleyz-hotrodz-in-lake-havasu/
LOCATION:Harleyz And Hot Rodz\, 2061 Swanson Ave\, Lake Havasu City\, AZ\, 86403\, United States
CATEGORIES:Event,Music | Concerts
ATTACH;FMTTYPE=image/jpeg:https://murphydeals.com/wp-content/uploads/2023/04/IMG_3107_ccexpress-1024x537-1-e1681838914147.jpg
END:VEVENT
BEGIN:VEVENT
DTSTART;TZID=America/Phoenix:20230506T210000
DTEND;TZID=America/Phoenix:20230506T233000
DTSTAMP:20260425T075812
CREATED:20230424T160755Z
LAST-MODIFIED:20230424T200655Z
UID:10007574-1683406800-1683415800@murphydeals.com
SUMMARY:MISFITS TRIBUTE by LA MIZFITS at Havasu Concert Lounge in Lake Havasu
DESCRIPTION:Tribute to the Misfits by LA Mizfits!\n21+\nDoors 9PM\n$10 Presale / $15 Door\n\nBUY TICKETS
URL:https://murphydeals.com/event/misfits-tribute-by-la-mizfits-2/
LOCATION:Havasu Concert Lounge\, 1519 Queens Bay\, Lake Havasu City\, AZ\, 86403\, United States
CATEGORIES:Event,Music | Concerts
ATTACH;FMTTYPE=image/jpeg:https://murphydeals.com/wp-content/uploads/2023/04/fc32c1cb98daec121381451b5226b483.jpg
END:VEVENT
BEGIN:VEVENT
DTSTART;TZID=America/Phoenix:20230507T140000
DTEND;TZID=America/Phoenix:20230507T180000
DTSTAMP:20260425T075812
CREATED:20230501T203117Z
LAST-MODIFIED:20230501T203117Z
UID:10007754-1683468000-1683482400@murphydeals.com
SUMMARY:One Eyed Romeo at BJ's Cabana Bar in Lake Havasu
DESCRIPTION:
URL:https://murphydeals.com/event/one-eyed-romeo-at-bjs-cabana-bar-in-lake-havasu/
LOCATION:BJ’s Cabana Bar & Karaoke\, 2122 McCulloch Boulevard North\, Lake Havasu City\, AZ\, 86403\, United States
CATEGORIES:Event,Music | Concerts
ATTACH;FMTTYPE=image/jpeg:https://murphydeals.com/wp-content/uploads/2023/05/oneeyedromeo-e1682963990780.jpg
END:VEVENT
BEGIN:VEVENT
DTSTART;TZID=America/Phoenix:20230508T180000
DTEND;TZID=America/Phoenix:20230508T200000
DTSTAMP:20260425T075812
CREATED:20230501T171611Z
LAST-MODIFIED:20230515T205726Z
UID:10007729-1683568800-1683576000@murphydeals.com
SUMMARY:Briana Marie at the Flying X Saloon in Lake Havasu
DESCRIPTION: 
URL:https://murphydeals.com/event/briana-marie-at-the-flying-x-saloon-in-lake-havasu/2023-05-08/
LOCATION:Flying X Saloon\, 2030 McCulloch Blvd N\, Lake Havasu City\, AZ\, 86403
CATEGORIES:Event,Music | Concerts
ATTACH;FMTTYPE=image/jpeg:https://murphydeals.com/wp-content/uploads/2023/05/briana.marie-1-e1684183079747.jpg
END:VEVENT
BEGIN:VEVENT
DTSTART;TZID=America/Phoenix:20230509T180000
DTEND;TZID=America/Phoenix:20230509T200000
DTSTAMP:20260425T075812
CREATED:20230501T173311Z
LAST-MODIFIED:20230515T211215Z
UID:10007735-1683655200-1683662400@murphydeals.com
SUMMARY:Steve Wayman at the Flying X Saloon in Lake Havasu
DESCRIPTION:A country singer with a deep mellow voice and a passion for music plays local venues in Lake Havasu City\, Arizona including the Elks Lodge \,Eagles Lodge\, the American Legion and The Flying X. Steve’s music choices range from classic country to old time rock ‘n’ roll. His career has taken him to various locations throughout the United States including Presleys Jubilee in Branson Missouri\, and the Grand Canyon Railway in Williams Arizona. Steve has opened for several major acts while performing in the Phoenix area.\n\nSteve opened for Ray Price\, Eddy Raven\, Gary Morris\, and David Frizzell to name a few.\n\nOn Sunday mornings Steve directs the choir at Christ Chapel Church in Lake Havasu City\, Arizona. Steve also worked the last 20 years as a music teacher with the Lake Havasu City Unified School District and Telesis Charter School. Steve is now retired from teaching.
URL:https://murphydeals.com/event/steve-wayman-at-the-flying-x-saloon-in-lake-havasu/2023-05-09/
LOCATION:Flying X Saloon\, 2030 McCulloch Blvd N\, Lake Havasu City\, AZ\, 86403
CATEGORIES:Event,Music | Concerts
ATTACH;FMTTYPE=image/jpeg:https://murphydeals.com/wp-content/uploads/2023/05/steve.wayman-e1684185021136.jpg
END:VEVENT
BEGIN:VEVENT
DTSTART;TZID=America/Phoenix:20230510T183000
DTEND;TZID=America/Phoenix:20230510T213000
DTSTAMP:20260425T075812
CREATED:20230501T183724Z
LAST-MODIFIED:20230501T183827Z
UID:10007742-1683743400-1683754200@murphydeals.com
SUMMARY:Top Shelf Band at the Flying X Saloon in Lake Havasu
DESCRIPTION:
URL:https://murphydeals.com/event/top-shelf-band-at-the-flying-x-saloon-in-lake-havasu/
LOCATION:Flying X Saloon\, 2030 McCulloch Blvd N\, Lake Havasu City\, AZ\, 86403
CATEGORIES:Event,Music | Concerts
ATTACH;FMTTYPE=image/jpeg:https://murphydeals.com/wp-content/uploads/2023/01/flyingxsaloon-e1674513036257.jpg
END:VEVENT
BEGIN:VEVENT
DTSTART;TZID=America/Phoenix:20230510T190000
DTEND;TZID=America/Phoenix:20230510T220000
DTSTAMP:20260425T075812
CREATED:20230424T174026Z
LAST-MODIFIED:20230424T174026Z
UID:10007599-1683745200-1683756000@murphydeals.com
SUMMARY:Scott & Sabrina at Jeremy's Juke Joint in Lake Havasu
DESCRIPTION:This country duo will be sharing their original music as well as popular covers. Scott has opened for artists such as Jake Owen\, Easton Corbin\, Dustin Lynch\, & Jon Pardy and recorded his first album in Nashville. Scott & Sabrina have toured 4 states in the last year\, and they reside in Lake Havasu City\, Az with their family\, while they play music at local venues. Scott & Sabrina’s music can be found on Spotify\, Apple Music\, Amazon\, etc under Scott & Sabrina. For more info check out www.scottandsabrinamusic.com
URL:https://murphydeals.com/event/scott-sabrina-at-jeremys-juke-joint-in-lake-havasu/
LOCATION:Jeremy’s Juke Joint\, 91 London Bridge Road\, ##103\, Lake Havasu City\, AZ\, 86403\, United States
CATEGORIES:Event,Music | Concerts
ATTACH;FMTTYPE=image/jpeg:https://murphydeals.com/wp-content/uploads/2023/03/scottsabrina-1-e1679956202568.jpg
END:VEVENT
BEGIN:VEVENT
DTSTART;TZID=America/Phoenix:20230512T190000
DTEND;TZID=America/Phoenix:20230512T230000
DTSTAMP:20260425T075812
CREATED:20230501T204434Z
LAST-MODIFIED:20230501T204434Z
UID:10007755-1683918000-1683932400@murphydeals.com
SUMMARY:One Eyed Romeo at BaBaLoo Lounge in Lake Havasu
DESCRIPTION:
URL:https://murphydeals.com/event/one-eyed-romeo-at-babaloo-lounge-in-lake-havasu/2023-05-12/
LOCATION:Babaloo Lounge\, 357 Lake Havasu Ave #9368\, Lake Havasu City\, AZ\, 86403
CATEGORIES:Event,Music | Concerts
ATTACH;FMTTYPE=image/jpeg:https://murphydeals.com/wp-content/uploads/2023/05/oneeyedromeo-e1682963990780.jpg
END:VEVENT
BEGIN:VEVENT
DTSTART;TZID=America/Phoenix:20230512T200000
DTEND;TZID=America/Phoenix:20230512T223000
DTSTAMP:20260425T075812
CREATED:20230501T190811Z
LAST-MODIFIED:20230501T190811Z
UID:10007745-1683921600-1683930600@murphydeals.com
SUMMARY:Buddy Martell Band at the Flying X Saloon in Lake Havasu
DESCRIPTION:
URL:https://murphydeals.com/event/buddy-martell-band-at-the-flying-x-saloon-in-lake-havasu/2023-05-12/
LOCATION:Flying X Saloon\, 2030 McCulloch Blvd N\, Lake Havasu City\, AZ\, 86403
CATEGORIES:Event,Music | Concerts
ATTACH;FMTTYPE=image/jpeg:https://murphydeals.com/wp-content/uploads/2023/05/buddy-martell-e1682967690907.jpg
END:VEVENT
BEGIN:VEVENT
DTSTART;TZID=America/Phoenix:20230513T190000
DTEND;TZID=America/Phoenix:20230513T230000
DTSTAMP:20260425T075812
CREATED:20230501T204434Z
LAST-MODIFIED:20230501T204434Z
UID:10007756-1684004400-1684018800@murphydeals.com
SUMMARY:One Eyed Romeo at BaBaLoo Lounge in Lake Havasu
DESCRIPTION:
URL:https://murphydeals.com/event/one-eyed-romeo-at-babaloo-lounge-in-lake-havasu/2023-05-13/
LOCATION:Babaloo Lounge\, 357 Lake Havasu Ave #9368\, Lake Havasu City\, AZ\, 86403
CATEGORIES:Event,Music | Concerts
ATTACH;FMTTYPE=image/jpeg:https://murphydeals.com/wp-content/uploads/2023/05/oneeyedromeo-e1682963990780.jpg
END:VEVENT
BEGIN:VEVENT
DTSTART;TZID=America/Phoenix:20230513T200000
DTEND;TZID=America/Phoenix:20230513T223000
DTSTAMP:20260425T075812
CREATED:20230501T190811Z
LAST-MODIFIED:20230501T190811Z
UID:10007746-1684008000-1684017000@murphydeals.com
SUMMARY:Buddy Martell Band at the Flying X Saloon in Lake Havasu
DESCRIPTION:
URL:https://murphydeals.com/event/buddy-martell-band-at-the-flying-x-saloon-in-lake-havasu/2023-05-13/
LOCATION:Flying X Saloon\, 2030 McCulloch Blvd N\, Lake Havasu City\, AZ\, 86403
CATEGORIES:Event,Music | Concerts
ATTACH;FMTTYPE=image/jpeg:https://murphydeals.com/wp-content/uploads/2023/05/buddy-martell-e1682967690907.jpg
END:VEVENT
BEGIN:VEVENT
DTSTART;TZID=America/Phoenix:20230515T180000
DTEND;TZID=America/Phoenix:20230515T200000
DTSTAMP:20260425T075812
CREATED:20230501T171611Z
LAST-MODIFIED:20230515T205726Z
UID:10007730-1684173600-1684180800@murphydeals.com
SUMMARY:Briana Marie at the Flying X Saloon in Lake Havasu
DESCRIPTION: 
URL:https://murphydeals.com/event/briana-marie-at-the-flying-x-saloon-in-lake-havasu/2023-05-15/
LOCATION:Flying X Saloon\, 2030 McCulloch Blvd N\, Lake Havasu City\, AZ\, 86403
CATEGORIES:Event,Music | Concerts
ATTACH;FMTTYPE=image/jpeg:https://murphydeals.com/wp-content/uploads/2023/05/briana.marie-1-e1684183079747.jpg
END:VEVENT
BEGIN:VEVENT
DTSTART;TZID=America/Phoenix:20230516T150000
DTEND;TZID=America/Phoenix:20230516T233000
DTSTAMP:20260425T075812
CREATED:20230516T000304Z
LAST-MODIFIED:20230516T000304Z
UID:10007830-1684249200-1684279800@murphydeals.com
SUMMARY:Drifting Roots Live at Jeremy’s Juke Joint in Lake Havasu
DESCRIPTION:
URL:https://murphydeals.com/event/drifting-roots-live-at-jeremys-juke-joint-in-lake-havasu/2023-05-16/
LOCATION:Jeremy’s Juke Joint\, 91 London Bridge Road\, ##103\, Lake Havasu City\, AZ\, 86403\, United States
CATEGORIES:Event,Music | Concerts
ATTACH;FMTTYPE=image/jpeg:https://murphydeals.com/wp-content/uploads/2023/05/driftingroots-e1684194340408.jpg
END:VEVENT
BEGIN:VEVENT
DTSTART;TZID=America/Phoenix:20230516T180000
DTEND;TZID=America/Phoenix:20230516T200000
DTSTAMP:20260425T075812
CREATED:20230501T173311Z
LAST-MODIFIED:20230515T211215Z
UID:10007736-1684260000-1684267200@murphydeals.com
SUMMARY:Steve Wayman at the Flying X Saloon in Lake Havasu
DESCRIPTION:A country singer with a deep mellow voice and a passion for music plays local venues in Lake Havasu City\, Arizona including the Elks Lodge \,Eagles Lodge\, the American Legion and The Flying X. Steve’s music choices range from classic country to old time rock ‘n’ roll. His career has taken him to various locations throughout the United States including Presleys Jubilee in Branson Missouri\, and the Grand Canyon Railway in Williams Arizona. Steve has opened for several major acts while performing in the Phoenix area.\n\nSteve opened for Ray Price\, Eddy Raven\, Gary Morris\, and David Frizzell to name a few.\n\nOn Sunday mornings Steve directs the choir at Christ Chapel Church in Lake Havasu City\, Arizona. Steve also worked the last 20 years as a music teacher with the Lake Havasu City Unified School District and Telesis Charter School. Steve is now retired from teaching.
URL:https://murphydeals.com/event/steve-wayman-at-the-flying-x-saloon-in-lake-havasu/2023-05-16/
LOCATION:Flying X Saloon\, 2030 McCulloch Blvd N\, Lake Havasu City\, AZ\, 86403
CATEGORIES:Event,Music | Concerts
ATTACH;FMTTYPE=image/jpeg:https://murphydeals.com/wp-content/uploads/2023/05/steve.wayman-e1684185021136.jpg
END:VEVENT
BEGIN:VEVENT
DTSTART;TZID=America/Phoenix:20230517T150000
DTEND;TZID=America/Phoenix:20230517T233000
DTSTAMP:20260425T075812
CREATED:20230516T000304Z
LAST-MODIFIED:20230516T000304Z
UID:10007831-1684335600-1684366200@murphydeals.com
SUMMARY:Drifting Roots Live at Jeremy’s Juke Joint in Lake Havasu
DESCRIPTION:
URL:https://murphydeals.com/event/drifting-roots-live-at-jeremys-juke-joint-in-lake-havasu/2023-05-17/
LOCATION:Jeremy’s Juke Joint\, 91 London Bridge Road\, ##103\, Lake Havasu City\, AZ\, 86403\, United States
CATEGORIES:Event,Music | Concerts
ATTACH;FMTTYPE=image/jpeg:https://murphydeals.com/wp-content/uploads/2023/05/driftingroots-e1684194340408.jpg
END:VEVENT
END:VCALENDAR