BEGIN:VCALENDAR
VERSION:2.0
PRODID:-//Murphy Deals - ECPv6.15.20//NONSGML v1.0//EN
CALSCALE:GREGORIAN
METHOD:PUBLISH
X-WR-CALNAME:Murphy Deals
X-ORIGINAL-URL:https://murphydeals.com
X-WR-CALDESC:Events for Murphy Deals
REFRESH-INTERVAL;VALUE=DURATION:PT1H
X-Robots-Tag:noindex
X-PUBLISHED-TTL:PT1H
BEGIN:VTIMEZONE
TZID:America/Phoenix
BEGIN:STANDARD
TZOFFSETFROM:-0700
TZOFFSETTO:-0700
TZNAME:MST
DTSTART:20220101T000000
END:STANDARD
END:VTIMEZONE
BEGIN:VEVENT
DTSTART;TZID=America/Phoenix:20230507T200000
DTEND;TZID=America/Phoenix:20230507T220000
DTSTAMP:20260425T190020
CREATED:20230324T215409Z
LAST-MODIFIED:20230324T220928Z
UID:10007361-1683489600-1683496800@murphydeals.com
SUMMARY:Latin Divas–Starring Adelaide Pilar at Don Laughlin’s Riverside Resort in Laughlin
DESCRIPTION:Adelaide is a LA based artist originally from Texas who’s career has brought her to many platforms from stages\, recordings\, and television. Starting with a Bachelor’s Degree in Jazz Studies from Texas State University and a Masters degree in Afro-Latin Music from CalState LA\, she then became a member of the two time Grammy award winning Mariachi Divas in 2006. In 2010 she left the group to pursue her own projects. Since then she has developed 3 popular bands/shows in which she leads singing and playing trumpet. These bands play consistently at venues such as the Disneyland Resort\, Knotts Berry Farm\, festivals\, casinos\, and more. She  has also released  2 albums: Como Será and the very recent Reflexiones  de mi Mente along with  several music videos. In 2018\, she was a contestant on La Voz Mexico and has backed up famous artists such Christian Nodal\, Lupita Infante\, Ana Barbara\, Ozomatli\, Albita\, Barbara Mason\, La Yuri\, La India\, Maluma\, and Miguel Bose. \n\nShow Time 8:00 PM PST\nFloor Seats: $38.00 + $4.36 SVC CHG + Tax\nRiser Seats: $32.00 + $4.36 SVC CHG + Tax\nLocals: Floor Seats $33.00 + $4.36 SVC CHG + Tax\nLocals: Riser Seats $28.00 + $4.36 SVC CHG + Tax\n\nBUY TICKETS  \n  \n 
URL:https://murphydeals.com/event/latin-divas-starring-adelaide-pilar-at-don-laughlins-riverside-resort-hotel-casino-in-laughlin/2023-05-07/
LOCATION:Don Laughlin’s Riverside Resort Hotel and Casino\, 1650 S Casino Drive\, Laughlin\, Nevada\, 89029
CATEGORIES:Music | Concerts
ATTACH;FMTTYPE=image/jpeg:https://murphydeals.com/wp-content/uploads/2023/03/Latin-Divas-2023LVCVA_0DB64ADE-C960-31ED-2D86054B5-1-e1679694337499.jpg
END:VEVENT
BEGIN:VEVENT
DTSTART;TZID=America/Phoenix:20230506T200000
DTEND;TZID=America/Phoenix:20230506T220000
DTSTAMP:20260425T190020
CREATED:20230324T215409Z
LAST-MODIFIED:20230324T220928Z
UID:10007360-1683403200-1683410400@murphydeals.com
SUMMARY:Latin Divas–Starring Adelaide Pilar at Don Laughlin’s Riverside Resort in Laughlin
DESCRIPTION:Adelaide is a LA based artist originally from Texas who’s career has brought her to many platforms from stages\, recordings\, and television. Starting with a Bachelor’s Degree in Jazz Studies from Texas State University and a Masters degree in Afro-Latin Music from CalState LA\, she then became a member of the two time Grammy award winning Mariachi Divas in 2006. In 2010 she left the group to pursue her own projects. Since then she has developed 3 popular bands/shows in which she leads singing and playing trumpet. These bands play consistently at venues such as the Disneyland Resort\, Knotts Berry Farm\, festivals\, casinos\, and more. She  has also released  2 albums: Como Será and the very recent Reflexiones  de mi Mente along with  several music videos. In 2018\, she was a contestant on La Voz Mexico and has backed up famous artists such Christian Nodal\, Lupita Infante\, Ana Barbara\, Ozomatli\, Albita\, Barbara Mason\, La Yuri\, La India\, Maluma\, and Miguel Bose. \n\nShow Time 8:00 PM PST\nFloor Seats: $38.00 + $4.36 SVC CHG + Tax\nRiser Seats: $32.00 + $4.36 SVC CHG + Tax\nLocals: Floor Seats $33.00 + $4.36 SVC CHG + Tax\nLocals: Riser Seats $28.00 + $4.36 SVC CHG + Tax\n\nBUY TICKETS  \n  \n 
URL:https://murphydeals.com/event/latin-divas-starring-adelaide-pilar-at-don-laughlins-riverside-resort-hotel-casino-in-laughlin/2023-05-06/
LOCATION:Don Laughlin’s Riverside Resort Hotel and Casino\, 1650 S Casino Drive\, Laughlin\, Nevada\, 89029
CATEGORIES:Music | Concerts
ATTACH;FMTTYPE=image/jpeg:https://murphydeals.com/wp-content/uploads/2023/03/Latin-Divas-2023LVCVA_0DB64ADE-C960-31ED-2D86054B5-1-e1679694337499.jpg
END:VEVENT
BEGIN:VEVENT
DTSTART;TZID=America/Phoenix:20230505T200000
DTEND;TZID=America/Phoenix:20230505T220000
DTSTAMP:20260425T190020
CREATED:20230324T215409Z
LAST-MODIFIED:20230324T220928Z
UID:10007359-1683316800-1683324000@murphydeals.com
SUMMARY:Latin Divas–Starring Adelaide Pilar at Don Laughlin’s Riverside Resort in Laughlin
DESCRIPTION:Adelaide is a LA based artist originally from Texas who’s career has brought her to many platforms from stages\, recordings\, and television. Starting with a Bachelor’s Degree in Jazz Studies from Texas State University and a Masters degree in Afro-Latin Music from CalState LA\, she then became a member of the two time Grammy award winning Mariachi Divas in 2006. In 2010 she left the group to pursue her own projects. Since then she has developed 3 popular bands/shows in which she leads singing and playing trumpet. These bands play consistently at venues such as the Disneyland Resort\, Knotts Berry Farm\, festivals\, casinos\, and more. She  has also released  2 albums: Como Será and the very recent Reflexiones  de mi Mente along with  several music videos. In 2018\, she was a contestant on La Voz Mexico and has backed up famous artists such Christian Nodal\, Lupita Infante\, Ana Barbara\, Ozomatli\, Albita\, Barbara Mason\, La Yuri\, La India\, Maluma\, and Miguel Bose. \n\nShow Time 8:00 PM PST\nFloor Seats: $38.00 + $4.36 SVC CHG + Tax\nRiser Seats: $32.00 + $4.36 SVC CHG + Tax\nLocals: Floor Seats $33.00 + $4.36 SVC CHG + Tax\nLocals: Riser Seats $28.00 + $4.36 SVC CHG + Tax\n\nBUY TICKETS  \n  \n 
URL:https://murphydeals.com/event/latin-divas-starring-adelaide-pilar-at-don-laughlins-riverside-resort-hotel-casino-in-laughlin/2023-05-05/
LOCATION:Don Laughlin’s Riverside Resort Hotel and Casino\, 1650 S Casino Drive\, Laughlin\, Nevada\, 89029
CATEGORIES:Music | Concerts
ATTACH;FMTTYPE=image/jpeg:https://murphydeals.com/wp-content/uploads/2023/03/Latin-Divas-2023LVCVA_0DB64ADE-C960-31ED-2D86054B5-1-e1679694337499.jpg
END:VEVENT
BEGIN:VEVENT
DTSTART;TZID=America/Phoenix:20230504T200000
DTEND;TZID=America/Phoenix:20230504T220000
DTSTAMP:20260425T190020
CREATED:20230324T215409Z
LAST-MODIFIED:20230324T220928Z
UID:10007358-1683230400-1683237600@murphydeals.com
SUMMARY:Latin Divas–Starring Adelaide Pilar at Don Laughlin’s Riverside Resort in Laughlin
DESCRIPTION:Adelaide is a LA based artist originally from Texas who’s career has brought her to many platforms from stages\, recordings\, and television. Starting with a Bachelor’s Degree in Jazz Studies from Texas State University and a Masters degree in Afro-Latin Music from CalState LA\, she then became a member of the two time Grammy award winning Mariachi Divas in 2006. In 2010 she left the group to pursue her own projects. Since then she has developed 3 popular bands/shows in which she leads singing and playing trumpet. These bands play consistently at venues such as the Disneyland Resort\, Knotts Berry Farm\, festivals\, casinos\, and more. She  has also released  2 albums: Como Será and the very recent Reflexiones  de mi Mente along with  several music videos. In 2018\, she was a contestant on La Voz Mexico and has backed up famous artists such Christian Nodal\, Lupita Infante\, Ana Barbara\, Ozomatli\, Albita\, Barbara Mason\, La Yuri\, La India\, Maluma\, and Miguel Bose. \n\nShow Time 8:00 PM PST\nFloor Seats: $38.00 + $4.36 SVC CHG + Tax\nRiser Seats: $32.00 + $4.36 SVC CHG + Tax\nLocals: Floor Seats $33.00 + $4.36 SVC CHG + Tax\nLocals: Riser Seats $28.00 + $4.36 SVC CHG + Tax\n\nBUY TICKETS  \n  \n 
URL:https://murphydeals.com/event/latin-divas-starring-adelaide-pilar-at-don-laughlins-riverside-resort-hotel-casino-in-laughlin/2023-05-04/
LOCATION:Don Laughlin’s Riverside Resort Hotel and Casino\, 1650 S Casino Drive\, Laughlin\, Nevada\, 89029
CATEGORIES:Music | Concerts
ATTACH;FMTTYPE=image/jpeg:https://murphydeals.com/wp-content/uploads/2023/03/Latin-Divas-2023LVCVA_0DB64ADE-C960-31ED-2D86054B5-1-e1679694337499.jpg
END:VEVENT
BEGIN:VEVENT
DTSTART;TZID=America/Phoenix:20230503T200000
DTEND;TZID=America/Phoenix:20230503T220000
DTSTAMP:20260425T190020
CREATED:20230324T215409Z
LAST-MODIFIED:20230324T220928Z
UID:10007357-1683144000-1683151200@murphydeals.com
SUMMARY:Latin Divas–Starring Adelaide Pilar at Don Laughlin’s Riverside Resort in Laughlin
DESCRIPTION:Adelaide is a LA based artist originally from Texas who’s career has brought her to many platforms from stages\, recordings\, and television. Starting with a Bachelor’s Degree in Jazz Studies from Texas State University and a Masters degree in Afro-Latin Music from CalState LA\, she then became a member of the two time Grammy award winning Mariachi Divas in 2006. In 2010 she left the group to pursue her own projects. Since then she has developed 3 popular bands/shows in which she leads singing and playing trumpet. These bands play consistently at venues such as the Disneyland Resort\, Knotts Berry Farm\, festivals\, casinos\, and more. She  has also released  2 albums: Como Será and the very recent Reflexiones  de mi Mente along with  several music videos. In 2018\, she was a contestant on La Voz Mexico and has backed up famous artists such Christian Nodal\, Lupita Infante\, Ana Barbara\, Ozomatli\, Albita\, Barbara Mason\, La Yuri\, La India\, Maluma\, and Miguel Bose. \n\nShow Time 8:00 PM PST\nFloor Seats: $38.00 + $4.36 SVC CHG + Tax\nRiser Seats: $32.00 + $4.36 SVC CHG + Tax\nLocals: Floor Seats $33.00 + $4.36 SVC CHG + Tax\nLocals: Riser Seats $28.00 + $4.36 SVC CHG + Tax\n\nBUY TICKETS  \n  \n 
URL:https://murphydeals.com/event/latin-divas-starring-adelaide-pilar-at-don-laughlins-riverside-resort-hotel-casino-in-laughlin/2023-05-03/
LOCATION:Don Laughlin’s Riverside Resort Hotel and Casino\, 1650 S Casino Drive\, Laughlin\, Nevada\, 89029
CATEGORIES:Music | Concerts
ATTACH;FMTTYPE=image/jpeg:https://murphydeals.com/wp-content/uploads/2023/03/Latin-Divas-2023LVCVA_0DB64ADE-C960-31ED-2D86054B5-1-e1679694337499.jpg
END:VEVENT
END:VCALENDAR