BEGIN:VCALENDAR
VERSION:2.0
PRODID:-//Murphy Deals - ECPv6.15.20//NONSGML v1.0//EN
CALSCALE:GREGORIAN
METHOD:PUBLISH
X-ORIGINAL-URL:https://murphydeals.com
X-WR-CALDESC:Events for Murphy Deals
REFRESH-INTERVAL;VALUE=DURATION:PT1H
X-Robots-Tag:noindex
X-PUBLISHED-TTL:PT1H
BEGIN:VTIMEZONE
TZID:America/Phoenix
BEGIN:STANDARD
TZOFFSETFROM:-0700
TZOFFSETTO:-0700
TZNAME:MST
DTSTART:20220101T000000
END:STANDARD
END:VTIMEZONE
BEGIN:VEVENT
DTSTART;TZID=America/Phoenix:20230626T170000
DTEND;TZID=America/Phoenix:20230626T200000
DTSTAMP:20260425T123120
CREATED:20230612T233400Z
LAST-MODIFIED:20230612T233400Z
UID:10008256-1687798800-1687809600@murphydeals.com
SUMMARY:Pizza & Beer Sampling at Laughlin Ranch
DESCRIPTION:
URL:https://murphydeals.com/event/pizza-beer-sampling-at-laughlin-ranch/
LOCATION:Laughlin Ranch\, 1360 William Hardy Dr\, Bullhead City\, AZ\, 86429\, United States
CATEGORIES:Event
ATTACH;FMTTYPE=image/jpeg:https://murphydeals.com/wp-content/uploads/2023/06/italian-pizza-served-with-a-beer-glass-2021-08-28-17-22-02-utc-1-e1686612748246.jpg
END:VEVENT
BEGIN:VEVENT
DTSTART;TZID=America/Phoenix:20230618T090000
DTEND;TZID=America/Phoenix:20230618T140000
DTSTAMP:20260425T123120
CREATED:20230605T223807Z
LAST-MODIFIED:20230605T223807Z
UID:10008222-1687078800-1687096800@murphydeals.com
SUMMARY:Father's Day Brunch Buffet at Laughlin Ranch
DESCRIPTION:
URL:https://murphydeals.com/event/fathers-day-brunch-buffet-at-laughlin-ranch/
LOCATION:Laughlin Ranch\, 1360 William Hardy Dr\, Bullhead City\, AZ\, 86429\, United States
CATEGORIES:Event
ATTACH;FMTTYPE=image/jpeg:https://murphydeals.com/wp-content/uploads/2023/06/Fathersdaybrunch-e1686004580271.jpg
END:VEVENT
BEGIN:VEVENT
DTSTART;TZID=America/Phoenix:20230617T070000
DTEND;TZID=America/Phoenix:20230617T130000
DTSTAMP:20260425T123120
CREATED:20230612T230752Z
LAST-MODIFIED:20230612T230752Z
UID:10008255-1686985200-1687006800@murphydeals.com
SUMMARY:BAD CARDS Golf Tournament at Laughlin Ranch
DESCRIPTION:Come participate in the super fun Bad Card Fore Good Golfers Golf Tournament at Laughlin Ranch!  Pick a new card at every hole in this amusing new way of playing golf!
URL:https://murphydeals.com/event/bad-cards-golf-tournament-at-laughlin-ranch/
LOCATION:Laughlin Ranch\, 1360 William Hardy Dr\, Bullhead City\, AZ\, 86429\, United States
CATEGORIES:Event
ATTACH;FMTTYPE=image/jpeg:https://murphydeals.com/wp-content/uploads/2023/06/ranchgolf-1-1-e1686611011328.jpg
END:VEVENT
BEGIN:VEVENT
DTSTART;TZID=America/Phoenix:20230529T080000
DTEND;TZID=America/Phoenix:20230529T120000
DTSTAMP:20260425T123120
CREATED:20230522T191452Z
LAST-MODIFIED:20230522T191452Z
UID:10007837-1685347200-1685361600@murphydeals.com
SUMMARY:Memorial Day Golf Tournament at Laughlin Ranch in Bullhead
DESCRIPTION:Come participate in The Laughlin Ranch 2nd Annual Memorial Day Golf Tournament.  Enjoy golf\, food\, drinks & prizes\, with a chance to win a YEAR Membership!  Call the golf pro shop to reserve your spot. If you do not have 4 players\, the golf club will pair you with someone.  Shotgun start is 8:00 AM.
URL:https://murphydeals.com/event/memorial-day-golf-tournament-at-laughlin-ranch-in-bullhead/
LOCATION:Laughlin Ranch\, 1360 William Hardy Dr\, Bullhead City\, AZ\, 86429\, United States
CATEGORIES:Event,Sports | Activities
ATTACH;FMTTYPE=image/jpeg:https://murphydeals.com/wp-content/uploads/2023/05/golf-club-and-ball-on-the-golf-course-2021-09-13-18-32-54-utc-1-e1684782335899.jpg
END:VEVENT
BEGIN:VEVENT
DTSTART;TZID=America/Phoenix:20230526T160000
DTEND;TZID=America/Phoenix:20230526T210000
DTSTAMP:20260425T123120
CREATED:20230522T175240Z
LAST-MODIFIED:20230522T185333Z
UID:10007836-1685116800-1685134800@murphydeals.com
SUMMARY:Seafood Buffet at Laughlin Ranch in Bullhead
DESCRIPTION:Come enjoy the All You Can Eat Seafood Buffet at beautiful Laughlin Ranch!  Call to book your reservation for the delicious shrimp\, fish\, oysters\, crab & more. \n \n$48 per person~ All You Can Eat Buffet! \n 
URL:https://murphydeals.com/event/seafood-buffet-at-laughlin-ranch/
LOCATION:Laughlin Ranch\, 1360 William Hardy Dr\, Bullhead City\, AZ\, 86429\, United States
CATEGORIES:Event
ATTACH;FMTTYPE=image/jpeg:https://murphydeals.com/wp-content/uploads/2023/05/delicious-cooked-shrimp-crab-and-crayfish-2021-08-30-03-53-05-utc-1-e1684781251482.jpg
END:VEVENT
BEGIN:VEVENT
DTSTART;TZID=America/Phoenix:20230517T180000
DTEND;TZID=America/Phoenix:20230517T210000
DTSTAMP:20260425T123120
CREATED:20230508T231848Z
LAST-MODIFIED:20230515T201916Z
UID:10007799-1684346400-1684357200@murphydeals.com
SUMMARY:Whiskey & Cigar Night at Laughlin Ranch
DESCRIPTION:Come enjoy the music and fans of Tyler Halsey at Laughlin Ranch.  In this gorgeous outdoor setting\, you can sip a cocktail\, smoke a cigar and relax with your friends.
URL:https://murphydeals.com/event/live-music-night-at-laughlin-ranch-in-bullhead/
LOCATION:Laughlin Ranch\, 1360 William Hardy Dr\, Bullhead City\, AZ\, 86429\, United States
CATEGORIES:Event
ATTACH;FMTTYPE=image/jpeg:https://murphydeals.com/wp-content/uploads/2023/05/Cigar_and_Whiskey_1676515070-e1684181875806.jpg
END:VEVENT
BEGIN:VEVENT
DTSTART;TZID=America/Phoenix:20230510T180000
DTEND;TZID=America/Phoenix:20230510T200000
DTSTAMP:20260425T123120
CREATED:20230508T224228Z
LAST-MODIFIED:20230508T224228Z
UID:10007795-1683741600-1683748800@murphydeals.com
SUMMARY:Trivia Night at Laughlin Ranch in Bullhead
DESCRIPTION:
URL:https://murphydeals.com/event/trivia-night-at-laughlin-ranch-in-bullhead/
LOCATION:Laughlin Ranch\, 1360 William Hardy Dr\, Bullhead City\, AZ\, 86429\, United States
CATEGORIES:Event
ATTACH;FMTTYPE=image/jpeg:https://murphydeals.com/wp-content/uploads/2023/05/Trivia_Night_May-1-e1683585680984.jpg
END:VEVENT
BEGIN:VEVENT
DTSTART;TZID=America/Phoenix:20230424T183000
DTEND;TZID=America/Phoenix:20230424T200000
DTSTAMP:20260425T123120
CREATED:20230421T180145Z
LAST-MODIFIED:20230421T180145Z
UID:10007567-1682361000-1682366400@murphydeals.com
SUMMARY:Dog Seminar at Laughlin Ranch Country Club in Bullhead
DESCRIPTION:
URL:https://murphydeals.com/event/dog-seminar-at-laughlin-ranch-country-club-in-bullhead/
LOCATION:Laughlin Ranch\, 1360 William Hardy Dr\, Bullhead City\, AZ\, 86429\, United States
CATEGORIES:Event
ATTACH;FMTTYPE=image/jpeg:https://murphydeals.com/wp-content/uploads/2023/04/dog-2022-11-10-09-54-47-utc-1-e1682099829552.jpg
END:VEVENT
BEGIN:VEVENT
DTSTART;TZID=America/Phoenix:20230415T120000
DTEND;TZID=America/Phoenix:20230415T140000
DTSTAMP:20260425T123120
CREATED:20220711T220846Z
LAST-MODIFIED:20230404T202710Z
UID:10001647-1681560000-1681567200@murphydeals.com
SUMMARY:Cornhole Tournament hosted at Bullhead Community Park in Bullhead
DESCRIPTION:Cornhole Tournament hosted by Laughlin Ranch at Bullhead Community Park!  Amidst this fun filled event that includes The Great Duck Derby\, Food Trucks\, Beer Garden\, Live Music by Sam Riddle\, a petting zoo\, vendors & more… you and your partner could participate in Laughlin Ranch’s Cornhole Tournament for a mere $5 per person.
URL:https://murphydeals.com/event/cornhole-tournament-2/
LOCATION:Bullhead City Community Park\, 1251 AZ-95\, Bullhead City\, AZ\, 86429
CATEGORIES:Event
ATTACH;FMTTYPE=image/jpeg:https://murphydeals.com/wp-content/uploads/2022/07/cornhole-1-e1680639935893.jpg
END:VEVENT
BEGIN:VEVENT
DTSTART;TZID=America/Phoenix:20230407T170000
DTEND;TZID=America/Phoenix:20230407T190000
DTSTAMP:20260425T123120
CREATED:20230404T173600Z
LAST-MODIFIED:20230404T173600Z
UID:10007439-1680886800-1680894000@murphydeals.com
SUMMARY:Easter Egg Hunt at Laughlin Ranch Golf Course in Bullhead
DESCRIPTION:Come enjoy a 10\,000 Egg Hunt at Laughlin Ranch!  Bring the kids for this generously sponsored event which will include basket drawings\, face painting\, Easter Bunny photos\, popcorn & soda for all to enjoy.
URL:https://murphydeals.com/event/easter-egg-hunt-at-laughlin-ranch-golf-course-in-bullhead/
LOCATION:Laughlin Ranch\, 1360 William Hardy Dr\, Bullhead City\, AZ\, 86429\, United States
CATEGORIES:Event
ATTACH;FMTTYPE=image/jpeg:https://murphydeals.com/wp-content/uploads/2023/04/Easter_Egg_Hunt-2-e1680629737424.jpg
END:VEVENT
END:VCALENDAR