BEGIN:VCALENDAR
VERSION:2.0
PRODID:-//Murphy Deals - ECPv6.15.20//NONSGML v1.0//EN
CALSCALE:GREGORIAN
METHOD:PUBLISH
X-WR-CALNAME:Murphy Deals
X-ORIGINAL-URL:https://murphydeals.com
X-WR-CALDESC:Events for Murphy Deals
REFRESH-INTERVAL;VALUE=DURATION:PT1H
X-Robots-Tag:noindex
X-PUBLISHED-TTL:PT1H
BEGIN:VTIMEZONE
TZID:America/Phoenix
BEGIN:STANDARD
TZOFFSETFROM:-0700
TZOFFSETTO:-0700
TZNAME:MST
DTSTART:20220101T000000
END:STANDARD
END:VTIMEZONE
BEGIN:VEVENT
DTSTART;TZID=America/Phoenix:20230204T190000
DTEND;TZID=America/Phoenix:20230204T220000
DTSTAMP:20260425T141654
CREATED:20230109T195848Z
LAST-MODIFIED:20230109T200632Z
UID:10006894-1675537200-1675548000@murphydeals.com
SUMMARY:AZ Pride Tour at London Bridge Resort Convention Center
DESCRIPTION:Miss Nature\, LLC will be returning to Havasu to produce yet another magical night of entertainment for the LGBTQIA+ community and our supporters. The event will consist of some of Arizona’s best talent including a Selena impersonator! \nIn the show will be the talents of: \n– Sandra X-Tasy\n– Fernanda Vargas-West\n– Carmela S. Latte\n– Charli Angel\n\nStarting July 1\, Tickets are $20 and are only available online ; they will not be available at the door (see below recommendations).\nFor up-to-date information please visit Facebook \nNO REFUNDS. TICKETS WILL ONLY BE SOLD ONLINE AND WILL NOT BE AVAILABLE FOR PURCHASE AT THE DOOR. WE HIGHLY RECOMMEND YOU PRINTING OFF AN ETICKET TO MAKE THE PROCESS EASIER AT THE DOOR. SHOULD YOU CHOOSE WILL CALL\, PLEASE EXPECT TO WAIT AT THE DOOR LONGER THAN OTHERS. \nAttendees younger than 18 years old must be accompanied by a parent. The show will consist of some adult content (language). Please be advised. A cash bar is available for those who are old enough to partake in drinking.
URL:https://murphydeals.com/event/az-pride-tour-at-london-bridge-resort-convention-center/
LOCATION:London Bridge Convention Center\, 1477 Queens Bay\, Lake Havasu City\, AZ\, 86403\, United States
CATEGORIES:Event
ATTACH;FMTTYPE=image/jpeg:https://murphydeals.com/wp-content/uploads/2023/01/maxresdefault-e1673294779976.jpg
END:VEVENT
END:VCALENDAR