BEGIN:VCALENDAR
VERSION:2.0
PRODID:-//Murphy Deals - ECPv6.15.20//NONSGML v1.0//EN
CALSCALE:GREGORIAN
METHOD:PUBLISH
X-ORIGINAL-URL:https://murphydeals.com
X-WR-CALDESC:Events for Murphy Deals
REFRESH-INTERVAL;VALUE=DURATION:PT1H
X-Robots-Tag:noindex
X-PUBLISHED-TTL:PT1H
BEGIN:VTIMEZONE
TZID:America/Phoenix
BEGIN:STANDARD
TZOFFSETFROM:-0700
TZOFFSETTO:-0700
TZNAME:MST
DTSTART:20220101T000000
END:STANDARD
END:VTIMEZONE
BEGIN:VEVENT
DTSTART;TZID=America/Phoenix:20230519T090000
DTEND;TZID=America/Phoenix:20230520T170000
DTSTAMP:20260425T170952
CREATED:20230508T162548Z
LAST-MODIFIED:20230508T162548Z
UID:10007778-1684486800-1684602000@murphydeals.com
SUMMARY:Friends of the Library Booksale at Mohave County Library in Kingman
DESCRIPTION:WHEN\nFriday\, May 19\, 9am – Saturday\, May 20\, 2023\, 5pm\n\n\nWHERE\nMohave County Library\n3269 North Burbank St.\nKingman\, AZ 86409\n\n\nORGANIZATION NAME:\nKingman Library Friends of the Library\n\n\nBRIEF DESCRIPTION OF MEETING\nFriends of the Library Book Sale\n\n\nLIBRARY BRANCH\nKingman Branch Library / 928-692-2665 / 3269 North Burbank St. – Kingman\, AZ 86409\n\n\n\n\n\n\nDETAILS\n\nFriends of the Library Book Sale
URL:https://murphydeals.com/event/friends-of-the-library-booksale-at-mohave-county-library-in-kingman/
LOCATION:Mohave county Library\, 3269 N Burbank St\, Kingman\, AZ\, 86409\, United States
CATEGORIES:Event
ATTACH;FMTTYPE=image/jpeg:https://murphydeals.com/wp-content/uploads/2023/05/usedbookssale-1-e1683563042929.jpg
END:VEVENT
END:VCALENDAR