BEGIN:VCALENDAR
VERSION:2.0
PRODID:-//Murphy Deals - ECPv6.15.20//NONSGML v1.0//EN
CALSCALE:GREGORIAN
METHOD:PUBLISH
X-WR-CALNAME:Murphy Deals
X-ORIGINAL-URL:https://murphydeals.com
X-WR-CALDESC:Events for Murphy Deals
REFRESH-INTERVAL;VALUE=DURATION:PT1H
X-Robots-Tag:noindex
X-PUBLISHED-TTL:PT1H
BEGIN:VTIMEZONE
TZID:America/Phoenix
BEGIN:STANDARD
TZOFFSETFROM:-0700
TZOFFSETTO:-0700
TZNAME:MST
DTSTART:20220101T000000
END:STANDARD
END:VTIMEZONE
BEGIN:VEVENT
DTSTART;TZID=America/Phoenix:20231007T190000
DTEND;TZID=America/Phoenix:20231007T230000
DTSTAMP:20260425T125059
CREATED:20230726T230219Z
LAST-MODIFIED:20230727T000315Z
UID:10008347-1696705200-1696719600@murphydeals.com
SUMMARY:Little River Band Live at Cliff Castle Hotel Stargazer Pavilion
DESCRIPTION:
URL:https://murphydeals.com/event/little-river-band-live-at-cliff-castle-hotel-stargazer-pavilion/
LOCATION:Cliff Castle Casino Hotel\, 555 Middle Verde Road\, Camp Verde\, AZ\, 86322
CATEGORIES:Music | Concerts
ATTACH;FMTTYPE=image/png:https://murphydeals.com/wp-content/uploads/2023/07/Digital-Little-River-Band-1200x600-3-e1690412200804.png
END:VEVENT
END:VCALENDAR