BEGIN:VCALENDAR
VERSION:2.0
PRODID:-//Murphy Deals - ECPv6.15.20//NONSGML v1.0//EN
CALSCALE:GREGORIAN
METHOD:PUBLISH
X-ORIGINAL-URL:https://murphydeals.com
X-WR-CALDESC:Events for Murphy Deals
REFRESH-INTERVAL;VALUE=DURATION:PT1H
X-Robots-Tag:noindex
X-PUBLISHED-TTL:PT1H
BEGIN:VTIMEZONE
TZID:America/Phoenix
BEGIN:STANDARD
TZOFFSETFROM:-0700
TZOFFSETTO:-0700
TZNAME:MST
DTSTART:20220101T000000
END:STANDARD
END:VTIMEZONE
BEGIN:VEVENT
DTSTART;TZID=America/Phoenix:20231027T180000
DTEND;TZID=America/Phoenix:20231027T210000
DTSTAMP:20260425T190221
CREATED:20221017T214129Z
LAST-MODIFIED:20230927T204045Z
UID:10008422-1698429600-1698440400@murphydeals.com
SUMMARY:Concerts in the Park Havasu
DESCRIPTION:London Bridge Beach\nMcCulloch Blvd N & Beachcomber Blvd\nLake Havasu City\, AZ 86403
URL:https://murphydeals.com/event/concerts-in-the-park-fall-series-london-bridge-beach/2023-10-27/
LOCATION:London Bridge Beach\, 1340 McCulloch Boulevard North\, Lake Havasu City\, AZ\, 86403\, United States
CATEGORIES:Event,Music | Concerts
ATTACH;FMTTYPE=image/jpeg:https://murphydeals.com/wp-content/uploads/2022/10/concerts-in-the-park-1-e1695847044703.jpg
END:VEVENT
BEGIN:VEVENT
DTSTART;TZID=America/Phoenix:20231020T180000
DTEND;TZID=America/Phoenix:20231020T210000
DTSTAMP:20260425T190221
CREATED:20221017T214129Z
LAST-MODIFIED:20230927T204045Z
UID:10008421-1697824800-1697835600@murphydeals.com
SUMMARY:Concerts in the Park Havasu
DESCRIPTION:London Bridge Beach\nMcCulloch Blvd N & Beachcomber Blvd\nLake Havasu City\, AZ 86403
URL:https://murphydeals.com/event/concerts-in-the-park-fall-series-london-bridge-beach/2023-10-20/
LOCATION:London Bridge Beach\, 1340 McCulloch Boulevard North\, Lake Havasu City\, AZ\, 86403\, United States
CATEGORIES:Event,Music | Concerts
ATTACH;FMTTYPE=image/jpeg:https://murphydeals.com/wp-content/uploads/2022/10/concerts-in-the-park-1-e1695847044703.jpg
END:VEVENT
BEGIN:VEVENT
DTSTART;TZID=America/Phoenix:20231013T180000
DTEND;TZID=America/Phoenix:20231013T210000
DTSTAMP:20260425T190221
CREATED:20221017T214129Z
LAST-MODIFIED:20230927T204045Z
UID:10008420-1697220000-1697230800@murphydeals.com
SUMMARY:Concerts in the Park Havasu
DESCRIPTION:London Bridge Beach\nMcCulloch Blvd N & Beachcomber Blvd\nLake Havasu City\, AZ 86403
URL:https://murphydeals.com/event/concerts-in-the-park-fall-series-london-bridge-beach/2023-10-13/
LOCATION:London Bridge Beach\, 1340 McCulloch Boulevard North\, Lake Havasu City\, AZ\, 86403\, United States
CATEGORIES:Event,Music | Concerts
ATTACH;FMTTYPE=image/jpeg:https://murphydeals.com/wp-content/uploads/2022/10/concerts-in-the-park-1-e1695847044703.jpg
END:VEVENT
BEGIN:VEVENT
DTSTART;TZID=America/Phoenix:20231006T180000
DTEND;TZID=America/Phoenix:20231006T210000
DTSTAMP:20260425T190221
CREATED:20221017T214129Z
LAST-MODIFIED:20230927T204045Z
UID:10008419-1696615200-1696626000@murphydeals.com
SUMMARY:Concerts in the Park Havasu
DESCRIPTION:London Bridge Beach\nMcCulloch Blvd N & Beachcomber Blvd\nLake Havasu City\, AZ 86403
URL:https://murphydeals.com/event/concerts-in-the-park-fall-series-london-bridge-beach/2023-10-06/
LOCATION:London Bridge Beach\, 1340 McCulloch Boulevard North\, Lake Havasu City\, AZ\, 86403\, United States
CATEGORIES:Event,Music | Concerts
ATTACH;FMTTYPE=image/jpeg:https://murphydeals.com/wp-content/uploads/2022/10/concerts-in-the-park-1-e1695847044703.jpg
END:VEVENT
END:VCALENDAR