BEGIN:VCALENDAR
VERSION:2.0
PRODID:-//Murphy Deals - ECPv6.15.20//NONSGML v1.0//EN
CALSCALE:GREGORIAN
METHOD:PUBLISH
X-ORIGINAL-URL:https://murphydeals.com
X-WR-CALDESC:Events for Murphy Deals
REFRESH-INTERVAL;VALUE=DURATION:PT1H
X-Robots-Tag:noindex
X-PUBLISHED-TTL:PT1H
BEGIN:VTIMEZONE
TZID:America/Phoenix
BEGIN:STANDARD
TZOFFSETFROM:-0700
TZOFFSETTO:-0700
TZNAME:MST
DTSTART:20220101T000000
END:STANDARD
END:VTIMEZONE
BEGIN:VEVENT
DTSTART;TZID=America/Phoenix:20230506T070000
DTEND;TZID=America/Phoenix:20230506T160000
DTSTAMP:20260425T161627
CREATED:20230417T230633Z
LAST-MODIFIED:20230417T230633Z
UID:10007543-1683356400-1683388800@murphydeals.com
SUMMARY:Kingman Grand Prix at Long Mountain Event Center in Kingman
DESCRIPTION:AZOP Kingman Grand Prix – Round 5\nMay 6th – 7th\, 2023\nKingman\, AZ\nUTV registration is now open: https://www.azopracing.com/pages/register/rentry.php?dXR2LDIwMjMtMDQtMDE= \nRegistration will close on Wednesday\, April 26. \nOnce registration closes\, you can still register in person at the event. \n2 days of racing (points for both days) You can Race one day or both. \nGate: Friday 2pm-10pm\, Sat 6am-10pm\, Sun 6:30am \nRegistration/Tech: Friday 7pm-9pm at the track\, Saturday 6am-12pm\, Sunday 6:30am-12pm \nLocation: Long Mountain Event Center: \nCoordinates: 35.32123\, -113.97372\nI-40 to Andy Devine and go East on Highway Rt 66 toward the airport\, turn left at the airport light\, go down not quite a mile and turn right on Avenida Verde\, take that road a couple miles right into gate one and follow signs. (Kingman Arizona) \nEvent Schedule: AZOP Kingman Grand Prix\nSaturday\n\n\nStacyc – 7:00am – Stacyc E Bike Race – 10 Min\nPractice – 7:30am – Bike Unclassified (Minis one lap) – 15 Min\nPractice – 7:50am – Quad Unclassified (Minis one lap) – 15 Min\nRace 1 – 8:15am – Mini Bikes/Pull StartsPit Bikes/WomenC/Vintage – 35 Min\nRace 2 – 9:00am – All Big Bikes – 45 Min\nPractice – 10:00am – UTV Unclassified & 570cc/1000cc restrictor – 15 Min\nRace 3 – 10:30am – All Big Quads/Trikes – 45 Min\nRace 4 – 11:30am – UTV 570cc/Youth 1000cc – 35 Min\nRace 5 – 12:15pm – UTV 1000 NA/RS1/Youth 1000cc – 45 Min\nRace 6 – 1:15pm – UTV 1000 Turbo/PRO’s/Open – 45 Min\nRace 7 – 2:15pm – Mini Quads – 35 Min\nRace 8 – 3:00pm – UTV 170cc Intermediate/Advanced – 25 Min\nRace 9 – 3:30pm – Pee Wee Quads – 25 Min\nRace 10 – 4:00pm – UTV 170cc Beginner/250cc – 25 Min\nRace 11 – 4:30pm – Pee Wee Bikes 50cc/65C – 25 Min \nSunday (No Practice)\nStacyc – 7:00am – Stacyc E Bike Race – 10 Min\nRace 1 – 7:30am – All Big Bikes – 45 Min\nRace 2 – 8:20am – Mini Bikes 80-150cc\, 65A/B/ Women C /Vintage – 35 Min\nRace 3 – 9:00am – All Big Quads/Trikes – 45 Min\nRace 4 – 10:00am – UTV 1000 NA/RS1/Youth 1000cc – 45 Min\nRace 5 – 11:00am – UTV 1000 Turbo/PRO’s/Open – 45 Min\nRace 6 – 12:00pm – Mini Quads – 35 Min\nRace 7 – 12:45pm – UTV 570cc/Youth 1000cc – 35 Min\nRace 8 – 1:30pm – UTV 170cc Intermediate/Advanced – 25 Min\nRace 9 – 2:00pm – Pee Wee Quads – 25 Min\nRace 10 – 2:30pm – UTV 170cc Beginner/250cc – 25 Min\nRace 11 – 3:00pm – Pee Wee Bikes 50cc/65C – 25 Min \n*All race times are approximate – the next race will start when the course is clear and safe for everyone. It is your responsibility to be ready and on the line when your race starts. \n\n\nPlease visit AZOPracing.com for more info. \n 
URL:https://murphydeals.com/event/kingman-grand-prix-at-long-mountain-event-center-in-kingman/2023-05-06/
LOCATION:Long Mountain Event Center\, Kingman Arizona\, 2474 Armour Ave Unit 1\, Kingman\, AZ\, 86409
CATEGORIES:Event
ATTACH;FMTTYPE=image/jpeg:https://murphydeals.com/wp-content/uploads/2023/04/kingman-e1681772742215.jpg
END:VEVENT
BEGIN:VEVENT
DTSTART;TZID=America/Phoenix:20230507T070000
DTEND;TZID=America/Phoenix:20230507T140000
DTSTAMP:20260425T161627
CREATED:20230417T230633Z
LAST-MODIFIED:20230417T230633Z
UID:10007544-1683442800-1683468000@murphydeals.com
SUMMARY:Kingman Grand Prix at Long Mountain Event Center in Kingman
DESCRIPTION:AZOP Kingman Grand Prix – Round 5\nMay 6th – 7th\, 2023\nKingman\, AZ\nUTV registration is now open: https://www.azopracing.com/pages/register/rentry.php?dXR2LDIwMjMtMDQtMDE= \nRegistration will close on Wednesday\, April 26. \nOnce registration closes\, you can still register in person at the event. \n2 days of racing (points for both days) You can Race one day or both. \nGate: Friday 2pm-10pm\, Sat 6am-10pm\, Sun 6:30am \nRegistration/Tech: Friday 7pm-9pm at the track\, Saturday 6am-12pm\, Sunday 6:30am-12pm \nLocation: Long Mountain Event Center: \nCoordinates: 35.32123\, -113.97372\nI-40 to Andy Devine and go East on Highway Rt 66 toward the airport\, turn left at the airport light\, go down not quite a mile and turn right on Avenida Verde\, take that road a couple miles right into gate one and follow signs. (Kingman Arizona) \nEvent Schedule: AZOP Kingman Grand Prix\nSaturday\n\n\nStacyc – 7:00am – Stacyc E Bike Race – 10 Min\nPractice – 7:30am – Bike Unclassified (Minis one lap) – 15 Min\nPractice – 7:50am – Quad Unclassified (Minis one lap) – 15 Min\nRace 1 – 8:15am – Mini Bikes/Pull StartsPit Bikes/WomenC/Vintage – 35 Min\nRace 2 – 9:00am – All Big Bikes – 45 Min\nPractice – 10:00am – UTV Unclassified & 570cc/1000cc restrictor – 15 Min\nRace 3 – 10:30am – All Big Quads/Trikes – 45 Min\nRace 4 – 11:30am – UTV 570cc/Youth 1000cc – 35 Min\nRace 5 – 12:15pm – UTV 1000 NA/RS1/Youth 1000cc – 45 Min\nRace 6 – 1:15pm – UTV 1000 Turbo/PRO’s/Open – 45 Min\nRace 7 – 2:15pm – Mini Quads – 35 Min\nRace 8 – 3:00pm – UTV 170cc Intermediate/Advanced – 25 Min\nRace 9 – 3:30pm – Pee Wee Quads – 25 Min\nRace 10 – 4:00pm – UTV 170cc Beginner/250cc – 25 Min\nRace 11 – 4:30pm – Pee Wee Bikes 50cc/65C – 25 Min \nSunday (No Practice)\nStacyc – 7:00am – Stacyc E Bike Race – 10 Min\nRace 1 – 7:30am – All Big Bikes – 45 Min\nRace 2 – 8:20am – Mini Bikes 80-150cc\, 65A/B/ Women C /Vintage – 35 Min\nRace 3 – 9:00am – All Big Quads/Trikes – 45 Min\nRace 4 – 10:00am – UTV 1000 NA/RS1/Youth 1000cc – 45 Min\nRace 5 – 11:00am – UTV 1000 Turbo/PRO’s/Open – 45 Min\nRace 6 – 12:00pm – Mini Quads – 35 Min\nRace 7 – 12:45pm – UTV 570cc/Youth 1000cc – 35 Min\nRace 8 – 1:30pm – UTV 170cc Intermediate/Advanced – 25 Min\nRace 9 – 2:00pm – Pee Wee Quads – 25 Min\nRace 10 – 2:30pm – UTV 170cc Beginner/250cc – 25 Min\nRace 11 – 3:00pm – Pee Wee Bikes 50cc/65C – 25 Min \n*All race times are approximate – the next race will start when the course is clear and safe for everyone. It is your responsibility to be ready and on the line when your race starts. \n\n\nPlease visit AZOPracing.com for more info. \n 
URL:https://murphydeals.com/event/kingman-grand-prix-at-long-mountain-event-center-in-kingman/2023-05-07/
LOCATION:Long Mountain Event Center\, Kingman Arizona\, 2474 Armour Ave Unit 1\, Kingman\, AZ\, 86409
CATEGORIES:Event
ATTACH;FMTTYPE=image/jpeg:https://murphydeals.com/wp-content/uploads/2023/04/kingman-e1681772742215.jpg
END:VEVENT
END:VCALENDAR