BEGIN:VCALENDAR
VERSION:2.0
PRODID:-//Murphy Deals - ECPv6.15.20//NONSGML v1.0//EN
CALSCALE:GREGORIAN
METHOD:PUBLISH
X-ORIGINAL-URL:https://murphydeals.com
X-WR-CALDESC:Events for Murphy Deals
REFRESH-INTERVAL;VALUE=DURATION:PT1H
X-Robots-Tag:noindex
X-PUBLISHED-TTL:PT1H
BEGIN:VTIMEZONE
TZID:America/Phoenix
BEGIN:STANDARD
TZOFFSETFROM:-0700
TZOFFSETTO:-0700
TZNAME:MST
DTSTART:20220101T000000
END:STANDARD
END:VTIMEZONE
BEGIN:VEVENT
DTSTART;TZID=America/Phoenix:20231104T110000
DTEND;TZID=America/Phoenix:20231104T170000
DTSTAMP:20260425T075157
CREATED:20230929T212020Z
LAST-MODIFIED:20230929T212104Z
UID:10008425-1699095600-1699117200@murphydeals.com
SUMMARY:BIGHORN CHILI COOK OFF!
DESCRIPTION:
URL:https://murphydeals.com/event/bighorn-chili-cook-off/
LOCATION:Havasu Riviera Marina\, 2067 Havasu Riviera Parkway\, Lake Havasu City\, AZ\, 86406\, United States
CATEGORIES:Festival,Music | Concerts
ATTACH;FMTTYPE=image/jpeg:https://murphydeals.com/wp-content/uploads/2023/09/MCC-chili-cook-off-POSTER-11x17-QR-F092803_page-0001-1-scaled-e1696022345987.jpg
END:VEVENT
BEGIN:VEVENT
DTSTART;TZID=America/Phoenix:20230617T200000
DTEND;TZID=America/Phoenix:20230617T223000
DTSTAMP:20260425T075157
CREATED:20230123T231818Z
LAST-MODIFIED:20230605T182526Z
UID:10008214-1687032000-1687041000@murphydeals.com
SUMMARY:Matt Farris at The Flying X Saloon
DESCRIPTION:A true entertainer showcasing high energy\, passion and artistic integrity\, Matt Farris is diligent in his career while giving back all the love he receives from his audience – creating a connection with his fans unlike any other. Never complacent\, the Billboard charting artist embracing the roots of country music while integrating influences from other genres such as pop and rock. Showing himself as a force to be reckoned with\, Matt Farris teamed up with Laminate Entertainment to create his greatest work yet – Keepin’ It Real \n 
URL:https://murphydeals.com/event/matt-farris-at-chowderfest/2023-06-17/
LOCATION:Flying X Saloon\, 2030 McCulloch Blvd N\, Lake Havasu City\, AZ\, 86403
CATEGORIES:Event,Music | Concerts
ATTACH;FMTTYPE=image/jpeg:https://murphydeals.com/wp-content/uploads/2023/01/MattFarris-e1674678547949.jpg
END:VEVENT
BEGIN:VEVENT
DTSTART;TZID=America/Phoenix:20230616T200000
DTEND;TZID=America/Phoenix:20230616T223000
DTSTAMP:20260425T075157
CREATED:20230123T231818Z
LAST-MODIFIED:20230605T182526Z
UID:10008213-1686945600-1686954600@murphydeals.com
SUMMARY:Matt Farris at The Flying X Saloon
DESCRIPTION:A true entertainer showcasing high energy\, passion and artistic integrity\, Matt Farris is diligent in his career while giving back all the love he receives from his audience – creating a connection with his fans unlike any other. Never complacent\, the Billboard charting artist embracing the roots of country music while integrating influences from other genres such as pop and rock. Showing himself as a force to be reckoned with\, Matt Farris teamed up with Laminate Entertainment to create his greatest work yet – Keepin’ It Real \n 
URL:https://murphydeals.com/event/matt-farris-at-chowderfest/2023-06-16/
LOCATION:Flying X Saloon\, 2030 McCulloch Blvd N\, Lake Havasu City\, AZ\, 86403
CATEGORIES:Event,Music | Concerts
ATTACH;FMTTYPE=image/jpeg:https://murphydeals.com/wp-content/uploads/2023/01/MattFarris-e1674678547949.jpg
END:VEVENT
BEGIN:VEVENT
DTSTART;TZID=America/Phoenix:20230506T200000
DTEND;TZID=America/Phoenix:20230506T230000
DTSTAMP:20260425T075157
CREATED:20230424T192311Z
LAST-MODIFIED:20230505T193823Z
UID:10007606-1683403200-1683414000@murphydeals.com
SUMMARY:Matt Farris at Bluewater Resort in Parker
DESCRIPTION:A true entertainer showcasing high energy\, passion and artistic integrity\, Matt Farris is diligent in his career while giving back all the love he receives from his audience – creating a connection with his fans unlike any other. Never complacent\, the Billboard charting artist embracing the roots of country music while integrating influences from other genres such as pop and rock. Showing himself as a force to be reckoned with\, Matt Farris teamed up with Laminate Entertainment to create his greatest work yet – Keepin’ It Real \n  \n 
URL:https://murphydeals.com/event/matt-farris-at-bluewater-resort-in-parker/2023-05-06/
LOCATION:Bluewater Resort and Casino\, 11300 Resort\, Parker\, 85344\, United States
CATEGORIES:Event,Music | Concerts
ATTACH;FMTTYPE=image/jpeg:https://murphydeals.com/wp-content/uploads/2023/04/MattFarris-e1683315311751.jpg
END:VEVENT
BEGIN:VEVENT
DTSTART;TZID=America/Phoenix:20230505T200000
DTEND;TZID=America/Phoenix:20230505T230000
DTSTAMP:20260425T075157
CREATED:20230424T192311Z
LAST-MODIFIED:20230505T193823Z
UID:10007605-1683316800-1683327600@murphydeals.com
SUMMARY:Matt Farris at Bluewater Resort in Parker
DESCRIPTION:A true entertainer showcasing high energy\, passion and artistic integrity\, Matt Farris is diligent in his career while giving back all the love he receives from his audience – creating a connection with his fans unlike any other. Never complacent\, the Billboard charting artist embracing the roots of country music while integrating influences from other genres such as pop and rock. Showing himself as a force to be reckoned with\, Matt Farris teamed up with Laminate Entertainment to create his greatest work yet – Keepin’ It Real \n  \n 
URL:https://murphydeals.com/event/matt-farris-at-bluewater-resort-in-parker/2023-05-05/
LOCATION:Bluewater Resort and Casino\, 11300 Resort\, Parker\, 85344\, United States
CATEGORIES:Event,Music | Concerts
ATTACH;FMTTYPE=image/jpeg:https://murphydeals.com/wp-content/uploads/2023/04/MattFarris-e1683315311751.jpg
END:VEVENT
BEGIN:VEVENT
DTSTART;TZID=America/Phoenix:20230408T120000
DTEND;TZID=America/Phoenix:20230408T180000
DTSTAMP:20260425T075157
CREATED:20230327T212838Z
LAST-MODIFIED:20230406T000037Z
UID:10007403-1680955200-1680976800@murphydeals.com
SUMMARY:Havasu Hoedown
DESCRIPTION:Saturday\, April 8th High noon till 6 PM. Bring your family and friends come join us for a Havasu Hoedown\,\nLive music\, food\, beer\, and wine.\nRetail Vendors and a kids corral.\nAll taking place at Arizona State Parks Windsor 4.\n(No pets\, umbrellas\, coolers) \nThis year’s line-up includes concerts by Whiskey N Smoke\, Brianna Marie & Matt Farris. Join us for music\, a children’s area\, and vendors. \nBUY TICKETS\n 
URL:https://murphydeals.com/event/havasu-hoedown/
LOCATION:Windsor 4 Beach\, Lake Havasu State Park\, Lake Havasu City\, AZ\, United States
CATEGORIES:Event,Music | Concerts
ATTACH;FMTTYPE=image/jpeg:https://murphydeals.com/wp-content/uploads/2023/03/havasu-hoedown-scaled-e1680737469323.jpg
END:VEVENT
END:VCALENDAR