BEGIN:VCALENDAR
VERSION:2.0
PRODID:-//Murphy Deals - ECPv6.15.20//NONSGML v1.0//EN
CALSCALE:GREGORIAN
METHOD:PUBLISH
X-ORIGINAL-URL:https://murphydeals.com
X-WR-CALDESC:Events for Murphy Deals
REFRESH-INTERVAL;VALUE=DURATION:PT1H
X-Robots-Tag:noindex
X-PUBLISHED-TTL:PT1H
BEGIN:VTIMEZONE
TZID:America/Phoenix
BEGIN:STANDARD
TZOFFSETFROM:-0700
TZOFFSETTO:-0700
TZNAME:MST
DTSTART:20220101T000000
END:STANDARD
END:VTIMEZONE
BEGIN:VEVENT
DTSTART;TZID=America/Phoenix:20230422T110000
DTEND;TZID=America/Phoenix:20230422T180000
DTSTAMP:20260425T173702
CREATED:20230417T200040Z
LAST-MODIFIED:20230417T200040Z
UID:10007533-1682161200-1682186400@murphydeals.com
SUMMARY:Hive Five Meadery Grand Opening at Cella Wines in Kingman
DESCRIPTION:  \nMohave County’s first and only meadery is up and running! Come celebrate our grand opening with mead\, wine\, food\, live music\, vendors\, drink specials\, and giveaways! Scratch Made will be on-site serving up some of their delicious comfort food. Grab a glass of mead\, shop around with multiple vendors\, and wander the many acres of beautiful\, scenic grapevines out back. This event will begin immediately following the ribbon-cutting ceremony at 10:45am. \n 
URL:https://murphydeals.com/event/hive-five-meadery-grand-opening-at-cella-wines-in-kingman/
LOCATION:Cella Winery\, 6927 E Brooks Blvd\, Kingman\, AZ\, 86401\, United States
CATEGORIES:Event
ATTACH;FMTTYPE=image/jpeg:https://murphydeals.com/wp-content/uploads/2023/04/grandopening-e1681761610350.jpg
END:VEVENT
END:VCALENDAR