BEGIN:VCALENDAR
VERSION:2.0
PRODID:-//Murphy Deals - ECPv6.15.20//NONSGML v1.0//EN
CALSCALE:GREGORIAN
METHOD:PUBLISH
X-ORIGINAL-URL:https://murphydeals.com
X-WR-CALDESC:Events for Murphy Deals
REFRESH-INTERVAL;VALUE=DURATION:PT1H
X-Robots-Tag:noindex
X-PUBLISHED-TTL:PT1H
BEGIN:VTIMEZONE
TZID:America/Phoenix
BEGIN:STANDARD
TZOFFSETFROM:-0700
TZOFFSETTO:-0700
TZNAME:MST
DTSTART:20220101T000000
END:STANDARD
END:VTIMEZONE
BEGIN:VEVENT
DTSTART;TZID=America/Phoenix:20230625T160000
DTEND;TZID=America/Phoenix:20230625T190000
DTSTAMP:20260425T191247
CREATED:20230619T191144Z
LAST-MODIFIED:20230619T191144Z
UID:10008279-1687708800-1687719600@murphydeals.com
SUMMARY:Bud Mickle at Metcalfe Park
DESCRIPTION:Truly a striking voice all his own. A soulful melodic mix of Rock\, Blues and a dash of Country.\nRaised in sparkling Las Vegas\, that sparkle shines through his music.\nBud writes melodic songs about life while painting a picture of various images through words and music. Like days of the old west in ‘Come Mornin’” & “Bella Savannah”\nHis music comes to life like a movie\, and infects your heart and soul. “Welcome Home” and “Dance with Me” are great examples of this imagery.\nBud captures a little piece of all his roots from the blues\, to an up close and personal country feel on “Just Aint Fair” and “Here’s To You (Dad)’ to full blown rock.\nSince the release of the new CD “My Cross To Bear” response as been overwhelming\, while finding new horizons and constantly setting new goals.
URL:https://murphydeals.com/event/bud-mickle-at-metcalfe-park/
LOCATION:Metcalfe Park\, 315 West Beale Street\, Kingman\, AZ\, 86401
CATEGORIES:Music | Concerts
ATTACH;FMTTYPE=image/jpeg:https://murphydeals.com/wp-content/uploads/2023/06/bud_mickle-1-e1687201488501.jpg
END:VEVENT
END:VCALENDAR