BEGIN:VCALENDAR
VERSION:2.0
PRODID:-//Murphy Deals - ECPv6.15.20//NONSGML v1.0//EN
CALSCALE:GREGORIAN
METHOD:PUBLISH
X-ORIGINAL-URL:https://murphydeals.com
X-WR-CALDESC:Events for Murphy Deals
REFRESH-INTERVAL;VALUE=DURATION:PT1H
X-Robots-Tag:noindex
X-PUBLISHED-TTL:PT1H
BEGIN:VTIMEZONE
TZID:America/Phoenix
BEGIN:STANDARD
TZOFFSETFROM:-0700
TZOFFSETTO:-0700
TZNAME:MST
DTSTART:20220101T000000
END:STANDARD
END:VTIMEZONE
BEGIN:VEVENT
DTSTART;TZID=America/Phoenix:20230507T173000
DTEND;TZID=America/Phoenix:20230507T190000
DTSTAMP:20260425T150731
CREATED:20230424T155343Z
LAST-MODIFIED:20230424T155343Z
UID:10007571-1683480600-1683486000@murphydeals.com
SUMMARY:Matt Broome & Michael Hurley at the Bluewater Resort in Parker
DESCRIPTION:From the Halls of Montezuma to the Shores of Tripoli\, this Marine turned funny man has been killing audiences with every performance. Matt Broome is one of the hottest rising comedy stars today! From the world famous chain of Improvs to Hollywood’s Comedy Store to many Vegas showrooms\, audiences have been raving about this native New Yorker. Winner of the Happy Givemore Comedy Series and People’s Choice Comic in the Laff’s Great SW Laff-Off\, he is also the spokesperson for Arizona’s CW network and an anchorman for SAS TV. Matt has toured nationally\, making appearances at the nation’s best comedy clubs\, corporate functions and charity events\, yet has still found time to perform for the troops. Matt’s fast-paced\, razor-sharp wit\, hilarious stories and unique comedic style keep the audience members rolling from start to finish. He has performed with some of the top comedians in the country! \n \nMichael Hurley got his start in comedy in Scottsdale Arizona in 2010. Being a third generation electrician\, he wanted to explore his passion and he began to find stages to perform on as often as possible. He now performs regularly at clubs\, casinos\, festivals and private shows. He finds and exposes the absurdities present in everyday life. He explores such activities like growing up in Phoenix\, getting older\, being married and having and raising a family in today’s crazy world. His opinions have garnished attention\, earning the title of Arizona’s Funniest Comedian in 2017 and runner up in Funniest Person with a Day Job Contest at Rick Bronson’s House of Comedy in 2022. \nBUY TICKETS   \n 
URL:https://murphydeals.com/event/matt-broome-michael-hurley-at-the-bluewater-resort-in-parker/
LOCATION:Bluewater Resort and Casino\, 11300 Resort\, Parker\, 85344\, United States
CATEGORIES:Comedy | Comedian,Event
ATTACH;FMTTYPE=image/png:https://murphydeals.com/wp-content/uploads/2022/08/BlueWater.png
END:VEVENT
END:VCALENDAR