BEGIN:VCALENDAR
VERSION:2.0
PRODID:-//Murphy Deals - ECPv6.15.20//NONSGML v1.0//EN
CALSCALE:GREGORIAN
METHOD:PUBLISH
X-WR-CALNAME:Murphy Deals
X-ORIGINAL-URL:https://murphydeals.com
X-WR-CALDESC:Events for Murphy Deals
REFRESH-INTERVAL;VALUE=DURATION:PT1H
X-Robots-Tag:noindex
X-PUBLISHED-TTL:PT1H
BEGIN:VTIMEZONE
TZID:America/Phoenix
BEGIN:STANDARD
TZOFFSETFROM:-0700
TZOFFSETTO:-0700
TZNAME:MST
DTSTART:20210101T000000
END:STANDARD
END:VTIMEZONE
BEGIN:VEVENT
DTSTART;TZID=America/Phoenix:20221231T180000
DTEND;TZID=America/Phoenix:20221231T233000
DTSTAMP:20260425T191146
CREATED:20221108T222823Z
LAST-MODIFIED:20221129T222827Z
UID:10006579-1672509600-1672529400@murphydeals.com
SUMMARY:Midnight Rebel "New Years Eve" live at The Dirty Dough in Kingman
DESCRIPTION:Celebrate “New Years Eve” with MIDNIGHT REBEL rocking the outdoor stage for a night of classic rock and one big party in Kingman\, Arizona at the Dirty Dough Pizzeria and Brew Pub. Details to follow! \n 
URL:https://murphydeals.com/event/midnight-rebel-new-years-eve-live-at-the-dirty-dough-in-kingman/
LOCATION:Dirty Dough Co\, 532 E Beale St\, Kingman\, AZ\, 86401\, United States
CATEGORIES:Event,Music | Concerts
ATTACH;FMTTYPE=image/webp:https://murphydeals.com/wp-content/uploads/2022/11/Rebel-e1686613774148.webp
END:VEVENT
BEGIN:VEVENT
DTSTART;TZID=America/Phoenix:20230318T170000
DTEND;TZID=America/Phoenix:20230318T210000
DTSTAMP:20260425T191146
CREATED:20230224T144416Z
LAST-MODIFIED:20230224T144416Z
UID:10007254-1679158800-1679173200@murphydeals.com
SUMMARY:Midnight Rebel at Hangar 24
DESCRIPTION:MIDNIGHT REBEL brings Rock and Roll to HANGER 24 for “One Night Only” on Saturday March 18th @ 5pm. Come out and enjoy craft beer and classic rock in a cool aviation theme venue. No cover charge. \n 
URL:https://murphydeals.com/event/midnight-rebel-at-hangar-24/
LOCATION:Hangar 24 Lake Havasu City\, AZ\, 5600 Arizona 95\, Lake Havasu City\, AZ\, 86404\, United States
CATEGORIES:Event
ATTACH;FMTTYPE=image/webp:https://murphydeals.com/wp-content/uploads/2022/11/Rebel-e1686613774148.webp
END:VEVENT
BEGIN:VEVENT
DTSTART;TZID=America/Phoenix:20230426T130000
DTEND;TZID=America/Phoenix:20230426T200000
DTSTAMP:20260425T191146
CREATED:20230411T164232Z
LAST-MODIFIED:20230411T164232Z
UID:10007483-1682514000-1682539200@murphydeals.com
SUMMARY:Anderson Fieldhouse Outdoor Music Schedule in Bullhead
DESCRIPTION:
URL:https://murphydeals.com/event/anderson-fieldhouse-outdoor-music-schedule-in-bullhead/2023-04-26/
LOCATION:Anderson Field House\, 3663 Bullhead Parkway\, Bullhead City\, AZ\, 86442\, United States
CATEGORIES:Event,Music | Concerts
ATTACH;FMTTYPE=image/jpeg:https://murphydeals.com/wp-content/uploads/2023/04/Image-1-1-e1681231273616.jpg
END:VEVENT
BEGIN:VEVENT
DTSTART;TZID=America/Phoenix:20230427T130000
DTEND;TZID=America/Phoenix:20230427T200000
DTSTAMP:20260425T191146
CREATED:20230411T164232Z
LAST-MODIFIED:20230411T164232Z
UID:10007484-1682600400-1682625600@murphydeals.com
SUMMARY:Anderson Fieldhouse Outdoor Music Schedule in Bullhead
DESCRIPTION:
URL:https://murphydeals.com/event/anderson-fieldhouse-outdoor-music-schedule-in-bullhead/2023-04-27/
LOCATION:Anderson Field House\, 3663 Bullhead Parkway\, Bullhead City\, AZ\, 86442\, United States
CATEGORIES:Event,Music | Concerts
ATTACH;FMTTYPE=image/jpeg:https://murphydeals.com/wp-content/uploads/2023/04/Image-1-1-e1681231273616.jpg
END:VEVENT
BEGIN:VEVENT
DTSTART;TZID=America/Phoenix:20230428T110000
DTEND;TZID=America/Phoenix:20230428T193000
DTSTAMP:20260425T191146
CREATED:20230411T164232Z
LAST-MODIFIED:20230411T164232Z
UID:10007485-1682679600-1682710200@murphydeals.com
SUMMARY:Anderson Fieldhouse Outdoor Music Schedule in Bullhead
DESCRIPTION:
URL:https://murphydeals.com/event/anderson-fieldhouse-outdoor-music-schedule-in-bullhead/2023-04-28/
LOCATION:Anderson Field House\, 3663 Bullhead Parkway\, Bullhead City\, AZ\, 86442\, United States
CATEGORIES:Event,Music | Concerts
ATTACH;FMTTYPE=image/jpeg:https://murphydeals.com/wp-content/uploads/2023/04/Image-1-1-e1681231273616.jpg
END:VEVENT
BEGIN:VEVENT
DTSTART;TZID=America/Phoenix:20230429T110000
DTEND;TZID=America/Phoenix:20230429T193000
DTSTAMP:20260425T191146
CREATED:20230411T164232Z
LAST-MODIFIED:20230411T164232Z
UID:10007486-1682766000-1682796600@murphydeals.com
SUMMARY:Anderson Fieldhouse Outdoor Music Schedule in Bullhead
DESCRIPTION:
URL:https://murphydeals.com/event/anderson-fieldhouse-outdoor-music-schedule-in-bullhead/2023-04-29/
LOCATION:Anderson Field House\, 3663 Bullhead Parkway\, Bullhead City\, AZ\, 86442\, United States
CATEGORIES:Event,Music | Concerts
ATTACH;FMTTYPE=image/jpeg:https://murphydeals.com/wp-content/uploads/2023/04/Image-1-1-e1681231273616.jpg
END:VEVENT
BEGIN:VEVENT
DTSTART;TZID=America/Phoenix:20230930T210000
DTEND;TZID=America/Phoenix:20230930T233000
DTSTAMP:20260425T191146
CREATED:20230612T235356Z
LAST-MODIFIED:20230612T235356Z
UID:10008257-1696107600-1696116600@murphydeals.com
SUMMARY:Midnight Rebel at the Old Town Saloon
DESCRIPTION:MIDNIGHT REBEL will be rockin’ the REO Speedwagon and STYX “After-show Party” September 30th in Laughlin\, NV at the Old Town Saloon! 21 and over only. Free admission. Show time 9pm. The band will also appear on Sunday October 1st at 9pm.
URL:https://murphydeals.com/event/midnight-rebel-at-the-old-town-saloon/2023-09-30/
LOCATION:Old Town Saloon\, 2850 S Casino Dr\, Laughlin\, NV\, 89029\, United States
CATEGORIES:Music | Concerts
ATTACH;FMTTYPE=image/webp:https://murphydeals.com/wp-content/uploads/2022/11/Rebel-e1686613774148.webp
END:VEVENT
BEGIN:VEVENT
DTSTART;TZID=America/Phoenix:20231001T210000
DTEND;TZID=America/Phoenix:20231001T233000
DTSTAMP:20260425T191146
CREATED:20230612T235356Z
LAST-MODIFIED:20230612T235356Z
UID:10008258-1696194000-1696203000@murphydeals.com
SUMMARY:Midnight Rebel at the Old Town Saloon
DESCRIPTION:MIDNIGHT REBEL will be rockin’ the REO Speedwagon and STYX “After-show Party” September 30th in Laughlin\, NV at the Old Town Saloon! 21 and over only. Free admission. Show time 9pm. The band will also appear on Sunday October 1st at 9pm.
URL:https://murphydeals.com/event/midnight-rebel-at-the-old-town-saloon/2023-10-01/
LOCATION:Old Town Saloon\, 2850 S Casino Dr\, Laughlin\, NV\, 89029\, United States
CATEGORIES:Music | Concerts
ATTACH;FMTTYPE=image/webp:https://murphydeals.com/wp-content/uploads/2022/11/Rebel-e1686613774148.webp
END:VEVENT
END:VCALENDAR