BEGIN:VCALENDAR
VERSION:2.0
PRODID:-//Murphy Deals - ECPv6.15.20//NONSGML v1.0//EN
CALSCALE:GREGORIAN
METHOD:PUBLISH
X-ORIGINAL-URL:https://murphydeals.com
X-WR-CALDESC:Events for Murphy Deals
REFRESH-INTERVAL;VALUE=DURATION:PT1H
X-Robots-Tag:noindex
X-PUBLISHED-TTL:PT1H
BEGIN:VTIMEZONE
TZID:America/Phoenix
BEGIN:STANDARD
TZOFFSETFROM:-0700
TZOFFSETTO:-0700
TZNAME:MST
DTSTART:20220101T000000
END:STANDARD
END:VTIMEZONE
BEGIN:VEVENT
DTSTART;TZID=America/Phoenix:20230316T180000
DTEND;TZID=America/Phoenix:20230316T210000
DTSTAMP:20260425T135723
CREATED:20230224T162701Z
LAST-MODIFIED:20230224T234851Z
UID:10007262-1678989600-1679000400@murphydeals.com
SUMMARY:Come listen to Mile High at BJ's Cabana Bar
DESCRIPTION:
URL:https://murphydeals.com/event/mile-high-at-bjs-cabana-bar/2023-03-16/
LOCATION:BJ’s Cabana Bar & Karaoke\, 2122 McCulloch Boulevard North\, Lake Havasu City\, AZ\, 86403\, United States
CATEGORIES:Event
ATTACH;FMTTYPE=image/jpeg:https://murphydeals.com/wp-content/uploads/2023/02/cabanabar-1-e1677255994236.jpg
END:VEVENT
BEGIN:VEVENT
DTSTART;TZID=America/Phoenix:20230315T180000
DTEND;TZID=America/Phoenix:20230315T210000
DTSTAMP:20260425T135723
CREATED:20230224T162701Z
LAST-MODIFIED:20230224T234851Z
UID:10007261-1678903200-1678914000@murphydeals.com
SUMMARY:Come listen to Mile High at BJ's Cabana Bar
DESCRIPTION:
URL:https://murphydeals.com/event/mile-high-at-bjs-cabana-bar/2023-03-15/
LOCATION:BJ’s Cabana Bar & Karaoke\, 2122 McCulloch Boulevard North\, Lake Havasu City\, AZ\, 86403\, United States
CATEGORIES:Event
ATTACH;FMTTYPE=image/jpeg:https://murphydeals.com/wp-content/uploads/2023/02/cabanabar-1-e1677255994236.jpg
END:VEVENT
BEGIN:VEVENT
DTSTART;TZID=America/Phoenix:20230314T200000
DTEND;TZID=America/Phoenix:20230314T210000
DTSTAMP:20260425T135723
CREATED:20230224T155602Z
LAST-MODIFIED:20230224T235044Z
UID:10007260-1678824000-1678827600@murphydeals.com
SUMMARY:Come listen to Mile High at State Beach
DESCRIPTION:
URL:https://murphydeals.com/event/mile-high-at-state-beach/2023-03-14/2/
LOCATION:Lake Havasu State Park\, 699 London Bridge Rd\, Lake Havasu City\, Arizona\, 86403
CATEGORIES:Event
ATTACH;FMTTYPE=image/jpeg:https://murphydeals.com/wp-content/uploads/2023/02/statepark-e1677254149823.jpg
END:VEVENT
BEGIN:VEVENT
DTSTART;TZID=America/Phoenix:20230314T130000
DTEND;TZID=America/Phoenix:20230314T160000
DTSTAMP:20260425T135723
CREATED:20230224T155602Z
LAST-MODIFIED:20230224T235044Z
UID:10007259-1678798800-1678809600@murphydeals.com
SUMMARY:Come listen to Mile High at State Beach
DESCRIPTION:
URL:https://murphydeals.com/event/mile-high-at-state-beach/2023-03-14/1/
LOCATION:Lake Havasu State Park\, 699 London Bridge Rd\, Lake Havasu City\, Arizona\, 86403
CATEGORIES:Event
ATTACH;FMTTYPE=image/jpeg:https://murphydeals.com/wp-content/uploads/2023/02/statepark-e1677254149823.jpg
END:VEVENT
BEGIN:VEVENT
DTSTART;TZID=America/Phoenix:20230311T190000
DTEND;TZID=America/Phoenix:20230311T230000
DTSTAMP:20260425T135723
CREATED:20230224T153836Z
LAST-MODIFIED:20230224T235411Z
UID:10007258-1678561200-1678575600@murphydeals.com
SUMMARY:Come listen to Mile High at Babaloo Lounge
DESCRIPTION:
URL:https://murphydeals.com/event/mile-high-at-babaloo-lounge/2023-03-11/
LOCATION:Babaloo Lounge\, 357 Lake Havasu Ave #9368\, Lake Havasu City\, AZ\, 86403
CATEGORIES:Event
ATTACH;FMTTYPE=image/jpeg:https://murphydeals.com/wp-content/uploads/2022/04/34688638_2074176079277763_6425510076861120512_n-e1677260171637.jpg
END:VEVENT
BEGIN:VEVENT
DTSTART;TZID=America/Phoenix:20230310T190000
DTEND;TZID=America/Phoenix:20230310T230000
DTSTAMP:20260425T135723
CREATED:20230224T153836Z
LAST-MODIFIED:20230224T235411Z
UID:10007257-1678474800-1678489200@murphydeals.com
SUMMARY:Come listen to Mile High at Babaloo Lounge
DESCRIPTION:
URL:https://murphydeals.com/event/mile-high-at-babaloo-lounge/2023-03-10/
LOCATION:Babaloo Lounge\, 357 Lake Havasu Ave #9368\, Lake Havasu City\, AZ\, 86403
CATEGORIES:Event
ATTACH;FMTTYPE=image/jpeg:https://murphydeals.com/wp-content/uploads/2022/04/34688638_2074176079277763_6425510076861120512_n-e1677260171637.jpg
END:VEVENT
END:VCALENDAR