BEGIN:VCALENDAR
VERSION:2.0
PRODID:-//Murphy Deals - ECPv6.15.20//NONSGML v1.0//EN
CALSCALE:GREGORIAN
METHOD:PUBLISH
X-ORIGINAL-URL:https://murphydeals.com
X-WR-CALDESC:Events for Murphy Deals
REFRESH-INTERVAL;VALUE=DURATION:PT1H
X-Robots-Tag:noindex
X-PUBLISHED-TTL:PT1H
BEGIN:VTIMEZONE
TZID:America/Phoenix
BEGIN:STANDARD
TZOFFSETFROM:-0700
TZOFFSETTO:-0700
TZNAME:MST
DTSTART:20220101T000000
END:STANDARD
END:VTIMEZONE
BEGIN:VEVENT
DTSTART;TZID=America/Phoenix:20230903T090000
DTEND;TZID=America/Phoenix:20230903T170000
DTSTAMP:20260425T152214
CREATED:20230830T174225Z
LAST-MODIFIED:20230830T174312Z
UID:10008413-1693731600-1693760400@murphydeals.com
SUMMARY:Mills Brothers Blow Out Sale!
DESCRIPTION:
URL:https://murphydeals.com/event/mills-brothers-blow-out-sale/2023-09-03/
CATEGORIES:Event
ATTACH;FMTTYPE=image/png:https://murphydeals.com/wp-content/uploads/2023/08/MillsBros-1-e1693417338550.png
END:VEVENT
BEGIN:VEVENT
DTSTART;TZID=America/Phoenix:20230902T090000
DTEND;TZID=America/Phoenix:20230902T170000
DTSTAMP:20260425T152214
CREATED:20230830T174225Z
LAST-MODIFIED:20230830T174312Z
UID:10008412-1693645200-1693674000@murphydeals.com
SUMMARY:Mills Brothers Blow Out Sale!
DESCRIPTION:
URL:https://murphydeals.com/event/mills-brothers-blow-out-sale/2023-09-02/
CATEGORIES:Event
ATTACH;FMTTYPE=image/png:https://murphydeals.com/wp-content/uploads/2023/08/MillsBros-1-e1693417338550.png
END:VEVENT
BEGIN:VEVENT
DTSTART;TZID=America/Phoenix:20230901T090000
DTEND;TZID=America/Phoenix:20230901T170000
DTSTAMP:20260425T152214
CREATED:20230830T174225Z
LAST-MODIFIED:20230830T174312Z
UID:10008411-1693558800-1693587600@murphydeals.com
SUMMARY:Mills Brothers Blow Out Sale!
DESCRIPTION:
URL:https://murphydeals.com/event/mills-brothers-blow-out-sale/2023-09-01/
CATEGORIES:Event
ATTACH;FMTTYPE=image/png:https://murphydeals.com/wp-content/uploads/2023/08/MillsBros-1-e1693417338550.png
END:VEVENT
END:VCALENDAR