BEGIN:VCALENDAR
VERSION:2.0
PRODID:-//Murphy Deals - ECPv6.15.20//NONSGML v1.0//EN
CALSCALE:GREGORIAN
METHOD:PUBLISH
X-ORIGINAL-URL:https://murphydeals.com
X-WR-CALDESC:Events for Murphy Deals
REFRESH-INTERVAL;VALUE=DURATION:PT1H
X-Robots-Tag:noindex
X-PUBLISHED-TTL:PT1H
BEGIN:VTIMEZONE
TZID:America/Phoenix
BEGIN:STANDARD
TZOFFSETFROM:-0700
TZOFFSETTO:-0700
TZNAME:MST
DTSTART:20220101T000000
END:STANDARD
END:VTIMEZONE
BEGIN:VEVENT
DTSTART;TZID=America/Phoenix:20230903T183000
DTEND;TZID=America/Phoenix:20230903T210000
DTSTAMP:20260425T135723
CREATED:20230718T160953Z
LAST-MODIFIED:20230718T203745Z
UID:10008321-1693765800-1693774800@murphydeals.com
SUMMARY:Mohave Valley Raceway Labor Day Clash
DESCRIPTION:Mohave Valley Raceway is the fastest 1/3 mile dirt track and the longest running IMCA modified sanctioned track west of the west. From dwarf cars to monster trucks we offer events for all ages and interests in the dirt track community. \nMain Grandstands:\nGeneral Admission – $12.00\nSeniors (60 & Over) – $10.00\nMilitary – $10 (need to show ID)\nChildren 6-12 – $6.00\nChildren 5 & Under – FREE!!!! \n\nPits Open 4:30 PM\nGates Open 5:00 PM\nRacing Starts 6:00 PM\n\n**Cash Only for tickets and pits. No ATMs on site. Concessions\, souvenirs\, & the Beer garden is cash or card \n** **We do not sell nor offer tickets prior to race day. They have to be purchased in person \n** ** Ice Chests\, Outside Food and Beverages are NOT permitted.** \n \n 
URL:https://murphydeals.com/event/mohave-valley-raceway-2-2-2/2023-09-03/
LOCATION:Mohave Valley Raceway\, 2750 E Laguna Road\, Mohave Valley\, AZ\, 86440\, United States
CATEGORIES:Sports | Activities
ATTACH;FMTTYPE=image/jpeg:https://murphydeals.com/wp-content/uploads/2023/07/MVRLaborDay-e1689696712361.jpg
END:VEVENT
BEGIN:VEVENT
DTSTART;TZID=America/Phoenix:20230902T183000
DTEND;TZID=America/Phoenix:20230902T210000
DTSTAMP:20260425T135723
CREATED:20230718T160953Z
LAST-MODIFIED:20230718T203745Z
UID:10006882-1693679400-1693688400@murphydeals.com
SUMMARY:Mohave Valley Raceway Labor Day Clash
DESCRIPTION:Mohave Valley Raceway is the fastest 1/3 mile dirt track and the longest running IMCA modified sanctioned track west of the west. From dwarf cars to monster trucks we offer events for all ages and interests in the dirt track community. \nMain Grandstands:\nGeneral Admission – $12.00\nSeniors (60 & Over) – $10.00\nMilitary – $10 (need to show ID)\nChildren 6-12 – $6.00\nChildren 5 & Under – FREE!!!! \n\nPits Open 4:30 PM\nGates Open 5:00 PM\nRacing Starts 6:00 PM\n\n**Cash Only for tickets and pits. No ATMs on site. Concessions\, souvenirs\, & the Beer garden is cash or card \n** **We do not sell nor offer tickets prior to race day. They have to be purchased in person \n** ** Ice Chests\, Outside Food and Beverages are NOT permitted.** \n \n 
URL:https://murphydeals.com/event/mohave-valley-raceway-2-2-2/2023-09-02/
LOCATION:Mohave Valley Raceway\, 2750 E Laguna Road\, Mohave Valley\, AZ\, 86440\, United States
CATEGORIES:Sports | Activities
ATTACH;FMTTYPE=image/jpeg:https://murphydeals.com/wp-content/uploads/2023/07/MVRLaborDay-e1689696712361.jpg
END:VEVENT
BEGIN:VEVENT
DTSTART;TZID=America/Phoenix:20230217T170000
DTEND;TZID=America/Phoenix:20230217T210000
DTSTAMP:20260425T135723
CREATED:20230104T165956Z
LAST-MODIFIED:20230215T000236Z
UID:10006491-1676653200-1676667600@murphydeals.com
SUMMARY:Mohave Valley Raceway Showdown
DESCRIPTION:WIN TICKETS\nMohave Valley Raceway is the fastest 1/3 mile dirt track and the longest running IMCA modified sanctioned track west of the west. From dwarf cars to monster trucks we offer events for all ages and interests in the dirt track community. \nMain Grandstands:\nGeneral Admission – $12.00\nSeniors (60 & Over) – $10.00\nMilitary – $10 (need to show ID)\nChildren 6-12 – $6.00\nChildren 5 & Under – FREE!!!! \n\nPits Open 4:30 PM\nGates Open 5:00 PM\nRacing Starts 6:00 PM\n\n**Cash Only for tickets and pits. No ATMs on site. Concessions\, souvenirs\, & the Beer garden is cash or card \n** **We do not sell nor offer tickets prior to race day. They have to be purchased in person \n** ** Ice Chests\, Outside Food and Beverages are NOT permitted.** \n 
URL:https://murphydeals.com/event/mohave-valley-raceway-2-2/
LOCATION:Mohave Valley Raceway\, 2750 E Laguna Road\, Mohave Valley\, AZ\, 86440\, United States
CATEGORIES:Sports | Activities
ATTACH;FMTTYPE=image/jpeg:https://murphydeals.com/wp-content/uploads/2023/01/MVRRaces-e1672860945909.jpg
END:VEVENT
BEGIN:VEVENT
DTSTART;TZID=America/Phoenix:20230128T100000
DTEND;TZID=America/Phoenix:20230128T140000
DTSTAMP:20260425T135723
CREATED:20220531T220054Z
LAST-MODIFIED:20230104T193350Z
UID:10001618-1674900000-1674914400@murphydeals.com
SUMMARY:Mohave Valley Raceway SxS Madness
DESCRIPTION:Mohave Valley Raceway is the fastest 1/3 mile dirt track and the longest running IMCA modified sanctioned track west of the west. From dwarf cars to monster trucks we offer events for all ages and interests in the dirt track community. \nMain Grandstands:\nGeneral Admission – $12.00\nSeniors (60 & Over) – $10.00\nMilitary – $10 (need to show ID)\nChildren 6-12 – $6.00\nChildren 5 & Under – FREE!!!! \n\nPits Open 4:30 PM\nGates Open 6:30 PM\nRacing Starts 7:30 PM\n\n**Cash Only for tickets and pits. No ATMs on site. Concessions\, souvenirs\, & the Beer garden is cash or card \n** **We do not sell nor offer tickets prior to race day. They have to be purchased in person \n** ** Ice Chests\, Outside Food and Beverages are NOT permitted.**
URL:https://murphydeals.com/event/mohave-valley-raceway/
LOCATION:Mohave Valley Raceway\, 2750 E Laguna Road\, Mohave Valley\, AZ\, 86440\, United States
CATEGORIES:Sports | Activities
ATTACH;FMTTYPE=image/jpeg:https://murphydeals.com/wp-content/uploads/2022/05/MVRsxs-1-e1672860753139.jpg
END:VEVENT
BEGIN:VEVENT
DTSTART;TZID=America/Phoenix:20230115T140000
DTEND;TZID=America/Phoenix:20230115T160000
DTSTAMP:20260425T135723
CREATED:20230113T214402Z
LAST-MODIFIED:20230113T215314Z
UID:10007007-1673791200-1673798400@murphydeals.com
SUMMARY:2Xtreme Monster Trucks
DESCRIPTION:Real Monster Truck Rides\, World Famous Monster Trucks\, Freestyle Motocross\, Polaris RZR BACKFLIP ATTEMPT and so much more!! \nGET TICKETS HERE\nWhere can you go to an affordable\, family-fun event for all ages?? 2X Monster trucks brings real Monster rides\, world famous Monsters\, gravity defying Freestyle Motocross\, pre-show driver meet and greet with the trucks\, hillbilly clown entertainer\, let your children compete in the power wheels racing tournament\, plus a daring backflip attempt in a Polaris RZR!! See all of this starting at only $15. \nGates: 12:00PM \nPre-show pit party: 12:00-1:30PM Take pictures next to 10\,000lb Monsters\, get autographs and ask questions to the drivers. Take a ride on a real Monster Truck for only $15 or purchase an all inclusive pass. \nShow time: 2:00PM After we thank our heros and finish the national anthem\, strap in for 2 hours of non-stop action. Monster truck events include: \n2-wheel skill challenge. Let the drivers display their true talent as they walk 10\,000lb Monsters around on their front tires. Maybe a 2-wheel cyclone\, slap wheelie\, or power wheelie?? Who knows\, as anything can happen in this event. \nRacing: The Monsters compete in head-to-head racing in a full bracket. This event shows the true control a driver has over their vehicle. \nFreestyle: Pure destruction is released. Who watches Nascar for the wrecks? Well you are going to love Monster Truck Freestyle as nothing is off limits. The trucks display raw talent and nerve as they compete for the most entertaining mix of moves to win your vote as the 2X Freestyle champion. \nFood\, Beverage\, Official Merchandise\, and Ear protection are all available at the show. \nThe show runs rain or shine\, no refunds\, and no food or beverage allowed (unless you are a baby).
URL:https://murphydeals.com/event/2xtreme-monster-trucks/2023-01-15/
LOCATION:Mohave Valley Raceway\, 2750 E Laguna Road\, Mohave Valley\, AZ\, 86440\, United States
CATEGORIES:Event
ATTACH;FMTTYPE=image/jpeg:https://murphydeals.com/wp-content/uploads/2023/01/efb2ea10fae8f2922904a677a85b76ef-1-e1673646170215.jpg
END:VEVENT
BEGIN:VEVENT
DTSTART;TZID=America/Phoenix:20230114T140000
DTEND;TZID=America/Phoenix:20230114T160000
DTSTAMP:20260425T135723
CREATED:20230113T214402Z
LAST-MODIFIED:20230113T215314Z
UID:10007006-1673704800-1673712000@murphydeals.com
SUMMARY:2Xtreme Monster Trucks
DESCRIPTION:Real Monster Truck Rides\, World Famous Monster Trucks\, Freestyle Motocross\, Polaris RZR BACKFLIP ATTEMPT and so much more!! \nGET TICKETS HERE\nWhere can you go to an affordable\, family-fun event for all ages?? 2X Monster trucks brings real Monster rides\, world famous Monsters\, gravity defying Freestyle Motocross\, pre-show driver meet and greet with the trucks\, hillbilly clown entertainer\, let your children compete in the power wheels racing tournament\, plus a daring backflip attempt in a Polaris RZR!! See all of this starting at only $15. \nGates: 12:00PM \nPre-show pit party: 12:00-1:30PM Take pictures next to 10\,000lb Monsters\, get autographs and ask questions to the drivers. Take a ride on a real Monster Truck for only $15 or purchase an all inclusive pass. \nShow time: 2:00PM After we thank our heros and finish the national anthem\, strap in for 2 hours of non-stop action. Monster truck events include: \n2-wheel skill challenge. Let the drivers display their true talent as they walk 10\,000lb Monsters around on their front tires. Maybe a 2-wheel cyclone\, slap wheelie\, or power wheelie?? Who knows\, as anything can happen in this event. \nRacing: The Monsters compete in head-to-head racing in a full bracket. This event shows the true control a driver has over their vehicle. \nFreestyle: Pure destruction is released. Who watches Nascar for the wrecks? Well you are going to love Monster Truck Freestyle as nothing is off limits. The trucks display raw talent and nerve as they compete for the most entertaining mix of moves to win your vote as the 2X Freestyle champion. \nFood\, Beverage\, Official Merchandise\, and Ear protection are all available at the show. \nThe show runs rain or shine\, no refunds\, and no food or beverage allowed (unless you are a baby).
URL:https://murphydeals.com/event/2xtreme-monster-trucks/2023-01-14/
LOCATION:Mohave Valley Raceway\, 2750 E Laguna Road\, Mohave Valley\, AZ\, 86440\, United States
CATEGORIES:Event
ATTACH;FMTTYPE=image/jpeg:https://murphydeals.com/wp-content/uploads/2023/01/efb2ea10fae8f2922904a677a85b76ef-1-e1673646170215.jpg
END:VEVENT
END:VCALENDAR