BEGIN:VCALENDAR
VERSION:2.0
PRODID:-//Murphy Deals - ECPv6.15.20//NONSGML v1.0//EN
CALSCALE:GREGORIAN
METHOD:PUBLISH
X-WR-CALNAME:Murphy Deals
X-ORIGINAL-URL:https://murphydeals.com
X-WR-CALDESC:Events for Murphy Deals
REFRESH-INTERVAL;VALUE=DURATION:PT1H
X-Robots-Tag:noindex
X-PUBLISHED-TTL:PT1H
BEGIN:VTIMEZONE
TZID:America/Phoenix
BEGIN:STANDARD
TZOFFSETFROM:-0700
TZOFFSETTO:-0700
TZNAME:MST
DTSTART:20220101T000000
END:STANDARD
END:VTIMEZONE
BEGIN:VEVENT
DTSTART;TZID=America/Phoenix:20230430T100000
DTEND;TZID=America/Phoenix:20230430T170000
DTSTAMP:20260425T062520
CREATED:20230417T192924Z
LAST-MODIFIED:20230417T192924Z
UID:10007532-1682848800-1682874000@murphydeals.com
SUMMARY:Motorcycle Races-Mohave Valley Raceway in Mohave Valley
DESCRIPTION:
URL:https://murphydeals.com/event/motorcycle-races-mohave-valley-raceway-in-mohave-valley/2023-04-30/
LOCATION:Mohave Valley Raceway\, 2750 E Laguna Road\, Mohave Valley\, AZ\, 86440\, United States
CATEGORIES:Event
ATTACH;FMTTYPE=image/jpeg:https://murphydeals.com/wp-content/uploads/2023/04/motorcycleracing-1-e1681759654840.jpg
END:VEVENT
BEGIN:VEVENT
DTSTART;TZID=America/Phoenix:20230429T163000
DTEND;TZID=America/Phoenix:20230429T223000
DTSTAMP:20260425T062520
CREATED:20230417T192924Z
LAST-MODIFIED:20230417T192924Z
UID:10007531-1682785800-1682807400@murphydeals.com
SUMMARY:Motorcycle Races-Mohave Valley Raceway in Mohave Valley
DESCRIPTION:
URL:https://murphydeals.com/event/motorcycle-races-mohave-valley-raceway-in-mohave-valley/2023-04-29/
LOCATION:Mohave Valley Raceway\, 2750 E Laguna Road\, Mohave Valley\, AZ\, 86440\, United States
CATEGORIES:Event
ATTACH;FMTTYPE=image/jpeg:https://murphydeals.com/wp-content/uploads/2023/04/motorcycleracing-1-e1681759654840.jpg
END:VEVENT
BEGIN:VEVENT
DTSTART;TZID=America/Phoenix:20230428T120000
DTEND;TZID=America/Phoenix:20230428T160000
DTSTAMP:20260425T062520
CREATED:20230417T192924Z
LAST-MODIFIED:20230417T192924Z
UID:10007530-1682683200-1682697600@murphydeals.com
SUMMARY:Motorcycle Races-Mohave Valley Raceway in Mohave Valley
DESCRIPTION:
URL:https://murphydeals.com/event/motorcycle-races-mohave-valley-raceway-in-mohave-valley/2023-04-28/
LOCATION:Mohave Valley Raceway\, 2750 E Laguna Road\, Mohave Valley\, AZ\, 86440\, United States
CATEGORIES:Event
ATTACH;FMTTYPE=image/jpeg:https://murphydeals.com/wp-content/uploads/2023/04/motorcycleracing-1-e1681759654840.jpg
END:VEVENT
BEGIN:VEVENT
DTSTART;TZID=America/Phoenix:20230204T173000
DTEND;TZID=America/Phoenix:20230204T210000
DTSTAMP:20260425T062520
CREATED:20230104T165405Z
LAST-MODIFIED:20230104T193946Z
UID:10006354-1675531800-1675544400@murphydeals.com
SUMMARY:Mohave Valley Raceway Season Opener
DESCRIPTION:Main Grandstands:\nGeneral Admission – $12.00\nSeniors (60 & Over) – $10.00\nMilitary – $10 (need to show ID)\nChildren 6-12 – $6.00\nChildren 5 & Under – FREE!!!! \n\nPits Open 4:30 PM\nGates Open 5:30 PM\nRacing Starts 6:30 PM\n\n**Cash Only for tickets and pits. No ATMs on site. Concessions\, souvenirs\, & the Beer garden is cash or card \n** **We do not sell nor offer tickets prior to race day. They have to be purchased in person \n** ** Ice Chests\, Outside Food and Beverages are NOT permitted.**
URL:https://murphydeals.com/event/mohave-valley-raceway-next-event-5-7-2022-2/
LOCATION:Mohave Valley Raceway\, 2750 E Laguna Road\, Mohave Valley\, AZ\, 86440\, United States
CATEGORIES:Sports | Activities
ATTACH;FMTTYPE=image/jpeg:https://murphydeals.com/wp-content/uploads/2023/01/MVROpener-e1672861111628.jpg
END:VEVENT
END:VCALENDAR