BEGIN:VCALENDAR
VERSION:2.0
PRODID:-//Murphy Deals - ECPv6.15.20//NONSGML v1.0//EN
CALSCALE:GREGORIAN
METHOD:PUBLISH
X-WR-CALNAME:Murphy Deals
X-ORIGINAL-URL:https://murphydeals.com
X-WR-CALDESC:Events for Murphy Deals
REFRESH-INTERVAL;VALUE=DURATION:PT1H
X-Robots-Tag:noindex
X-PUBLISHED-TTL:PT1H
BEGIN:VTIMEZONE
TZID:America/Phoenix
BEGIN:STANDARD
TZOFFSETFROM:-0700
TZOFFSETTO:-0700
TZNAME:MST
DTSTART:20210101T000000
END:STANDARD
END:VTIMEZONE
BEGIN:VEVENT
DTSTART;TZID=America/Phoenix:20230122T140000
DTEND;TZID=America/Phoenix:20230122T163000
DTSTAMP:20260425T161603
CREATED:20221213T202210Z
LAST-MODIFIED:20230116T200244Z
UID:10007020-1674396000-1674405000@murphydeals.com
SUMMARY:Grace Arts Live: JAMES AND THE GIANT PEACH
DESCRIPTION:SHOW TIMES: \nFriday\, January 20\, 2023 \nSaturday\, January 21\, 2023 \nSunday\, January 22\, 2023 \nGET TICKETS FOR HALF PRICE\nA magical peach! An imprisoned boy! Giant talking insects! The incredible tale of James Henry Trotter will fulfill the fantasy of anyone who has ever dreamed of escaping to a new and exciting world. Roald Dahl’s JAMES and the GIANT PEACH comes hilariously to life in this delightful production that reveals the wickedness of some\, the goodness of others\, and the indecision encountered by many when they are faced with crises. JAMES and the GIANT PEACH is a musical “masterpeach” for the whole family!
URL:https://murphydeals.com/event/james-and-the-giant-peach/2023-01-22/
LOCATION:Grace Arts Live\, 2146 McCulloch Blvd N\, Lake Havasu City\, AZ\, 86403
CATEGORIES:Arts | Theatre
ATTACH;FMTTYPE=image/png:https://murphydeals.com/wp-content/uploads/2022/12/james-1-e1670963076701.png
END:VEVENT
BEGIN:VEVENT
DTSTART;TZID=America/Phoenix:20230121T193000
DTEND;TZID=America/Phoenix:20230121T220000
DTSTAMP:20260425T161603
CREATED:20221213T202210Z
LAST-MODIFIED:20230116T200244Z
UID:10007019-1674329400-1674338400@murphydeals.com
SUMMARY:Grace Arts Live: JAMES AND THE GIANT PEACH
DESCRIPTION:SHOW TIMES: \nFriday\, January 20\, 2023 \nSaturday\, January 21\, 2023 \nSunday\, January 22\, 2023 \nGET TICKETS FOR HALF PRICE\nA magical peach! An imprisoned boy! Giant talking insects! The incredible tale of James Henry Trotter will fulfill the fantasy of anyone who has ever dreamed of escaping to a new and exciting world. Roald Dahl’s JAMES and the GIANT PEACH comes hilariously to life in this delightful production that reveals the wickedness of some\, the goodness of others\, and the indecision encountered by many when they are faced with crises. JAMES and the GIANT PEACH is a musical “masterpeach” for the whole family!
URL:https://murphydeals.com/event/james-and-the-giant-peach/2023-01-21/
LOCATION:Grace Arts Live\, 2146 McCulloch Blvd N\, Lake Havasu City\, AZ\, 86403
CATEGORIES:Arts | Theatre
ATTACH;FMTTYPE=image/png:https://murphydeals.com/wp-content/uploads/2022/12/james-1-e1670963076701.png
END:VEVENT
BEGIN:VEVENT
DTSTART;TZID=America/Phoenix:20230120T193000
DTEND;TZID=America/Phoenix:20230129T220000
DTSTAMP:20260425T161603
CREATED:20221213T202210Z
LAST-MODIFIED:20230116T200244Z
UID:10007018-1674243000-1675029600@murphydeals.com
SUMMARY:Grace Arts Live: JAMES AND THE GIANT PEACH
DESCRIPTION:SHOW TIMES: \nFriday\, January 20\, 2023 \nSaturday\, January 21\, 2023 \nSunday\, January 22\, 2023 \nGET TICKETS FOR HALF PRICE\nA magical peach! An imprisoned boy! Giant talking insects! The incredible tale of James Henry Trotter will fulfill the fantasy of anyone who has ever dreamed of escaping to a new and exciting world. Roald Dahl’s JAMES and the GIANT PEACH comes hilariously to life in this delightful production that reveals the wickedness of some\, the goodness of others\, and the indecision encountered by many when they are faced with crises. JAMES and the GIANT PEACH is a musical “masterpeach” for the whole family!
URL:https://murphydeals.com/event/james-and-the-giant-peach/2023-01-20/
LOCATION:Grace Arts Live\, 2146 McCulloch Blvd N\, Lake Havasu City\, AZ\, 86403
CATEGORIES:Arts | Theatre
ATTACH;FMTTYPE=image/png:https://murphydeals.com/wp-content/uploads/2022/12/james-1-e1670963076701.png
END:VEVENT
BEGIN:VEVENT
DTSTART;TZID=America/Phoenix:20221218T140000
DTEND;TZID=America/Phoenix:20221221T170000
DTSTAMP:20260425T161603
CREATED:20220421T180845Z
LAST-MODIFIED:20221026T211410Z
UID:10006519-1671372000-1671642000@murphydeals.com
SUMMARY:Grace Arts Live: A CHRISTMAS STORY\, The Musical DECEMBER 2-4\, 9-11 & 16-18\, 2022
DESCRIPTION:DECEMBER 2-4\, 9-11 & 16-18\, 2022 \nA CHRISTMAS STORY is based on the humorous\, beloved holiday movie and follows Ralphie Parker who wants one thing for Christmas\, and one thing only: An Official Red Ryder Range Model Carbine Action BB Gun. There’s only one problem: everyone else is convinced he’ll shoot his eye out! Undeterred\, he begins his saga of convincing everyone of his safety\, while struggling to make it to Christmas Day with his glasses and hopes intact.  Filled with quirky and lovable characters\, this zany\, heartfelt\, and nostalgic musical is as delightful as the biggest\, shiniest present under the tree on Christmas morning. \nSHOW TIMES: \nFriday\, December 2 at 7:30PM \nSaturday\, December 3 at 7:30PM \nSunday\, December 4 at 2PM \nFriday\, December 9 at 7:30PM \nSaturday\, December 10 at 7:30PM \nSunday\, December 11 at 2PM \nFriday\, December 16 at 7:30PM \nSaturday\, December 17 at 7:30PM \nSunday\, December 18 at 2PM \nBUY TICKETS \nBOX OFFICE HOURS \nIf you wish to reach us\, Box Office Hours are Monday through Friday 3-6PM and if available\, up to one hour before showtimes at 2146 McCulloch Blvd. \nShow Times: Fridays & Saturdays at 7:30PM & Sundays at 2PM. \nYou can also call (928) 505-2787 and leave a message.  We will pick up all messages and return your call.
URL:https://murphydeals.com/event/grace-arts-live-footloose/2022-12-18/
LOCATION:Grace Arts Live\, 2146 McCulloch Blvd N\, Lake Havasu City\, AZ\, 86403
CATEGORIES:Arts | Theatre
ATTACH;FMTTYPE=image/jpeg:https://murphydeals.com/wp-content/uploads/2022/04/christmasstory-e1660862940415.jpeg
END:VEVENT
BEGIN:VEVENT
DTSTART;TZID=America/Phoenix:20221217T193000
DTEND;TZID=America/Phoenix:20221218T213000
DTSTAMP:20260425T161603
CREATED:20220421T180845Z
LAST-MODIFIED:20221026T211410Z
UID:10006518-1671305400-1671399000@murphydeals.com
SUMMARY:Grace Arts Live: A CHRISTMAS STORY\, The Musical DECEMBER 2-4\, 9-11 & 16-18\, 2022
DESCRIPTION:DECEMBER 2-4\, 9-11 & 16-18\, 2022 \nA CHRISTMAS STORY is based on the humorous\, beloved holiday movie and follows Ralphie Parker who wants one thing for Christmas\, and one thing only: An Official Red Ryder Range Model Carbine Action BB Gun. There’s only one problem: everyone else is convinced he’ll shoot his eye out! Undeterred\, he begins his saga of convincing everyone of his safety\, while struggling to make it to Christmas Day with his glasses and hopes intact.  Filled with quirky and lovable characters\, this zany\, heartfelt\, and nostalgic musical is as delightful as the biggest\, shiniest present under the tree on Christmas morning. \nSHOW TIMES: \nFriday\, December 2 at 7:30PM \nSaturday\, December 3 at 7:30PM \nSunday\, December 4 at 2PM \nFriday\, December 9 at 7:30PM \nSaturday\, December 10 at 7:30PM \nSunday\, December 11 at 2PM \nFriday\, December 16 at 7:30PM \nSaturday\, December 17 at 7:30PM \nSunday\, December 18 at 2PM \nBUY TICKETS \nBOX OFFICE HOURS \nIf you wish to reach us\, Box Office Hours are Monday through Friday 3-6PM and if available\, up to one hour before showtimes at 2146 McCulloch Blvd. \nShow Times: Fridays & Saturdays at 7:30PM & Sundays at 2PM. \nYou can also call (928) 505-2787 and leave a message.  We will pick up all messages and return your call.
URL:https://murphydeals.com/event/grace-arts-live-footloose/2022-12-17/
LOCATION:Grace Arts Live\, 2146 McCulloch Blvd N\, Lake Havasu City\, AZ\, 86403
CATEGORIES:Arts | Theatre
ATTACH;FMTTYPE=image/jpeg:https://murphydeals.com/wp-content/uploads/2022/04/christmasstory-e1660862940415.jpeg
END:VEVENT
BEGIN:VEVENT
DTSTART;TZID=America/Phoenix:20221217T130000
DTEND;TZID=America/Phoenix:20221217T150000
DTSTAMP:20260425T161603
CREATED:20221206T225024Z
LAST-MODIFIED:20221206T225024Z
UID:10006810-1671282000-1671289200@murphydeals.com
SUMMARY:A Christmas Carol at Lee Williams High School
DESCRIPTION:This dramatic theatrical production is based on the original Christmas story by Charles Dickens. Watch as Scrooge faces the traumatic events from his past and learns to let go of the resentment that has him stuck in life. This is\, as Dickens envisioned it\, a Christmas ghost story with a happy ending. Directed by Malachi Ayers and adapted for the stage by Ed Monk\, you and your family will enjoy this fun holiday tradition. \nShows are December 9\, 10\, 16\, 17 at 7:00pm with a 1:00pm matinee on the 17th. Shows will take place at Lee Williams High School\, 400 Grandview Ave. Tickets are $15 for adults and $5 for kids. They are available here below or at the door. \nBUY TICKETS \n\nVIP tickets include reserved seating\, refreshments and access to the VIP room 30 minutes before the show and during intermission.
URL:https://murphydeals.com/event/a-christmas-carol-at-lee-williams-high-school/2022-12-17/
LOCATION:Lee Williams High School\, 400 Grandview Ave\, Kingman\, AZ\, 86401\, United States
CATEGORIES:Event
ATTACH;FMTTYPE=image/jpeg:https://murphydeals.com/wp-content/uploads/2022/12/christmascarol-e1670366903790.jpg
END:VEVENT
BEGIN:VEVENT
DTSTART;TZID=America/Phoenix:20221216T193000
DTEND;TZID=America/Phoenix:20221216T213000
DTSTAMP:20260425T161603
CREATED:20220421T180845Z
LAST-MODIFIED:20221026T211410Z
UID:10006517-1671219000-1671226200@murphydeals.com
SUMMARY:Grace Arts Live: A CHRISTMAS STORY\, The Musical DECEMBER 2-4\, 9-11 & 16-18\, 2022
DESCRIPTION:DECEMBER 2-4\, 9-11 & 16-18\, 2022 \nA CHRISTMAS STORY is based on the humorous\, beloved holiday movie and follows Ralphie Parker who wants one thing for Christmas\, and one thing only: An Official Red Ryder Range Model Carbine Action BB Gun. There’s only one problem: everyone else is convinced he’ll shoot his eye out! Undeterred\, he begins his saga of convincing everyone of his safety\, while struggling to make it to Christmas Day with his glasses and hopes intact.  Filled with quirky and lovable characters\, this zany\, heartfelt\, and nostalgic musical is as delightful as the biggest\, shiniest present under the tree on Christmas morning. \nSHOW TIMES: \nFriday\, December 2 at 7:30PM \nSaturday\, December 3 at 7:30PM \nSunday\, December 4 at 2PM \nFriday\, December 9 at 7:30PM \nSaturday\, December 10 at 7:30PM \nSunday\, December 11 at 2PM \nFriday\, December 16 at 7:30PM \nSaturday\, December 17 at 7:30PM \nSunday\, December 18 at 2PM \nBUY TICKETS \nBOX OFFICE HOURS \nIf you wish to reach us\, Box Office Hours are Monday through Friday 3-6PM and if available\, up to one hour before showtimes at 2146 McCulloch Blvd. \nShow Times: Fridays & Saturdays at 7:30PM & Sundays at 2PM. \nYou can also call (928) 505-2787 and leave a message.  We will pick up all messages and return your call.
URL:https://murphydeals.com/event/grace-arts-live-footloose/2022-12-16/
LOCATION:Grace Arts Live\, 2146 McCulloch Blvd N\, Lake Havasu City\, AZ\, 86403
CATEGORIES:Arts | Theatre
ATTACH;FMTTYPE=image/jpeg:https://murphydeals.com/wp-content/uploads/2022/04/christmasstory-e1660862940415.jpeg
END:VEVENT
BEGIN:VEVENT
DTSTART;TZID=America/Phoenix:20221216T190000
DTEND;TZID=America/Phoenix:20221216T210000
DTSTAMP:20260425T161603
CREATED:20221206T225024Z
LAST-MODIFIED:20221206T225024Z
UID:10006809-1671217200-1671224400@murphydeals.com
SUMMARY:A Christmas Carol at Lee Williams High School
DESCRIPTION:This dramatic theatrical production is based on the original Christmas story by Charles Dickens. Watch as Scrooge faces the traumatic events from his past and learns to let go of the resentment that has him stuck in life. This is\, as Dickens envisioned it\, a Christmas ghost story with a happy ending. Directed by Malachi Ayers and adapted for the stage by Ed Monk\, you and your family will enjoy this fun holiday tradition. \nShows are December 9\, 10\, 16\, 17 at 7:00pm with a 1:00pm matinee on the 17th. Shows will take place at Lee Williams High School\, 400 Grandview Ave. Tickets are $15 for adults and $5 for kids. They are available here below or at the door. \nBUY TICKETS \n\nVIP tickets include reserved seating\, refreshments and access to the VIP room 30 minutes before the show and during intermission.
URL:https://murphydeals.com/event/a-christmas-carol-at-lee-williams-high-school/2022-12-16/
LOCATION:Lee Williams High School\, 400 Grandview Ave\, Kingman\, AZ\, 86401\, United States
CATEGORIES:Event
ATTACH;FMTTYPE=image/jpeg:https://murphydeals.com/wp-content/uploads/2022/12/christmascarol-e1670366903790.jpg
END:VEVENT
BEGIN:VEVENT
DTSTART;TZID=America/Phoenix:20221211T140000
DTEND;TZID=America/Phoenix:20221214T170000
DTSTAMP:20260425T161603
CREATED:20220421T180845Z
LAST-MODIFIED:20221026T211410Z
UID:10006516-1670767200-1671037200@murphydeals.com
SUMMARY:Grace Arts Live: A CHRISTMAS STORY\, The Musical DECEMBER 2-4\, 9-11 & 16-18\, 2022
DESCRIPTION:DECEMBER 2-4\, 9-11 & 16-18\, 2022 \nA CHRISTMAS STORY is based on the humorous\, beloved holiday movie and follows Ralphie Parker who wants one thing for Christmas\, and one thing only: An Official Red Ryder Range Model Carbine Action BB Gun. There’s only one problem: everyone else is convinced he’ll shoot his eye out! Undeterred\, he begins his saga of convincing everyone of his safety\, while struggling to make it to Christmas Day with his glasses and hopes intact.  Filled with quirky and lovable characters\, this zany\, heartfelt\, and nostalgic musical is as delightful as the biggest\, shiniest present under the tree on Christmas morning. \nSHOW TIMES: \nFriday\, December 2 at 7:30PM \nSaturday\, December 3 at 7:30PM \nSunday\, December 4 at 2PM \nFriday\, December 9 at 7:30PM \nSaturday\, December 10 at 7:30PM \nSunday\, December 11 at 2PM \nFriday\, December 16 at 7:30PM \nSaturday\, December 17 at 7:30PM \nSunday\, December 18 at 2PM \nBUY TICKETS \nBOX OFFICE HOURS \nIf you wish to reach us\, Box Office Hours are Monday through Friday 3-6PM and if available\, up to one hour before showtimes at 2146 McCulloch Blvd. \nShow Times: Fridays & Saturdays at 7:30PM & Sundays at 2PM. \nYou can also call (928) 505-2787 and leave a message.  We will pick up all messages and return your call.
URL:https://murphydeals.com/event/grace-arts-live-footloose/2022-12-11/
LOCATION:Grace Arts Live\, 2146 McCulloch Blvd N\, Lake Havasu City\, AZ\, 86403
CATEGORIES:Arts | Theatre
ATTACH;FMTTYPE=image/jpeg:https://murphydeals.com/wp-content/uploads/2022/04/christmasstory-e1660862940415.jpeg
END:VEVENT
BEGIN:VEVENT
DTSTART;TZID=America/Phoenix:20221210T193000
DTEND;TZID=America/Phoenix:20221213T213000
DTSTAMP:20260425T161603
CREATED:20220421T180845Z
LAST-MODIFIED:20221026T211410Z
UID:10006515-1670700600-1670967000@murphydeals.com
SUMMARY:Grace Arts Live: A CHRISTMAS STORY\, The Musical DECEMBER 2-4\, 9-11 & 16-18\, 2022
DESCRIPTION:DECEMBER 2-4\, 9-11 & 16-18\, 2022 \nA CHRISTMAS STORY is based on the humorous\, beloved holiday movie and follows Ralphie Parker who wants one thing for Christmas\, and one thing only: An Official Red Ryder Range Model Carbine Action BB Gun. There’s only one problem: everyone else is convinced he’ll shoot his eye out! Undeterred\, he begins his saga of convincing everyone of his safety\, while struggling to make it to Christmas Day with his glasses and hopes intact.  Filled with quirky and lovable characters\, this zany\, heartfelt\, and nostalgic musical is as delightful as the biggest\, shiniest present under the tree on Christmas morning. \nSHOW TIMES: \nFriday\, December 2 at 7:30PM \nSaturday\, December 3 at 7:30PM \nSunday\, December 4 at 2PM \nFriday\, December 9 at 7:30PM \nSaturday\, December 10 at 7:30PM \nSunday\, December 11 at 2PM \nFriday\, December 16 at 7:30PM \nSaturday\, December 17 at 7:30PM \nSunday\, December 18 at 2PM \nBUY TICKETS \nBOX OFFICE HOURS \nIf you wish to reach us\, Box Office Hours are Monday through Friday 3-6PM and if available\, up to one hour before showtimes at 2146 McCulloch Blvd. \nShow Times: Fridays & Saturdays at 7:30PM & Sundays at 2PM. \nYou can also call (928) 505-2787 and leave a message.  We will pick up all messages and return your call.
URL:https://murphydeals.com/event/grace-arts-live-footloose/2022-12-10/
LOCATION:Grace Arts Live\, 2146 McCulloch Blvd N\, Lake Havasu City\, AZ\, 86403
CATEGORIES:Arts | Theatre
ATTACH;FMTTYPE=image/jpeg:https://murphydeals.com/wp-content/uploads/2022/04/christmasstory-e1660862940415.jpeg
END:VEVENT
BEGIN:VEVENT
DTSTART;TZID=America/Phoenix:20221210T190000
DTEND;TZID=America/Phoenix:20221210T210000
DTSTAMP:20260425T161603
CREATED:20221206T225024Z
LAST-MODIFIED:20221206T225024Z
UID:10006808-1670698800-1670706000@murphydeals.com
SUMMARY:A Christmas Carol at Lee Williams High School
DESCRIPTION:This dramatic theatrical production is based on the original Christmas story by Charles Dickens. Watch as Scrooge faces the traumatic events from his past and learns to let go of the resentment that has him stuck in life. This is\, as Dickens envisioned it\, a Christmas ghost story with a happy ending. Directed by Malachi Ayers and adapted for the stage by Ed Monk\, you and your family will enjoy this fun holiday tradition. \nShows are December 9\, 10\, 16\, 17 at 7:00pm with a 1:00pm matinee on the 17th. Shows will take place at Lee Williams High School\, 400 Grandview Ave. Tickets are $15 for adults and $5 for kids. They are available here below or at the door. \nBUY TICKETS \n\nVIP tickets include reserved seating\, refreshments and access to the VIP room 30 minutes before the show and during intermission.
URL:https://murphydeals.com/event/a-christmas-carol-at-lee-williams-high-school/2022-12-10/
LOCATION:Lee Williams High School\, 400 Grandview Ave\, Kingman\, AZ\, 86401\, United States
CATEGORIES:Event
ATTACH;FMTTYPE=image/jpeg:https://murphydeals.com/wp-content/uploads/2022/12/christmascarol-e1670366903790.jpg
END:VEVENT
BEGIN:VEVENT
DTSTART;TZID=America/Phoenix:20221209T190000
DTEND;TZID=America/Phoenix:20221209T210000
DTSTAMP:20260425T161603
CREATED:20221206T225024Z
LAST-MODIFIED:20221206T225024Z
UID:10006807-1670612400-1670619600@murphydeals.com
SUMMARY:A Christmas Carol at Lee Williams High School
DESCRIPTION:This dramatic theatrical production is based on the original Christmas story by Charles Dickens. Watch as Scrooge faces the traumatic events from his past and learns to let go of the resentment that has him stuck in life. This is\, as Dickens envisioned it\, a Christmas ghost story with a happy ending. Directed by Malachi Ayers and adapted for the stage by Ed Monk\, you and your family will enjoy this fun holiday tradition. \nShows are December 9\, 10\, 16\, 17 at 7:00pm with a 1:00pm matinee on the 17th. Shows will take place at Lee Williams High School\, 400 Grandview Ave. Tickets are $15 for adults and $5 for kids. They are available here below or at the door. \nBUY TICKETS \n\nVIP tickets include reserved seating\, refreshments and access to the VIP room 30 minutes before the show and during intermission.
URL:https://murphydeals.com/event/a-christmas-carol-at-lee-williams-high-school/2022-12-09/
LOCATION:Lee Williams High School\, 400 Grandview Ave\, Kingman\, AZ\, 86401\, United States
CATEGORIES:Event
ATTACH;FMTTYPE=image/jpeg:https://murphydeals.com/wp-content/uploads/2022/12/christmascarol-e1670366903790.jpg
END:VEVENT
BEGIN:VEVENT
DTSTART;TZID=America/Phoenix:20221209T073000
DTEND;TZID=America/Phoenix:20221210T213000
DTSTAMP:20260425T161603
CREATED:20220421T180845Z
LAST-MODIFIED:20221026T211410Z
UID:10006514-1670571000-1670707800@murphydeals.com
SUMMARY:Grace Arts Live: A CHRISTMAS STORY\, The Musical DECEMBER 2-4\, 9-11 & 16-18\, 2022
DESCRIPTION:DECEMBER 2-4\, 9-11 & 16-18\, 2022 \nA CHRISTMAS STORY is based on the humorous\, beloved holiday movie and follows Ralphie Parker who wants one thing for Christmas\, and one thing only: An Official Red Ryder Range Model Carbine Action BB Gun. There’s only one problem: everyone else is convinced he’ll shoot his eye out! Undeterred\, he begins his saga of convincing everyone of his safety\, while struggling to make it to Christmas Day with his glasses and hopes intact.  Filled with quirky and lovable characters\, this zany\, heartfelt\, and nostalgic musical is as delightful as the biggest\, shiniest present under the tree on Christmas morning. \nSHOW TIMES: \nFriday\, December 2 at 7:30PM \nSaturday\, December 3 at 7:30PM \nSunday\, December 4 at 2PM \nFriday\, December 9 at 7:30PM \nSaturday\, December 10 at 7:30PM \nSunday\, December 11 at 2PM \nFriday\, December 16 at 7:30PM \nSaturday\, December 17 at 7:30PM \nSunday\, December 18 at 2PM \nBUY TICKETS \nBOX OFFICE HOURS \nIf you wish to reach us\, Box Office Hours are Monday through Friday 3-6PM and if available\, up to one hour before showtimes at 2146 McCulloch Blvd. \nShow Times: Fridays & Saturdays at 7:30PM & Sundays at 2PM. \nYou can also call (928) 505-2787 and leave a message.  We will pick up all messages and return your call.
URL:https://murphydeals.com/event/grace-arts-live-footloose/2022-12-09/
LOCATION:Grace Arts Live\, 2146 McCulloch Blvd N\, Lake Havasu City\, AZ\, 86403
CATEGORIES:Arts | Theatre
ATTACH;FMTTYPE=image/jpeg:https://murphydeals.com/wp-content/uploads/2022/04/christmasstory-e1660862940415.jpeg
END:VEVENT
BEGIN:VEVENT
DTSTART;TZID=America/Phoenix:20221204T140000
DTEND;TZID=America/Phoenix:20221204T170000
DTSTAMP:20260425T161603
CREATED:20220421T180845Z
LAST-MODIFIED:20221026T211410Z
UID:10006513-1670162400-1670173200@murphydeals.com
SUMMARY:Grace Arts Live: A CHRISTMAS STORY\, The Musical DECEMBER 2-4\, 9-11 & 16-18\, 2022
DESCRIPTION:DECEMBER 2-4\, 9-11 & 16-18\, 2022 \nA CHRISTMAS STORY is based on the humorous\, beloved holiday movie and follows Ralphie Parker who wants one thing for Christmas\, and one thing only: An Official Red Ryder Range Model Carbine Action BB Gun. There’s only one problem: everyone else is convinced he’ll shoot his eye out! Undeterred\, he begins his saga of convincing everyone of his safety\, while struggling to make it to Christmas Day with his glasses and hopes intact.  Filled with quirky and lovable characters\, this zany\, heartfelt\, and nostalgic musical is as delightful as the biggest\, shiniest present under the tree on Christmas morning. \nSHOW TIMES: \nFriday\, December 2 at 7:30PM \nSaturday\, December 3 at 7:30PM \nSunday\, December 4 at 2PM \nFriday\, December 9 at 7:30PM \nSaturday\, December 10 at 7:30PM \nSunday\, December 11 at 2PM \nFriday\, December 16 at 7:30PM \nSaturday\, December 17 at 7:30PM \nSunday\, December 18 at 2PM \nBUY TICKETS \nBOX OFFICE HOURS \nIf you wish to reach us\, Box Office Hours are Monday through Friday 3-6PM and if available\, up to one hour before showtimes at 2146 McCulloch Blvd. \nShow Times: Fridays & Saturdays at 7:30PM & Sundays at 2PM. \nYou can also call (928) 505-2787 and leave a message.  We will pick up all messages and return your call.
URL:https://murphydeals.com/event/grace-arts-live-footloose/2022-12-04/
LOCATION:Grace Arts Live\, 2146 McCulloch Blvd N\, Lake Havasu City\, AZ\, 86403
CATEGORIES:Arts | Theatre
ATTACH;FMTTYPE=image/jpeg:https://murphydeals.com/wp-content/uploads/2022/04/christmasstory-e1660862940415.jpeg
END:VEVENT
BEGIN:VEVENT
DTSTART;TZID=America/Phoenix:20221202T193000
DTEND;TZID=America/Phoenix:20221203T213000
DTSTAMP:20260425T161603
CREATED:20220421T180845Z
LAST-MODIFIED:20221026T211410Z
UID:10006512-1670009400-1670103000@murphydeals.com
SUMMARY:Grace Arts Live: A CHRISTMAS STORY\, The Musical DECEMBER 2-4\, 9-11 & 16-18\, 2022
DESCRIPTION:DECEMBER 2-4\, 9-11 & 16-18\, 2022 \nA CHRISTMAS STORY is based on the humorous\, beloved holiday movie and follows Ralphie Parker who wants one thing for Christmas\, and one thing only: An Official Red Ryder Range Model Carbine Action BB Gun. There’s only one problem: everyone else is convinced he’ll shoot his eye out! Undeterred\, he begins his saga of convincing everyone of his safety\, while struggling to make it to Christmas Day with his glasses and hopes intact.  Filled with quirky and lovable characters\, this zany\, heartfelt\, and nostalgic musical is as delightful as the biggest\, shiniest present under the tree on Christmas morning. \nSHOW TIMES: \nFriday\, December 2 at 7:30PM \nSaturday\, December 3 at 7:30PM \nSunday\, December 4 at 2PM \nFriday\, December 9 at 7:30PM \nSaturday\, December 10 at 7:30PM \nSunday\, December 11 at 2PM \nFriday\, December 16 at 7:30PM \nSaturday\, December 17 at 7:30PM \nSunday\, December 18 at 2PM \nBUY TICKETS \nBOX OFFICE HOURS \nIf you wish to reach us\, Box Office Hours are Monday through Friday 3-6PM and if available\, up to one hour before showtimes at 2146 McCulloch Blvd. \nShow Times: Fridays & Saturdays at 7:30PM & Sundays at 2PM. \nYou can also call (928) 505-2787 and leave a message.  We will pick up all messages and return your call.
URL:https://murphydeals.com/event/grace-arts-live-footloose/2022-12-02/
LOCATION:Grace Arts Live\, 2146 McCulloch Blvd N\, Lake Havasu City\, AZ\, 86403
CATEGORIES:Arts | Theatre
ATTACH;FMTTYPE=image/jpeg:https://murphydeals.com/wp-content/uploads/2022/04/christmasstory-e1660862940415.jpeg
END:VEVENT
END:VCALENDAR