BEGIN:VCALENDAR
VERSION:2.0
PRODID:-//Murphy Deals - ECPv6.15.20//NONSGML v1.0//EN
CALSCALE:GREGORIAN
METHOD:PUBLISH
X-WR-CALNAME:Murphy Deals
X-ORIGINAL-URL:https://murphydeals.com
X-WR-CALDESC:Events for Murphy Deals
REFRESH-INTERVAL;VALUE=DURATION:PT1H
X-Robots-Tag:noindex
X-PUBLISHED-TTL:PT1H
BEGIN:VTIMEZONE
TZID:America/Phoenix
BEGIN:STANDARD
TZOFFSETFROM:-0700
TZOFFSETTO:-0700
TZNAME:MST
DTSTART:20210101T000000
END:STANDARD
END:VTIMEZONE
BEGIN:VEVENT
DTSTART;TZID=America/Phoenix:20221218T190000
DTEND;TZID=America/Phoenix:20221218T210000
DTSTAMP:20260425T190524
CREATED:20221128T214045Z
LAST-MODIFIED:20221128T220000Z
UID:10006646-1671390000-1671397200@murphydeals.com
SUMMARY:Lake Havasu Ballet presents The Nutcracker
DESCRIPTION:December 17th\, 2022 @ 7:00pm – 9:00pm \n\nLake Havasu High School Performing Arts Center\n\nAdmission Price: Donation\n\n\n\nTickets are on sale for a donation: www.lakehavasuballet.org
URL:https://murphydeals.com/event/lake-havasu-ballet-presents-the-nutcracker/2022-12-18/
LOCATION:Lake Havasu Performing Arts Center\, 2675 S. Palo Verde Blvd.\, Lake Havasu City\, AZ\, 86403
CATEGORIES:Arts | Theatre
ATTACH;FMTTYPE=image/webp:https://murphydeals.com/wp-content/uploads/2022/11/Nutcracker-1-e1669671626610.webp
END:VEVENT
BEGIN:VEVENT
DTSTART;TZID=America/Phoenix:20221218T150000
DTEND;TZID=America/Phoenix:20221218T180000
DTSTAMP:20260425T190524
CREATED:20221011T153740Z
LAST-MODIFIED:20221011T154350Z
UID:10006421-1671375600-1671386400@murphydeals.com
SUMMARY:The Nutcracker Ballet at Don Laughlin's Resort
DESCRIPTION:December 15th – 18th\, 2022\nThe holiday season comes to life in the Anaheim Ballet’s production of The Nutcracker\, the classic heartwarming tale of Clara and her Nutcracker doll who changes her woeful winter into a feast in Candyland. The Nutcracker ballet is a cornerstone of seasonal family entertainment and tradition. Audiences will experience battling toy soldiers and menacing mice\, Russian athletic dancers\, prancing Bon Bons and Tchaikovsky’s “Waltz of the Flowers.” \n**Dear Guests\, Please Note: All Times listed are Nevada Time. Tickets for The Nutcracker are not available for online purchase. To Purchase Tickets for The Nutcracker\, please call our Box Office Directly: 1.800.227.3849 EXT: 616 \n\nDecember 15th – 17th\, 2022 Show Time 7:00 PM PST\nDecember 17th – 18th\, 2022 Show Time 3:00 PM PST\nFloor Seats: $38.00 + $4.36 SVC CHG + Tax\nRiser Seats: $32.00 + $4.36 SVC CHG + Tax\nChildren (12 and under): Floor Seats $19.00 + $4.36 SVC CHG + Tax\nChildren (12 and under): Riser Seats $17.00 + $4.36 SVC CHG + Tax
URL:https://murphydeals.com/event/the-nutcracker-ballet-at-don-laughlins-resort/2022-12-18/
LOCATION:Don Laughlin’s Riverside Resort Hotel and Casino\, 1650 S Casino Drive\, Laughlin\, Nevada\, 89029
CATEGORIES:Event
ATTACH;FMTTYPE=image/jpeg:https://murphydeals.com/wp-content/uploads/2022/10/Nutcracker-e1665502347490.jpg
END:VEVENT
BEGIN:VEVENT
DTSTART;TZID=America/Phoenix:20221217T190000
DTEND;TZID=America/Phoenix:20221217T220000
DTSTAMP:20260425T190524
CREATED:20221011T153740Z
LAST-MODIFIED:20221011T154350Z
UID:10006420-1671303600-1671314400@murphydeals.com
SUMMARY:The Nutcracker Ballet at Don Laughlin's Resort
DESCRIPTION:December 15th – 18th\, 2022\nThe holiday season comes to life in the Anaheim Ballet’s production of The Nutcracker\, the classic heartwarming tale of Clara and her Nutcracker doll who changes her woeful winter into a feast in Candyland. The Nutcracker ballet is a cornerstone of seasonal family entertainment and tradition. Audiences will experience battling toy soldiers and menacing mice\, Russian athletic dancers\, prancing Bon Bons and Tchaikovsky’s “Waltz of the Flowers.” \n**Dear Guests\, Please Note: All Times listed are Nevada Time. Tickets for The Nutcracker are not available for online purchase. To Purchase Tickets for The Nutcracker\, please call our Box Office Directly: 1.800.227.3849 EXT: 616 \n\nDecember 15th – 17th\, 2022 Show Time 7:00 PM PST\nDecember 17th – 18th\, 2022 Show Time 3:00 PM PST\nFloor Seats: $38.00 + $4.36 SVC CHG + Tax\nRiser Seats: $32.00 + $4.36 SVC CHG + Tax\nChildren (12 and under): Floor Seats $19.00 + $4.36 SVC CHG + Tax\nChildren (12 and under): Riser Seats $17.00 + $4.36 SVC CHG + Tax
URL:https://murphydeals.com/event/the-nutcracker-ballet-at-don-laughlins-resort/2022-12-17/2/
LOCATION:Don Laughlin’s Riverside Resort Hotel and Casino\, 1650 S Casino Drive\, Laughlin\, Nevada\, 89029
CATEGORIES:Event
ATTACH;FMTTYPE=image/jpeg:https://murphydeals.com/wp-content/uploads/2022/10/Nutcracker-e1665502347490.jpg
END:VEVENT
BEGIN:VEVENT
DTSTART;TZID=America/Phoenix:20221217T190000
DTEND;TZID=America/Phoenix:20221217T210000
DTSTAMP:20260425T190524
CREATED:20221128T214045Z
LAST-MODIFIED:20221128T220000Z
UID:10006645-1671303600-1671310800@murphydeals.com
SUMMARY:Lake Havasu Ballet presents The Nutcracker
DESCRIPTION:December 17th\, 2022 @ 7:00pm – 9:00pm \n\nLake Havasu High School Performing Arts Center\n\nAdmission Price: Donation\n\n\n\nTickets are on sale for a donation: www.lakehavasuballet.org
URL:https://murphydeals.com/event/lake-havasu-ballet-presents-the-nutcracker/2022-12-17/
LOCATION:Lake Havasu Performing Arts Center\, 2675 S. Palo Verde Blvd.\, Lake Havasu City\, AZ\, 86403
CATEGORIES:Arts | Theatre
ATTACH;FMTTYPE=image/webp:https://murphydeals.com/wp-content/uploads/2022/11/Nutcracker-1-e1669671626610.webp
END:VEVENT
BEGIN:VEVENT
DTSTART;TZID=America/Phoenix:20221217T150000
DTEND;TZID=America/Phoenix:20221217T180000
DTSTAMP:20260425T190524
CREATED:20221011T153740Z
LAST-MODIFIED:20221011T154350Z
UID:10006419-1671289200-1671300000@murphydeals.com
SUMMARY:The Nutcracker Ballet at Don Laughlin's Resort
DESCRIPTION:December 15th – 18th\, 2022\nThe holiday season comes to life in the Anaheim Ballet’s production of The Nutcracker\, the classic heartwarming tale of Clara and her Nutcracker doll who changes her woeful winter into a feast in Candyland. The Nutcracker ballet is a cornerstone of seasonal family entertainment and tradition. Audiences will experience battling toy soldiers and menacing mice\, Russian athletic dancers\, prancing Bon Bons and Tchaikovsky’s “Waltz of the Flowers.” \n**Dear Guests\, Please Note: All Times listed are Nevada Time. Tickets for The Nutcracker are not available for online purchase. To Purchase Tickets for The Nutcracker\, please call our Box Office Directly: 1.800.227.3849 EXT: 616 \n\nDecember 15th – 17th\, 2022 Show Time 7:00 PM PST\nDecember 17th – 18th\, 2022 Show Time 3:00 PM PST\nFloor Seats: $38.00 + $4.36 SVC CHG + Tax\nRiser Seats: $32.00 + $4.36 SVC CHG + Tax\nChildren (12 and under): Floor Seats $19.00 + $4.36 SVC CHG + Tax\nChildren (12 and under): Riser Seats $17.00 + $4.36 SVC CHG + Tax
URL:https://murphydeals.com/event/the-nutcracker-ballet-at-don-laughlins-resort/2022-12-17/1/
LOCATION:Don Laughlin’s Riverside Resort Hotel and Casino\, 1650 S Casino Drive\, Laughlin\, Nevada\, 89029
CATEGORIES:Event
ATTACH;FMTTYPE=image/jpeg:https://murphydeals.com/wp-content/uploads/2022/10/Nutcracker-e1665502347490.jpg
END:VEVENT
BEGIN:VEVENT
DTSTART;TZID=America/Phoenix:20221216T190000
DTEND;TZID=America/Phoenix:20221216T220000
DTSTAMP:20260425T190524
CREATED:20221011T153740Z
LAST-MODIFIED:20221011T154350Z
UID:10006418-1671217200-1671228000@murphydeals.com
SUMMARY:The Nutcracker Ballet at Don Laughlin's Resort
DESCRIPTION:December 15th – 18th\, 2022\nThe holiday season comes to life in the Anaheim Ballet’s production of The Nutcracker\, the classic heartwarming tale of Clara and her Nutcracker doll who changes her woeful winter into a feast in Candyland. The Nutcracker ballet is a cornerstone of seasonal family entertainment and tradition. Audiences will experience battling toy soldiers and menacing mice\, Russian athletic dancers\, prancing Bon Bons and Tchaikovsky’s “Waltz of the Flowers.” \n**Dear Guests\, Please Note: All Times listed are Nevada Time. Tickets for The Nutcracker are not available for online purchase. To Purchase Tickets for The Nutcracker\, please call our Box Office Directly: 1.800.227.3849 EXT: 616 \n\nDecember 15th – 17th\, 2022 Show Time 7:00 PM PST\nDecember 17th – 18th\, 2022 Show Time 3:00 PM PST\nFloor Seats: $38.00 + $4.36 SVC CHG + Tax\nRiser Seats: $32.00 + $4.36 SVC CHG + Tax\nChildren (12 and under): Floor Seats $19.00 + $4.36 SVC CHG + Tax\nChildren (12 and under): Riser Seats $17.00 + $4.36 SVC CHG + Tax
URL:https://murphydeals.com/event/the-nutcracker-ballet-at-don-laughlins-resort/2022-12-16/
LOCATION:Don Laughlin’s Riverside Resort Hotel and Casino\, 1650 S Casino Drive\, Laughlin\, Nevada\, 89029
CATEGORIES:Event
ATTACH;FMTTYPE=image/jpeg:https://murphydeals.com/wp-content/uploads/2022/10/Nutcracker-e1665502347490.jpg
END:VEVENT
BEGIN:VEVENT
DTSTART;TZID=America/Phoenix:20221215T190000
DTEND;TZID=America/Phoenix:20221215T220000
DTSTAMP:20260425T190524
CREATED:20221011T153740Z
LAST-MODIFIED:20221011T154350Z
UID:10006417-1671130800-1671141600@murphydeals.com
SUMMARY:The Nutcracker Ballet at Don Laughlin's Resort
DESCRIPTION:December 15th – 18th\, 2022\nThe holiday season comes to life in the Anaheim Ballet’s production of The Nutcracker\, the classic heartwarming tale of Clara and her Nutcracker doll who changes her woeful winter into a feast in Candyland. The Nutcracker ballet is a cornerstone of seasonal family entertainment and tradition. Audiences will experience battling toy soldiers and menacing mice\, Russian athletic dancers\, prancing Bon Bons and Tchaikovsky’s “Waltz of the Flowers.” \n**Dear Guests\, Please Note: All Times listed are Nevada Time. Tickets for The Nutcracker are not available for online purchase. To Purchase Tickets for The Nutcracker\, please call our Box Office Directly: 1.800.227.3849 EXT: 616 \n\nDecember 15th – 17th\, 2022 Show Time 7:00 PM PST\nDecember 17th – 18th\, 2022 Show Time 3:00 PM PST\nFloor Seats: $38.00 + $4.36 SVC CHG + Tax\nRiser Seats: $32.00 + $4.36 SVC CHG + Tax\nChildren (12 and under): Floor Seats $19.00 + $4.36 SVC CHG + Tax\nChildren (12 and under): Riser Seats $17.00 + $4.36 SVC CHG + Tax
URL:https://murphydeals.com/event/the-nutcracker-ballet-at-don-laughlins-resort/2022-12-15/
LOCATION:Don Laughlin’s Riverside Resort Hotel and Casino\, 1650 S Casino Drive\, Laughlin\, Nevada\, 89029
CATEGORIES:Event
ATTACH;FMTTYPE=image/jpeg:https://murphydeals.com/wp-content/uploads/2022/10/Nutcracker-e1665502347490.jpg
END:VEVENT
END:VCALENDAR