BEGIN:VCALENDAR
VERSION:2.0
PRODID:-//Murphy Deals - ECPv6.15.20//NONSGML v1.0//EN
CALSCALE:GREGORIAN
METHOD:PUBLISH
X-ORIGINAL-URL:https://murphydeals.com
X-WR-CALDESC:Events for Murphy Deals
REFRESH-INTERVAL;VALUE=DURATION:PT1H
X-Robots-Tag:noindex
X-PUBLISHED-TTL:PT1H
BEGIN:VTIMEZONE
TZID:America/Phoenix
BEGIN:STANDARD
TZOFFSETFROM:-0700
TZOFFSETTO:-0700
TZNAME:MST
DTSTART:20220101T000000
END:STANDARD
END:VTIMEZONE
BEGIN:VEVENT
DTSTART;TZID=America/Phoenix:20230117T180000
DTEND;TZID=America/Phoenix:20230117T210000
DTSTAMP:20260425T203157
CREATED:20221129T210103Z
LAST-MODIFIED:20230206T170347Z
UID:10006917-1673978400-1673989200@murphydeals.com
SUMMARY:Open Mic Night at Rickety Cricket
DESCRIPTION:Minors Food Truck will be offering their deliciousness at open mic night.
URL:https://murphydeals.com/event/rickety-cricket-open-mic-night/2023-01-17/
LOCATION:Rickety Cricket\, 2068 McCulloch Blvd N Suite A\, Lake Havasu\, AZ\, 86403
CATEGORIES:Music | Concerts
ATTACH;FMTTYPE=image/jpeg:https://murphydeals.com/wp-content/uploads/2022/11/openmicnight-e1669755640492.jpeg
END:VEVENT
BEGIN:VEVENT
DTSTART;TZID=America/Phoenix:20230124T180000
DTEND;TZID=America/Phoenix:20230124T210000
DTSTAMP:20260425T203157
CREATED:20221129T210103Z
LAST-MODIFIED:20230206T170347Z
UID:10006918-1674583200-1674594000@murphydeals.com
SUMMARY:Open Mic Night at Rickety Cricket
DESCRIPTION:Minors Food Truck will be offering their deliciousness at open mic night.
URL:https://murphydeals.com/event/rickety-cricket-open-mic-night/2023-01-24/
LOCATION:Rickety Cricket\, 2068 McCulloch Blvd N Suite A\, Lake Havasu\, AZ\, 86403
CATEGORIES:Music | Concerts
ATTACH;FMTTYPE=image/jpeg:https://murphydeals.com/wp-content/uploads/2022/11/openmicnight-e1669755640492.jpeg
END:VEVENT
BEGIN:VEVENT
DTSTART;TZID=America/Phoenix:20230131T180000
DTEND;TZID=America/Phoenix:20230131T210000
DTSTAMP:20260425T203157
CREATED:20221129T210103Z
LAST-MODIFIED:20230206T170347Z
UID:10006919-1675188000-1675198800@murphydeals.com
SUMMARY:Open Mic Night at Rickety Cricket
DESCRIPTION:Minors Food Truck will be offering their deliciousness at open mic night.
URL:https://murphydeals.com/event/rickety-cricket-open-mic-night/2023-01-31/
LOCATION:Rickety Cricket\, 2068 McCulloch Blvd N Suite A\, Lake Havasu\, AZ\, 86403
CATEGORIES:Music | Concerts
ATTACH;FMTTYPE=image/jpeg:https://murphydeals.com/wp-content/uploads/2022/11/openmicnight-e1669755640492.jpeg
END:VEVENT
BEGIN:VEVENT
DTSTART;TZID=America/Phoenix:20230207T180000
DTEND;TZID=America/Phoenix:20230207T210000
DTSTAMP:20260425T203157
CREATED:20221129T210103Z
LAST-MODIFIED:20230206T170347Z
UID:10006920-1675792800-1675803600@murphydeals.com
SUMMARY:Open Mic Night at Rickety Cricket
DESCRIPTION:Minors Food Truck will be offering their deliciousness at open mic night.
URL:https://murphydeals.com/event/rickety-cricket-open-mic-night/2023-02-07/
LOCATION:Rickety Cricket\, 2068 McCulloch Blvd N Suite A\, Lake Havasu\, AZ\, 86403
CATEGORIES:Music | Concerts
ATTACH;FMTTYPE=image/jpeg:https://murphydeals.com/wp-content/uploads/2022/11/openmicnight-e1669755640492.jpeg
END:VEVENT
BEGIN:VEVENT
DTSTART;TZID=America/Phoenix:20230214T180000
DTEND;TZID=America/Phoenix:20230214T210000
DTSTAMP:20260425T203157
CREATED:20221129T210103Z
LAST-MODIFIED:20230206T170347Z
UID:10006921-1676397600-1676408400@murphydeals.com
SUMMARY:Open Mic Night at Rickety Cricket
DESCRIPTION:Minors Food Truck will be offering their deliciousness at open mic night.
URL:https://murphydeals.com/event/rickety-cricket-open-mic-night/2023-02-14/
LOCATION:Rickety Cricket\, 2068 McCulloch Blvd N Suite A\, Lake Havasu\, AZ\, 86403
CATEGORIES:Music | Concerts
ATTACH;FMTTYPE=image/jpeg:https://murphydeals.com/wp-content/uploads/2022/11/openmicnight-e1669755640492.jpeg
END:VEVENT
BEGIN:VEVENT
DTSTART;TZID=America/Phoenix:20230221T180000
DTEND;TZID=America/Phoenix:20230221T210000
DTSTAMP:20260425T203157
CREATED:20221129T210103Z
LAST-MODIFIED:20230206T170347Z
UID:10006922-1677002400-1677013200@murphydeals.com
SUMMARY:Open Mic Night at Rickety Cricket
DESCRIPTION:Minors Food Truck will be offering their deliciousness at open mic night.
URL:https://murphydeals.com/event/rickety-cricket-open-mic-night/2023-02-21/
LOCATION:Rickety Cricket\, 2068 McCulloch Blvd N Suite A\, Lake Havasu\, AZ\, 86403
CATEGORIES:Music | Concerts
ATTACH;FMTTYPE=image/jpeg:https://murphydeals.com/wp-content/uploads/2022/11/openmicnight-e1669755640492.jpeg
END:VEVENT
BEGIN:VEVENT
DTSTART;TZID=America/Phoenix:20230307T180000
DTEND;TZID=America/Phoenix:20230307T210000
DTSTAMP:20260425T203157
CREATED:20230224T201748Z
LAST-MODIFIED:20231227T210329Z
UID:10006924-1678212000-1678222800@murphydeals.com
SUMMARY:Open Mic Night at Best Brews Tap Room
DESCRIPTION:
URL:https://murphydeals.com/event/rickety-cricket-open-mic-night-2/2023-03-07/
LOCATION:Rickety Cricket\, 2068 McCulloch Blvd N Suite A\, Lake Havasu\, AZ\, 86403
CATEGORIES:Music | Concerts
ATTACH;FMTTYPE=image/jpeg:https://murphydeals.com/wp-content/uploads/2023/02/openmic-1-e1692133619437.jpg
END:VEVENT
BEGIN:VEVENT
DTSTART;TZID=America/Phoenix:20230314T180000
DTEND;TZID=America/Phoenix:20230314T210000
DTSTAMP:20260425T203157
CREATED:20230224T201748Z
LAST-MODIFIED:20231227T210329Z
UID:10006925-1678816800-1678827600@murphydeals.com
SUMMARY:Open Mic Night at Best Brews Tap Room
DESCRIPTION:
URL:https://murphydeals.com/event/rickety-cricket-open-mic-night-2/2023-03-14/
LOCATION:Rickety Cricket\, 2068 McCulloch Blvd N Suite A\, Lake Havasu\, AZ\, 86403
CATEGORIES:Music | Concerts
ATTACH;FMTTYPE=image/jpeg:https://murphydeals.com/wp-content/uploads/2023/02/openmic-1-e1692133619437.jpg
END:VEVENT
BEGIN:VEVENT
DTSTART;TZID=America/Phoenix:20230321T180000
DTEND;TZID=America/Phoenix:20230321T210000
DTSTAMP:20260425T203157
CREATED:20230224T201748Z
LAST-MODIFIED:20231227T210329Z
UID:10006926-1679421600-1679432400@murphydeals.com
SUMMARY:Open Mic Night at Best Brews Tap Room
DESCRIPTION:
URL:https://murphydeals.com/event/rickety-cricket-open-mic-night-2/2023-03-21/
LOCATION:Rickety Cricket\, 2068 McCulloch Blvd N Suite A\, Lake Havasu\, AZ\, 86403
CATEGORIES:Music | Concerts
ATTACH;FMTTYPE=image/jpeg:https://murphydeals.com/wp-content/uploads/2023/02/openmic-1-e1692133619437.jpg
END:VEVENT
BEGIN:VEVENT
DTSTART;TZID=America/Phoenix:20230328T180000
DTEND;TZID=America/Phoenix:20230328T210000
DTSTAMP:20260425T203157
CREATED:20230224T201748Z
LAST-MODIFIED:20231227T210329Z
UID:10006927-1680026400-1680037200@murphydeals.com
SUMMARY:Open Mic Night at Best Brews Tap Room
DESCRIPTION:
URL:https://murphydeals.com/event/rickety-cricket-open-mic-night-2/2023-03-28/
LOCATION:Rickety Cricket\, 2068 McCulloch Blvd N Suite A\, Lake Havasu\, AZ\, 86403
CATEGORIES:Music | Concerts
ATTACH;FMTTYPE=image/jpeg:https://murphydeals.com/wp-content/uploads/2023/02/openmic-1-e1692133619437.jpg
END:VEVENT
BEGIN:VEVENT
DTSTART;TZID=America/Phoenix:20230404T180000
DTEND;TZID=America/Phoenix:20230404T210000
DTSTAMP:20260425T203157
CREATED:20230224T201748Z
LAST-MODIFIED:20231227T210329Z
UID:10006928-1680631200-1680642000@murphydeals.com
SUMMARY:Open Mic Night at Best Brews Tap Room
DESCRIPTION:
URL:https://murphydeals.com/event/rickety-cricket-open-mic-night-2/2023-04-04/
LOCATION:Rickety Cricket\, 2068 McCulloch Blvd N Suite A\, Lake Havasu\, AZ\, 86403
CATEGORIES:Music | Concerts
ATTACH;FMTTYPE=image/jpeg:https://murphydeals.com/wp-content/uploads/2023/02/openmic-1-e1692133619437.jpg
END:VEVENT
BEGIN:VEVENT
DTSTART;TZID=America/Phoenix:20230411T180000
DTEND;TZID=America/Phoenix:20230411T210000
DTSTAMP:20260425T203157
CREATED:20230224T201748Z
LAST-MODIFIED:20231227T210329Z
UID:10006929-1681236000-1681246800@murphydeals.com
SUMMARY:Open Mic Night at Best Brews Tap Room
DESCRIPTION:
URL:https://murphydeals.com/event/rickety-cricket-open-mic-night-2/2023-04-11/
LOCATION:Rickety Cricket\, 2068 McCulloch Blvd N Suite A\, Lake Havasu\, AZ\, 86403
CATEGORIES:Music | Concerts
ATTACH;FMTTYPE=image/jpeg:https://murphydeals.com/wp-content/uploads/2023/02/openmic-1-e1692133619437.jpg
END:VEVENT
BEGIN:VEVENT
DTSTART;TZID=America/Phoenix:20230418T180000
DTEND;TZID=America/Phoenix:20230418T210000
DTSTAMP:20260425T203157
CREATED:20230224T201748Z
LAST-MODIFIED:20231227T210329Z
UID:10006930-1681840800-1681851600@murphydeals.com
SUMMARY:Open Mic Night at Best Brews Tap Room
DESCRIPTION:
URL:https://murphydeals.com/event/rickety-cricket-open-mic-night-2/2023-04-18/
LOCATION:Rickety Cricket\, 2068 McCulloch Blvd N Suite A\, Lake Havasu\, AZ\, 86403
CATEGORIES:Music | Concerts
ATTACH;FMTTYPE=image/jpeg:https://murphydeals.com/wp-content/uploads/2023/02/openmic-1-e1692133619437.jpg
END:VEVENT
BEGIN:VEVENT
DTSTART;TZID=America/Phoenix:20230425T180000
DTEND;TZID=America/Phoenix:20230425T210000
DTSTAMP:20260425T203157
CREATED:20230224T201748Z
LAST-MODIFIED:20231227T210329Z
UID:10006931-1682445600-1682456400@murphydeals.com
SUMMARY:Open Mic Night at Best Brews Tap Room
DESCRIPTION:
URL:https://murphydeals.com/event/rickety-cricket-open-mic-night-2/2023-04-25/
LOCATION:Rickety Cricket\, 2068 McCulloch Blvd N Suite A\, Lake Havasu\, AZ\, 86403
CATEGORIES:Music | Concerts
ATTACH;FMTTYPE=image/jpeg:https://murphydeals.com/wp-content/uploads/2023/02/openmic-1-e1692133619437.jpg
END:VEVENT
BEGIN:VEVENT
DTSTART;TZID=America/Phoenix:20230502T180000
DTEND;TZID=America/Phoenix:20230502T210000
DTSTAMP:20260425T203157
CREATED:20230224T201748Z
LAST-MODIFIED:20231227T210329Z
UID:10006932-1683050400-1683061200@murphydeals.com
SUMMARY:Open Mic Night at Best Brews Tap Room
DESCRIPTION:
URL:https://murphydeals.com/event/rickety-cricket-open-mic-night-2/2023-05-02/
LOCATION:Rickety Cricket\, 2068 McCulloch Blvd N Suite A\, Lake Havasu\, AZ\, 86403
CATEGORIES:Music | Concerts
ATTACH;FMTTYPE=image/jpeg:https://murphydeals.com/wp-content/uploads/2023/02/openmic-1-e1692133619437.jpg
END:VEVENT
BEGIN:VEVENT
DTSTART;TZID=America/Phoenix:20230509T180000
DTEND;TZID=America/Phoenix:20230509T210000
DTSTAMP:20260425T203157
CREATED:20230224T201748Z
LAST-MODIFIED:20231227T210329Z
UID:10006933-1683655200-1683666000@murphydeals.com
SUMMARY:Open Mic Night at Best Brews Tap Room
DESCRIPTION:
URL:https://murphydeals.com/event/rickety-cricket-open-mic-night-2/2023-05-09/
LOCATION:Rickety Cricket\, 2068 McCulloch Blvd N Suite A\, Lake Havasu\, AZ\, 86403
CATEGORIES:Music | Concerts
ATTACH;FMTTYPE=image/jpeg:https://murphydeals.com/wp-content/uploads/2023/02/openmic-1-e1692133619437.jpg
END:VEVENT
BEGIN:VEVENT
DTSTART;TZID=America/Phoenix:20230516T180000
DTEND;TZID=America/Phoenix:20230516T210000
DTSTAMP:20260425T203157
CREATED:20230224T201748Z
LAST-MODIFIED:20231227T210329Z
UID:10006934-1684260000-1684270800@murphydeals.com
SUMMARY:Open Mic Night at Best Brews Tap Room
DESCRIPTION:
URL:https://murphydeals.com/event/rickety-cricket-open-mic-night-2/2023-05-16/
LOCATION:Rickety Cricket\, 2068 McCulloch Blvd N Suite A\, Lake Havasu\, AZ\, 86403
CATEGORIES:Music | Concerts
ATTACH;FMTTYPE=image/jpeg:https://murphydeals.com/wp-content/uploads/2023/02/openmic-1-e1692133619437.jpg
END:VEVENT
BEGIN:VEVENT
DTSTART;TZID=America/Phoenix:20230523T180000
DTEND;TZID=America/Phoenix:20230523T210000
DTSTAMP:20260425T203157
CREATED:20230224T201748Z
LAST-MODIFIED:20231227T210329Z
UID:10006935-1684864800-1684875600@murphydeals.com
SUMMARY:Open Mic Night at Best Brews Tap Room
DESCRIPTION:
URL:https://murphydeals.com/event/rickety-cricket-open-mic-night-2/2023-05-23/
LOCATION:Rickety Cricket\, 2068 McCulloch Blvd N Suite A\, Lake Havasu\, AZ\, 86403
CATEGORIES:Music | Concerts
ATTACH;FMTTYPE=image/jpeg:https://murphydeals.com/wp-content/uploads/2023/02/openmic-1-e1692133619437.jpg
END:VEVENT
BEGIN:VEVENT
DTSTART;TZID=America/Phoenix:20230530T180000
DTEND;TZID=America/Phoenix:20230530T210000
DTSTAMP:20260425T203157
CREATED:20230224T201748Z
LAST-MODIFIED:20231227T210329Z
UID:10006936-1685469600-1685480400@murphydeals.com
SUMMARY:Open Mic Night at Best Brews Tap Room
DESCRIPTION:
URL:https://murphydeals.com/event/rickety-cricket-open-mic-night-2/2023-05-30/
LOCATION:Rickety Cricket\, 2068 McCulloch Blvd N Suite A\, Lake Havasu\, AZ\, 86403
CATEGORIES:Music | Concerts
ATTACH;FMTTYPE=image/jpeg:https://murphydeals.com/wp-content/uploads/2023/02/openmic-1-e1692133619437.jpg
END:VEVENT
BEGIN:VEVENT
DTSTART;TZID=America/Phoenix:20230606T180000
DTEND;TZID=America/Phoenix:20230606T210000
DTSTAMP:20260425T203157
CREATED:20230224T201748Z
LAST-MODIFIED:20231227T210329Z
UID:10006937-1686074400-1686085200@murphydeals.com
SUMMARY:Open Mic Night at Best Brews Tap Room
DESCRIPTION:
URL:https://murphydeals.com/event/rickety-cricket-open-mic-night-2/2023-06-06/
LOCATION:Rickety Cricket\, 2068 McCulloch Blvd N Suite A\, Lake Havasu\, AZ\, 86403
CATEGORIES:Music | Concerts
ATTACH;FMTTYPE=image/jpeg:https://murphydeals.com/wp-content/uploads/2023/02/openmic-1-e1692133619437.jpg
END:VEVENT
BEGIN:VEVENT
DTSTART;TZID=America/Phoenix:20230613T180000
DTEND;TZID=America/Phoenix:20230613T210000
DTSTAMP:20260425T203157
CREATED:20230224T201748Z
LAST-MODIFIED:20231227T210329Z
UID:10006938-1686679200-1686690000@murphydeals.com
SUMMARY:Open Mic Night at Best Brews Tap Room
DESCRIPTION:
URL:https://murphydeals.com/event/rickety-cricket-open-mic-night-2/2023-06-13/
LOCATION:Rickety Cricket\, 2068 McCulloch Blvd N Suite A\, Lake Havasu\, AZ\, 86403
CATEGORIES:Music | Concerts
ATTACH;FMTTYPE=image/jpeg:https://murphydeals.com/wp-content/uploads/2023/02/openmic-1-e1692133619437.jpg
END:VEVENT
BEGIN:VEVENT
DTSTART;TZID=America/Phoenix:20230620T180000
DTEND;TZID=America/Phoenix:20230620T210000
DTSTAMP:20260425T203157
CREATED:20230224T201748Z
LAST-MODIFIED:20231227T210329Z
UID:10006939-1687284000-1687294800@murphydeals.com
SUMMARY:Open Mic Night at Best Brews Tap Room
DESCRIPTION:
URL:https://murphydeals.com/event/rickety-cricket-open-mic-night-2/2023-06-20/
LOCATION:Rickety Cricket\, 2068 McCulloch Blvd N Suite A\, Lake Havasu\, AZ\, 86403
CATEGORIES:Music | Concerts
ATTACH;FMTTYPE=image/jpeg:https://murphydeals.com/wp-content/uploads/2023/02/openmic-1-e1692133619437.jpg
END:VEVENT
BEGIN:VEVENT
DTSTART;TZID=America/Phoenix:20230627T180000
DTEND;TZID=America/Phoenix:20230627T210000
DTSTAMP:20260425T203157
CREATED:20230224T201748Z
LAST-MODIFIED:20231227T210329Z
UID:10006940-1687888800-1687899600@murphydeals.com
SUMMARY:Open Mic Night at Best Brews Tap Room
DESCRIPTION:
URL:https://murphydeals.com/event/rickety-cricket-open-mic-night-2/2023-06-27/
LOCATION:Rickety Cricket\, 2068 McCulloch Blvd N Suite A\, Lake Havasu\, AZ\, 86403
CATEGORIES:Music | Concerts
ATTACH;FMTTYPE=image/jpeg:https://murphydeals.com/wp-content/uploads/2023/02/openmic-1-e1692133619437.jpg
END:VEVENT
BEGIN:VEVENT
DTSTART;TZID=America/Phoenix:20230704T180000
DTEND;TZID=America/Phoenix:20230704T210000
DTSTAMP:20260425T203157
CREATED:20230224T201748Z
LAST-MODIFIED:20231227T210329Z
UID:10006941-1688493600-1688504400@murphydeals.com
SUMMARY:Open Mic Night at Best Brews Tap Room
DESCRIPTION:
URL:https://murphydeals.com/event/rickety-cricket-open-mic-night-2/2023-07-04/
LOCATION:Rickety Cricket\, 2068 McCulloch Blvd N Suite A\, Lake Havasu\, AZ\, 86403
CATEGORIES:Music | Concerts
ATTACH;FMTTYPE=image/jpeg:https://murphydeals.com/wp-content/uploads/2023/02/openmic-1-e1692133619437.jpg
END:VEVENT
BEGIN:VEVENT
DTSTART;TZID=America/Phoenix:20230711T180000
DTEND;TZID=America/Phoenix:20230711T210000
DTSTAMP:20260425T203157
CREATED:20230224T201748Z
LAST-MODIFIED:20231227T210329Z
UID:10006942-1689098400-1689109200@murphydeals.com
SUMMARY:Open Mic Night at Best Brews Tap Room
DESCRIPTION:
URL:https://murphydeals.com/event/rickety-cricket-open-mic-night-2/2023-07-11/
LOCATION:Rickety Cricket\, 2068 McCulloch Blvd N Suite A\, Lake Havasu\, AZ\, 86403
CATEGORIES:Music | Concerts
ATTACH;FMTTYPE=image/jpeg:https://murphydeals.com/wp-content/uploads/2023/02/openmic-1-e1692133619437.jpg
END:VEVENT
BEGIN:VEVENT
DTSTART;TZID=America/Phoenix:20230718T180000
DTEND;TZID=America/Phoenix:20230718T210000
DTSTAMP:20260425T203157
CREATED:20230224T201748Z
LAST-MODIFIED:20231227T210329Z
UID:10006943-1689703200-1689714000@murphydeals.com
SUMMARY:Open Mic Night at Best Brews Tap Room
DESCRIPTION:
URL:https://murphydeals.com/event/rickety-cricket-open-mic-night-2/2023-07-18/
LOCATION:Rickety Cricket\, 2068 McCulloch Blvd N Suite A\, Lake Havasu\, AZ\, 86403
CATEGORIES:Music | Concerts
ATTACH;FMTTYPE=image/jpeg:https://murphydeals.com/wp-content/uploads/2023/02/openmic-1-e1692133619437.jpg
END:VEVENT
BEGIN:VEVENT
DTSTART;TZID=America/Phoenix:20230725T180000
DTEND;TZID=America/Phoenix:20230725T210000
DTSTAMP:20260425T203157
CREATED:20230224T201748Z
LAST-MODIFIED:20231227T210329Z
UID:10006944-1690308000-1690318800@murphydeals.com
SUMMARY:Open Mic Night at Best Brews Tap Room
DESCRIPTION:
URL:https://murphydeals.com/event/rickety-cricket-open-mic-night-2/2023-07-25/
LOCATION:Rickety Cricket\, 2068 McCulloch Blvd N Suite A\, Lake Havasu\, AZ\, 86403
CATEGORIES:Music | Concerts
ATTACH;FMTTYPE=image/jpeg:https://murphydeals.com/wp-content/uploads/2023/02/openmic-1-e1692133619437.jpg
END:VEVENT
BEGIN:VEVENT
DTSTART;TZID=America/Phoenix:20230801T180000
DTEND;TZID=America/Phoenix:20230801T210000
DTSTAMP:20260425T203157
CREATED:20230224T201748Z
LAST-MODIFIED:20231227T210329Z
UID:10006945-1690912800-1690923600@murphydeals.com
SUMMARY:Open Mic Night at Best Brews Tap Room
DESCRIPTION:
URL:https://murphydeals.com/event/rickety-cricket-open-mic-night-2/2023-08-01/
LOCATION:Rickety Cricket\, 2068 McCulloch Blvd N Suite A\, Lake Havasu\, AZ\, 86403
CATEGORIES:Music | Concerts
ATTACH;FMTTYPE=image/jpeg:https://murphydeals.com/wp-content/uploads/2023/02/openmic-1-e1692133619437.jpg
END:VEVENT
BEGIN:VEVENT
DTSTART;TZID=America/Phoenix:20230808T180000
DTEND;TZID=America/Phoenix:20230808T210000
DTSTAMP:20260425T203157
CREATED:20230224T201748Z
LAST-MODIFIED:20231227T210329Z
UID:10006946-1691517600-1691528400@murphydeals.com
SUMMARY:Open Mic Night at Best Brews Tap Room
DESCRIPTION:
URL:https://murphydeals.com/event/rickety-cricket-open-mic-night-2/2023-08-08/
LOCATION:Rickety Cricket\, 2068 McCulloch Blvd N Suite A\, Lake Havasu\, AZ\, 86403
CATEGORIES:Music | Concerts
ATTACH;FMTTYPE=image/jpeg:https://murphydeals.com/wp-content/uploads/2023/02/openmic-1-e1692133619437.jpg
END:VEVENT
BEGIN:VEVENT
DTSTART;TZID=America/Phoenix:20230815T180000
DTEND;TZID=America/Phoenix:20230815T210000
DTSTAMP:20260425T203157
CREATED:20230224T201748Z
LAST-MODIFIED:20231227T210329Z
UID:10006947-1692122400-1692133200@murphydeals.com
SUMMARY:Open Mic Night at Best Brews Tap Room
DESCRIPTION:
URL:https://murphydeals.com/event/rickety-cricket-open-mic-night-2/2023-08-15/
LOCATION:Rickety Cricket\, 2068 McCulloch Blvd N Suite A\, Lake Havasu\, AZ\, 86403
CATEGORIES:Music | Concerts
ATTACH;FMTTYPE=image/jpeg:https://murphydeals.com/wp-content/uploads/2023/02/openmic-1-e1692133619437.jpg
END:VEVENT
END:VCALENDAR