BEGIN:VCALENDAR
VERSION:2.0
PRODID:-//Murphy Deals - ECPv6.15.20//NONSGML v1.0//EN
CALSCALE:GREGORIAN
METHOD:PUBLISH
X-ORIGINAL-URL:https://murphydeals.com
X-WR-CALDESC:Events for Murphy Deals
REFRESH-INTERVAL;VALUE=DURATION:PT1H
X-Robots-Tag:noindex
X-PUBLISHED-TTL:PT1H
BEGIN:VTIMEZONE
TZID:America/Phoenix
BEGIN:STANDARD
TZOFFSETFROM:-0700
TZOFFSETTO:-0700
TZNAME:MST
DTSTART:20220101T000000
END:STANDARD
END:VTIMEZONE
BEGIN:VEVENT
DTSTART;TZID=America/Phoenix:20230401T070000
DTEND;TZID=America/Phoenix:20230401T150000
DTSTAMP:20260425T190224
CREATED:20230327T220430Z
LAST-MODIFIED:20230327T220711Z
UID:10007404-1680332400-1680361200@murphydeals.com
SUMMARY:Havasu Heat Outrigger Race at Rotary Park in Lake Havasu
DESCRIPTION:Head down to the beaches to watch professional teams descend on the waters of Lake Havasu for the 4th Annual Havasu Heat Outrigger Race! \nTeams will be racing in outrigger canoes\, which feature a side support float\, as well as on stand-up paddleboards (SUPs)! \nHosted by the Lake Havasu City Outrigger Canoe Club\, the race features single competitors\, dual\, six-person teams\, and SUP racers from Arizona\, Southern California and New Mexico. \nThe Long Course Races start at 7am and the Short Course Races start at 10am at the northern end of Rotary Park at 1400 S. Smoketree Ave. \nThe competitors will be taking off from the beaches of Rotary Park and head south toward Pilot Rock for the turnaround. Spectators will be able to watch along the beaches of Rotary Park\, in addition to London Bridge Beach. \nFree for spectators\n\n\nThe Lake Havasu City Outrigger Canoe Club\, Cathy Chandler\n\n805.320.7862 \nView Organizer Website \ncchyg55@gmail.com
URL:https://murphydeals.com/event/havasu-heat-outrigger-race-at-rotary-park-in-lake-havasu/
LOCATION:Rotary Park of Lake Havasu\, 1400 S Smoketree Avenue\, Lake Havasu City\, Arizona\, 86403
CATEGORIES:Event
ATTACH;FMTTYPE=image/jpeg:https://murphydeals.com/wp-content/uploads/2023/03/havasuheat-e1679954385836.jpg
END:VEVENT
END:VCALENDAR