BEGIN:VCALENDAR
VERSION:2.0
PRODID:-//Murphy Deals - ECPv6.15.20//NONSGML v1.0//EN
CALSCALE:GREGORIAN
METHOD:PUBLISH
X-ORIGINAL-URL:https://murphydeals.com
X-WR-CALDESC:Events for Murphy Deals
REFRESH-INTERVAL;VALUE=DURATION:PT1H
X-Robots-Tag:noindex
X-PUBLISHED-TTL:PT1H
BEGIN:VTIMEZONE
TZID:America/Phoenix
BEGIN:STANDARD
TZOFFSETFROM:-0700
TZOFFSETTO:-0700
TZNAME:MST
DTSTART:20210101T000000
END:STANDARD
END:VTIMEZONE
BEGIN:VEVENT
DTSTART;TZID=America/Phoenix:20231111T100000
DTEND;TZID=America/Phoenix:20231111T120000
DTSTAMP:20260425T161509
CREATED:20230410T210720Z
LAST-MODIFIED:20230410T210720Z
UID:10007467-1699696800-1699704000@murphydeals.com
SUMMARY:Veterans’ Day Parade downtown Lake Havasu
DESCRIPTION:Our Nation’s servicemen and women are our best and brightest\, enlisting in times of peace and war\, serving with honor under the most difficult circumstances\, and making sacrifices that many of us cannot begin to imagine. We must never forget the invaluable contributions of our country’s veterans and reaffirm our commitment to provide them and their families with the essential support they were promised and have earned. \nCome to the parade and honor our local veterans for their patriotism\, love of country\, and willingness to serve and sacrifice for the common good. This event is sponsored by our local Veterans of Foreign War Post 9401. McCulloch Bl. will be traffic-free from Acoma Bl. to Wheeler Park for this event. Staging for the parade will be in Birch Square. \nThere will be a ceremony at 11a.m. at Wheeler Park. All Veterans are invited to the VFW Post 9401 at 266 London Bridge Road for free hotdogs and hamburgers on Veterans’ Day. \nEvent dates\, times and/or details are subject to change. Please contact event coordinator to verify information. \n 
URL:https://murphydeals.com/event/veterans-day-parade-downtown-lake-havasu/
CATEGORIES:Event
ATTACH;FMTTYPE=image/jpeg:https://murphydeals.com/wp-content/uploads/2023/04/flag-e1681160732115.jpg
END:VEVENT
BEGIN:VEVENT
DTSTART;TZID=America/Phoenix:20231028T100000
DTEND;TZID=America/Phoenix:20231028T123000
DTSTAMP:20260425T161509
CREATED:20221024T182221Z
LAST-MODIFIED:20230410T205541Z
UID:10006495-1698487200-1698496200@murphydeals.com
SUMMARY:52nd Annual London Bridge Days Parade in Lake Havasu
DESCRIPTION:Come on out to the London Bridge Days Parade and enjoy the spirited marching bands from various schools and organizations in and around the area\, floats representing a strong sense of community pride\, and even a local celebrity or two! The parade is one of the longest running local events the city enjoys and one of the favorites of London Bridge Days. \nThis year’s parade theme: TBA \nAll entries will be judged on their creative interpretation of this theme. \nTo register your float or entry\, visit the new website: https://londonbridgedays.com/parade/ \nFor more information\, contact Joe Tobin 928.486.6884 \nThe parade will start at McCulloch and Acoma Blvd (map) and will run down McCulloch to Capri Blvd (map). Event dates and times are subject to change. Please contact event coordinator to verify information. \n\nDowntown Havasu District (Main Street)\n\nMcCulloch Blvd N\,\nLake Havasu City\, Arizona 86403
URL:https://murphydeals.com/event/51st-annual-london-bridge-days-parade/
CATEGORIES:Event
ATTACH;FMTTYPE=image/jpeg:https://murphydeals.com/wp-content/uploads/2022/10/parad3-e1666975365133.jpg
END:VEVENT
BEGIN:VEVENT
DTSTART;VALUE=DATE:20231020
DTEND;VALUE=DATE:20231022
DTSTAMP:20260425T161509
CREATED:20230410T182043Z
LAST-MODIFIED:20230410T182043Z
UID:10007461-1697760000-1697932799@murphydeals.com
SUMMARY:Relics & Rods at London Bridge Golf Course
DESCRIPTION:It’s time for Relics & Rods Car Club’s Annual Run to the Sun Car Show\, one of the largest car shows in the Southwest known to bring in OVER 800 vehicles from across the country. \nCome out with family and friends and enjoy a variety of activities while admiring vehicles from 1977 and older. There will also be American Muscle cars from 1978 to current for Camaros\, Challengers\, Corvettes\, and Mustangs. \nSCHEDULE \nThursday: Cruise Night @ 5-9pm (participating cars must be registered with window card) \nFriday & Saturday: Show & Shine\, 8am-4pm \nFriday: Dinner & Dancing. 4-9pm \nSaturday: Ladies Fashion Show\, 10am \nSunday: Parade down Main Street\, 9:30am from Birch Square to Capri \nFor a full schedule\, including the participant schedule\, go to www.relicsandrods.com. \nENTRY FEES \nShow & Shine two-day pass: $10 \nThursday: Cruise Night\, 5-9pm (free to spectators\, participating cars must be registered with window card) \nFriday Dinner/Dance: Cost TBA /Adults (free for event participants) \nSaturday: Ladies Fashion Show\, $5 with wristband\, $15 without wristband \nSunday Pancake Breakfast: free courtesy of Cub Scout Troop #992 (donation appreciated) \nVehicle participation fee: $115 (Mail-in deadline is 9/30/23\, after 9/30/23 cost is $125 with only registration at site) \nThe big show kick off is on Thursday evening at the Relics & Rods “Cruise Night” from 5-9pm on Lake Havasu City’s Main Street (Downtown). Take a stroll up and down aisles of picture perfect collector and special interest automobiles. Fuel up at the local eateries. Ease up on the throttle and relax at the local pubs with your favorite brew. Entry to Cruise Night is free for spectators. \nFriday and Saturday Show & Shine\, Car Corral and Swap Meet takes place from 8am-4pm at the Bridgewater Links Golf Course at London Bridge Resort. Experience the dazzling array of the finest classic cars and trucks on display from across the nation. There will be plenty of shopping for everyone in our large vendor area. At 4pm on Friday there will be a Dinner/Dance at the London Bridge Resort Convention Center. Also\, enjoy the very popular raffle after the Saturday 4pm award ceremony\, plus giveaways and 50/50 drawings both Friday and Saturday. \nIf you’d like to see these gorgeous vehicles one more time\, on Sunday you can head down to McCulloch Blvd (Downtown District) as some participants will be doing a final Parade down McCulloch at 9:30am from Birch Square to Capri. McCulloch will be open to traffic and not all vehicles will participate. \nFor more information about Relics and Rods and the Run to the Sun\, visit wwww.relicsandrods.com \nAll proceeds to benefit local charities throughout Lake Havasu City. Event dates\, times\, and/or details are subject to change. Please contact event coordinator to verify information. \n$10Two-day spectator pass
URL:https://murphydeals.com/event/relics-rods-at-london-bridge-golf-course/
LOCATION:London Bridge Resort\, 1477 Queens Bay\, Lake Havasu City\, AZ\, 86403
CATEGORIES:Event
ATTACH;FMTTYPE=image/jpeg:https://murphydeals.com/wp-content/uploads/2023/04/relicsnrods-e1681150603727.jpg
END:VEVENT
BEGIN:VEVENT
DTSTART;TZID=America/Phoenix:20221203T163000
DTEND;TZID=America/Phoenix:20221203T233000
DTSTAMP:20260425T161509
CREATED:20221101T215830Z
LAST-MODIFIED:20221115T204652Z
UID:10006558-1670085000-1670110200@murphydeals.com
SUMMARY:Boat Parade of Lights in Lake Havasu
DESCRIPTION:Bring your blankets and lawn chairs\, because Lake Havasu State Park will again be offering free admission to the Windsor 4 event area for the Holiday Boat Parade of Lights! The entrance gate from Paseo Del Sol will be open at 4:30 p.m. on Saturday\, December 4. \nRestrooms will be open for public use\, and a limited number of picnic tables will be placed along the shoreline and available on a first-come\, first-served basis. \nPropane fire rings and grills will be permitted for responsible use. \nPlease leave your pets at home; dogs are not allowed on the white sand beach. All children 13 and under need to be accompanied by an adult. \nHoliday lights will adorn boats as they glitter and glisten through the famed Bridgewater Channel under the London Bridge as a new organizer continues to bring the community a 37-year-old tradition on Saturday night only! \n 
URL:https://murphydeals.com/event/boat-parade-of-lights-in-lake-havasu/
LOCATION:Lake Havasu State Park – Windsor 4\, 699 London Bridge Road\, Lake Havasu City\, AZ\, 86403\, United States
CATEGORIES:Event,Festival
ATTACH;FMTTYPE=image/jpeg:https://murphydeals.com/wp-content/uploads/2022/11/Boat-e1668545200746.jpg
END:VEVENT
BEGIN:VEVENT
DTSTART;TZID=America/Phoenix:20221202T180000
DTEND;TZID=America/Phoenix:20221202T200000
DTSTAMP:20260425T161509
CREATED:20221202T174238Z
LAST-MODIFIED:20221202T174238Z
UID:10006780-1670004000-1670011200@murphydeals.com
SUMMARY:Boom Box Parade in Bullhead
DESCRIPTION:24th Annual Boombox Parade\n\nALL ABOARD……. \nGet ready for the 24th Annual Spirit of Giving Christmas Boombox Parade.  The parade will be Friday\, December 2\, 2022 starting at 6 p.m. \nThe Spirit of Giving\, is our annual theme.  This year’s secondary theme is Polar Express.   “Why to the North Pole\,  Of Course!  This is the Polar Express” – The Conductor. \n The parade route is along Hancock from River Gardens to Trane. It benefits the entire community and provides an opportunity for everyone to come together and focus on “giving”\, while celebrating the wonders of the season. 
URL:https://murphydeals.com/event/boom-box-parade-in-bullhead/
CATEGORIES:Event
ATTACH;FMTTYPE=image/jpeg:https://murphydeals.com/wp-content/uploads/2022/12/Polar-Express-e1670002945987.jpg
END:VEVENT
BEGIN:VEVENT
DTSTART;TZID=America/Phoenix:20221125T173000
DTEND;TZID=America/Phoenix:20230108T220000
DTSTAMP:20260425T161509
CREATED:20221108T194854Z
LAST-MODIFIED:20221129T201616Z
UID:10006576-1669397400-1673215200@murphydeals.com
SUMMARY:27th Annual Festival of Lights in Lake Havasu City
DESCRIPTION:London Bridge Resort’s Festival of Lights really brings out the Christmas spirit — bring the family for a stroll under the London Bridge along the walkway or take your boat on a night cruise through the Bridgewater Channel as over 500\,000 lights set the water aglow. \nThere’s plenty of free parking at the English Village or The London Bridge Resort and Convention Center. Lights turn off nightly at 10pm. \nEvent dates\, times and/or details are subject to change. Please contact event coordinator to verify information.
URL:https://murphydeals.com/event/27th-annual-festival-of-lights-in-lake-havasu-city/
CATEGORIES:Event
ATTACH;FMTTYPE=image/jpeg:https://murphydeals.com/wp-content/uploads/2022/11/Lights-e1669752901461.jpg
END:VEVENT
END:VCALENDAR