BEGIN:VCALENDAR
VERSION:2.0
PRODID:-//Murphy Deals - ECPv6.15.20//NONSGML v1.0//EN
CALSCALE:GREGORIAN
METHOD:PUBLISH
X-WR-CALNAME:Murphy Deals
X-ORIGINAL-URL:https://murphydeals.com
X-WR-CALDESC:Events for Murphy Deals
REFRESH-INTERVAL;VALUE=DURATION:PT1H
X-Robots-Tag:noindex
X-PUBLISHED-TTL:PT1H
BEGIN:VTIMEZONE
TZID:America/Phoenix
BEGIN:STANDARD
TZOFFSETFROM:-0700
TZOFFSETTO:-0700
TZNAME:MST
DTSTART:20220101T000000
END:STANDARD
END:VTIMEZONE
BEGIN:VEVENT
DTSTART;TZID=America/Phoenix:20230428T200000
DTEND;TZID=America/Phoenix:20230428T230000
DTSTAMP:20260425T134522
CREATED:20230424T170517Z
LAST-MODIFIED:20230424T170517Z
UID:10007594-1682712000-1682722800@murphydeals.com
SUMMARY:American Mile at the Sand Bar in Parker
DESCRIPTION:Forming in 2018\, American Mile has been carving their name into the roots of southern rock and country music around North America. With influences ranging from Aerosmith and The Black Crowes to Chris Stapleton and Tom Petty\, their powerful sound has garnered them important shows in front of thousands at festivals and stages. \nPerformances at Summerfest\, the NASCAR Auto Club 400\, a NYE headlining slot at The infamous Idaho Potato Drop in Boise\, Concert In The Park Sacramento ’22\, opening for artists such as Lindsey Ell\, Tyler Rich\, Kameron Marlowe\, Buckcherry\, Colt Ford\, and after-partys for 3 Doors Down\, Erich Church\, and Old Dominion have proven American Mile is a must-see act time and time again. \nAmerican Mile drew attention around Los Angeles with their explosive stage presence and southern/blues rock sound coupled with three part harmony and a hint of country. In 2020 American Mile released their debut-album “The Longest Road”. Grammy Nominated Producers/Songwriters Bruce Witkin and Keith Nelson contributed to the 11 track release\, and in 2021 the band started working along-side national booking agency Mason Entertainment. 2022 saw American Mile performing over 250 shows\, and the future is looking bright. \nWith no signs of slowing down\, American Mile is fully focused on becoming a strong force in the music industry. \n 
URL:https://murphydeals.com/event/american-mile-at-the-sand-bar-in-parker/2023-04-28/
LOCATION:Sand Bar Cocktail Lounge\, 1654 AZ-95\, Bullhead City\, AZ\, 86442\, United States
CATEGORIES:Event,Music | Concerts
ATTACH;FMTTYPE=image/jpeg:https://murphydeals.com/wp-content/uploads/2023/01/americanmile-1-e1674595299994.jpg
END:VEVENT
BEGIN:VEVENT
DTSTART;TZID=America/Phoenix:20230429T200000
DTEND;TZID=America/Phoenix:20230429T230000
DTSTAMP:20260425T134522
CREATED:20230424T170517Z
LAST-MODIFIED:20230424T170517Z
UID:10007595-1682798400-1682809200@murphydeals.com
SUMMARY:American Mile at the Sand Bar in Parker
DESCRIPTION:Forming in 2018\, American Mile has been carving their name into the roots of southern rock and country music around North America. With influences ranging from Aerosmith and The Black Crowes to Chris Stapleton and Tom Petty\, their powerful sound has garnered them important shows in front of thousands at festivals and stages. \nPerformances at Summerfest\, the NASCAR Auto Club 400\, a NYE headlining slot at The infamous Idaho Potato Drop in Boise\, Concert In The Park Sacramento ’22\, opening for artists such as Lindsey Ell\, Tyler Rich\, Kameron Marlowe\, Buckcherry\, Colt Ford\, and after-partys for 3 Doors Down\, Erich Church\, and Old Dominion have proven American Mile is a must-see act time and time again. \nAmerican Mile drew attention around Los Angeles with their explosive stage presence and southern/blues rock sound coupled with three part harmony and a hint of country. In 2020 American Mile released their debut-album “The Longest Road”. Grammy Nominated Producers/Songwriters Bruce Witkin and Keith Nelson contributed to the 11 track release\, and in 2021 the band started working along-side national booking agency Mason Entertainment. 2022 saw American Mile performing over 250 shows\, and the future is looking bright. \nWith no signs of slowing down\, American Mile is fully focused on becoming a strong force in the music industry. \n 
URL:https://murphydeals.com/event/american-mile-at-the-sand-bar-in-parker/2023-04-29/
LOCATION:Sand Bar Cocktail Lounge\, 1654 AZ-95\, Bullhead City\, AZ\, 86442\, United States
CATEGORIES:Event,Music | Concerts
ATTACH;FMTTYPE=image/jpeg:https://murphydeals.com/wp-content/uploads/2023/01/americanmile-1-e1674595299994.jpg
END:VEVENT
BEGIN:VEVENT
DTSTART;TZID=America/Phoenix:20230430T170000
DTEND;TZID=America/Phoenix:20230430T193000
DTSTAMP:20260425T134522
CREATED:20230417T171015Z
LAST-MODIFIED:20230417T171015Z
UID:10007525-1682874000-1682883000@murphydeals.com
SUMMARY:Barry Neal & Catherine Donnelly at Bluewater Resort in Parker
DESCRIPTION:Barry’s beginnings were unusual. After graduating from Northwestern University and completing a successful run in the famous Mee-Ow show (who’s celebrity members have included Julia Louis Dreyfus\, Dermot Mulroney\, George Newborn\, Craig Bierko\, Seth Meyers\, and Ana Gasteyer)\, his brother dared him to go onstage at an open mic to do a routine. Barry was hit that night\, and knew that stand-up comedy was his next mountain to climb. \nBarry learned from the best comedians in the country. Jerry Seinfeld was a regular. He watched people like Bill Maher\, Ellen Degeneres\, Paul Reiser\, and Tim Allen just to name a few. Barry learned by not only watching these comics but by being a good listener when these comics would talk comedy. \nBarry’s style is clean\, high energy\, and relationship material was a hit in almost every market. He quickly moved up the comedy ladder and was on cable and network tv\, from MTV\, NBC\, Comedy Central\, and VH-1. Barry’s act was noticed by a production company that loved his Counselor of Love persona\, and his act is currently being shopped as a sitcom called The Counselor of Love that Barry wrote along with his partner Dan Patterson\, who was creator and executive producer of Who’s Line Is It Anyway? \n \nA California native\, Stand-Up Comedian Catherine Donnelly grew up in Orange County\, and was raised Catholic. \nGrowing up with three sisters\, she is the middle child of two attorneys. She graduated from UCLA with a B.A. in Psychology and became a risk management insurance broker just out of college. She quickly discovered that the cubicle was sucking the life out of her and decided to quit to become a fitness instructor. She trained clients at the Biggest Loser Resort in Malibu until she got kicked out for wearing short shorts. \nAfter stumbling upon UCB and watching comedians like Lauren Lapkus and Mary Holland\, Catherine began taking improv and sketch classes and has been hooked on comedy ever since. \nShe’s been dating her Floridian boyfriend for almost six years and they live together in south central LA. Catherine is a yoga teacher who practices new age spirituality and drives a Prius. \nBUY TICKETS 
URL:https://murphydeals.com/event/barry-neal-catherine-donnelly-at-bluewater-resort-in-parker/
LOCATION:Bluewater Resort and Casino\, 11300 Resort\, Parker\, 85344\, United States
CATEGORIES:Comedy | Comedian,Event
ATTACH;FMTTYPE=image/png:https://murphydeals.com/wp-content/uploads/2022/08/BlueWater.png
END:VEVENT
BEGIN:VEVENT
DTSTART;TZID=America/Phoenix:20230505T200000
DTEND;TZID=America/Phoenix:20230505T230000
DTSTAMP:20260425T134522
CREATED:20230424T192311Z
LAST-MODIFIED:20230505T193823Z
UID:10007605-1683316800-1683327600@murphydeals.com
SUMMARY:Matt Farris at Bluewater Resort in Parker
DESCRIPTION:A true entertainer showcasing high energy\, passion and artistic integrity\, Matt Farris is diligent in his career while giving back all the love he receives from his audience – creating a connection with his fans unlike any other. Never complacent\, the Billboard charting artist embracing the roots of country music while integrating influences from other genres such as pop and rock. Showing himself as a force to be reckoned with\, Matt Farris teamed up with Laminate Entertainment to create his greatest work yet – Keepin’ It Real \n  \n 
URL:https://murphydeals.com/event/matt-farris-at-bluewater-resort-in-parker/2023-05-05/
LOCATION:Bluewater Resort and Casino\, 11300 Resort\, Parker\, 85344\, United States
CATEGORIES:Event,Music | Concerts
ATTACH;FMTTYPE=image/jpeg:https://murphydeals.com/wp-content/uploads/2023/04/MattFarris-e1683315311751.jpg
END:VEVENT
BEGIN:VEVENT
DTSTART;TZID=America/Phoenix:20230506T191500
DTEND;TZID=America/Phoenix:20230506T203000
DTSTAMP:20260425T134522
CREATED:20230414T203818Z
LAST-MODIFIED:20230414T203942Z
UID:10007520-1683400500-1683405000@murphydeals.com
SUMMARY:Vegas McGraw at the Bluewater Resort in Parker
DESCRIPTION:Mark your calendars for May 6th! Vegas McGraw\, the ultimate Tim McGraw tribute\, is set to wow you with unforgettable performances of your favorite hits! Doors open at 7:15 PM\, show starts at 8 PM. Tickets: $25 VIP\, $20 General Admission. \nBUY TICKETS  \n 
URL:https://murphydeals.com/event/vegas-mcgraw-at-bluewater-resort-in-parker/
LOCATION:Bluewater Resort and Casino\, 11300 Resort\, Parker\, 85344\, United States
CATEGORIES:Event,Music | Concerts
ATTACH;FMTTYPE=image/jpeg:https://murphydeals.com/wp-content/uploads/2023/04/mcgraw-1-e1681504670912.jpg
END:VEVENT
BEGIN:VEVENT
DTSTART;TZID=America/Phoenix:20230506T200000
DTEND;TZID=America/Phoenix:20230506T230000
DTSTAMP:20260425T134522
CREATED:20230424T192311Z
LAST-MODIFIED:20230505T193823Z
UID:10007606-1683403200-1683414000@murphydeals.com
SUMMARY:Matt Farris at Bluewater Resort in Parker
DESCRIPTION:A true entertainer showcasing high energy\, passion and artistic integrity\, Matt Farris is diligent in his career while giving back all the love he receives from his audience – creating a connection with his fans unlike any other. Never complacent\, the Billboard charting artist embracing the roots of country music while integrating influences from other genres such as pop and rock. Showing himself as a force to be reckoned with\, Matt Farris teamed up with Laminate Entertainment to create his greatest work yet – Keepin’ It Real \n  \n 
URL:https://murphydeals.com/event/matt-farris-at-bluewater-resort-in-parker/2023-05-06/
LOCATION:Bluewater Resort and Casino\, 11300 Resort\, Parker\, 85344\, United States
CATEGORIES:Event,Music | Concerts
ATTACH;FMTTYPE=image/jpeg:https://murphydeals.com/wp-content/uploads/2023/04/MattFarris-e1683315311751.jpg
END:VEVENT
BEGIN:VEVENT
DTSTART;TZID=America/Phoenix:20230513T140000
DTEND;TZID=America/Phoenix:20230513T170000
DTSTAMP:20260425T134522
CREATED:20230418T195237Z
LAST-MODIFIED:20230418T195237Z
UID:10007558-1683986400-1683997200@murphydeals.com
SUMMARY:Mother's Day Par-Tea at Havasu Springs Resort in Parker
DESCRIPTION:Mother’s Day Par-Tea \nAlice in Wonderland inspired tea party for all ages featuring a bouquet bar\, cake decorating\, our white bounce house\, Photo Booth & more! \nAbout this Event \nWe’ve gone mad\, perhaps even bonkers (but all the best people are)! So join us inside The Harbor Room at Havasu Springs Resort for an Alice in Wonderland inspired afternoon tea celebrating Mother’s Day. This is an event you won’t want to miss featuring a few of our fabulous local vendors. With each ticket you will have the opportunity to design a bouquet from Melanie with Meraki Botanical Designs and decorate a cake provided by Destiny with Dose of Sugar. We are excited to be featuring permanent jewelry by Makenna with Linx by the Lake. You will also be able to shop mommy and me sets by Floral & Flirt. There will be more surprises\, so you won’t want to be late! Limited seats available!
URL:https://murphydeals.com/event/mothers-day-par-tea-at-havasu-springs-resort-in-parker/
LOCATION:Havasu Springs Resort\, 2581 Arizona 95\, Parker\, AZ\, 85344\, United States
CATEGORIES:Event
ATTACH;FMTTYPE=image/jpeg:https://murphydeals.com/wp-content/uploads/2023/04/Mothers-Day-Par-Tea-1-1-e1681847513470.jpg
END:VEVENT
BEGIN:VEVENT
DTSTART;TZID=America/Phoenix:20230610T080000
DTEND;TZID=America/Phoenix:20230610T170000
DTSTAMP:20260425T134522
CREATED:20230522T221458Z
LAST-MODIFIED:20230526T173811Z
UID:10007843-1686384000-1686416400@murphydeals.com
SUMMARY:45th Annual Parker Tube Float
DESCRIPTION:45th Annual Parker Tube Float \nThe Parker Tube Float – The biggest Party on the Parker Strip! #ParkerTubeFloat or #ParkerTubeFloat2023\nThe 45th Annual Parker Tube Float will be held on Saturday June 10\, 2023.Online Registration will open March 1\, 2023. Online Registration will be closed June 4\, 2023 so we can organize everything for the event. Register at www.parkerfun.com \nYou can register online or by visiting the Parker Regional Chamber of Commerce & Tourism office or at one of the off site locations (will be announced after registration opens). \nThe 44th Annual Parker Tube Float registration will be at La Paz County Park from 8 A.M to 11 A.M. with the float ending at 4 P.M. (NO-WAKE ZONE EXPIRES). Park at La Paz County Park ($10.00 parking fee) and we will shuttle you to Buckskin Mountain State Park where the starting line is. We will have air compressors available to inflate your floats and get ready to launch. Ice will also be available for purchase. Once you are ready you will enter the beautiful Colorado River\, passing many different bars and restaurants as you float down to the finish line at La Paz County Park/Pirate’s Den Resort located where you originally parked. \nWe strongly suggest you pre-register as it is $30.00 per person. Once pre-registration closes the fee is $40.00 per person including if you register the morning of the event. An additional fee of $30.00 is required if you will be using a motorized vessel to assist your floating group. \n\n\nGET TICKETS 
URL:https://murphydeals.com/event/45th-annual-parker-tube-float/
LOCATION:La Paz County Park\, 7350 Riverside Drive\, Parker\, AZ\, 85344\, United States
CATEGORIES:Event
ATTACH;FMTTYPE=image/jpeg:https://murphydeals.com/wp-content/uploads/2023/05/parkertubefloat-e1685122635473.jpg
END:VEVENT
BEGIN:VEVENT
DTSTART;TZID=America/Phoenix:20230623T200000
DTEND;TZID=America/Phoenix:20230623T233000
DTSTAMP:20260425T134522
CREATED:20230418T182852Z
LAST-MODIFIED:20230418T182852Z
UID:10007555-1687550400-1687563000@murphydeals.com
SUMMARY:Dry Heat at the Sand Bar in Parker
DESCRIPTION:  \n \nDry Heat will be rockin’ The Sand Bar at Parker\, Az. Fri-Sat\, 8:00 – Midnight.
URL:https://murphydeals.com/event/dry-heat-at-the-sand-bar-in-parker/2023-06-23/
LOCATION:Sand Bar Cocktail Lounge\, 1654 AZ-95\, Bullhead City\, AZ\, 86442\, United States
CATEGORIES:Event,Music | Concerts
ATTACH;FMTTYPE=image/jpeg:https://murphydeals.com/wp-content/uploads/2023/04/IMG_3107_ccexpress-1024x537-1-e1681838914147.jpg
END:VEVENT
BEGIN:VEVENT
DTSTART;TZID=America/Phoenix:20230624T200000
DTEND;TZID=America/Phoenix:20230624T233000
DTSTAMP:20260425T134522
CREATED:20230418T182852Z
LAST-MODIFIED:20230418T182852Z
UID:10007556-1687636800-1687649400@murphydeals.com
SUMMARY:Dry Heat at the Sand Bar in Parker
DESCRIPTION:  \n \nDry Heat will be rockin’ The Sand Bar at Parker\, Az. Fri-Sat\, 8:00 – Midnight.
URL:https://murphydeals.com/event/dry-heat-at-the-sand-bar-in-parker/2023-06-24/
LOCATION:Sand Bar Cocktail Lounge\, 1654 AZ-95\, Bullhead City\, AZ\, 86442\, United States
CATEGORIES:Event,Music | Concerts
ATTACH;FMTTYPE=image/jpeg:https://murphydeals.com/wp-content/uploads/2023/04/IMG_3107_ccexpress-1024x537-1-e1681838914147.jpg
END:VEVENT
BEGIN:VEVENT
DTSTART;TZID=America/Phoenix:20230630T210000
DTEND;TZID=America/Phoenix:20230630T233000
DTSTAMP:20260425T134522
CREATED:20230612T184103Z
LAST-MODIFIED:20230612T184205Z
UID:10008239-1688158800-1688167800@murphydeals.com
SUMMARY:Kevin Jaxon & Midnight Sun in the DIG Lounge at The Bluewater Resort
DESCRIPTION:
URL:https://murphydeals.com/event/kevin-jaxon-and-midnight-sun-in-the-dig-lounge-at-the-bluewater-resort-2/2023-06-30/
LOCATION:Bluewater Resort and Casino\, 11300 Resort\, Parker\, 85344\, United States
CATEGORIES:Music | Concerts
ATTACH;FMTTYPE=image/jpeg:https://murphydeals.com/wp-content/uploads/2022/06/JaxonBandPicBestest-e1685983537952.jpg
END:VEVENT
BEGIN:VEVENT
DTSTART;TZID=America/Phoenix:20230701T210000
DTEND;TZID=America/Phoenix:20230701T233000
DTSTAMP:20260425T134522
CREATED:20230612T184103Z
LAST-MODIFIED:20230612T184205Z
UID:10008240-1688245200-1688254200@murphydeals.com
SUMMARY:Kevin Jaxon & Midnight Sun in the DIG Lounge at The Bluewater Resort
DESCRIPTION:
URL:https://murphydeals.com/event/kevin-jaxon-and-midnight-sun-in-the-dig-lounge-at-the-bluewater-resort-2/2023-07-01/
LOCATION:Bluewater Resort and Casino\, 11300 Resort\, Parker\, 85344\, United States
CATEGORIES:Music | Concerts
ATTACH;FMTTYPE=image/jpeg:https://murphydeals.com/wp-content/uploads/2022/06/JaxonBandPicBestest-e1685983537952.jpg
END:VEVENT
BEGIN:VEVENT
DTSTART;TZID=America/Phoenix:20231014T190000
DTEND;TZID=America/Phoenix:20231014T230000
DTSTAMP:20260425T134522
CREATED:20230619T175654Z
LAST-MODIFIED:20231002T224742Z
UID:10008277-1697310000-1697324400@murphydeals.com
SUMMARY:HAIRBALL...an 80's Experience at Bluewater Resort in Parker
DESCRIPTION:  \n\n  \n 
URL:https://murphydeals.com/event/dsb-a-tribute-to-journey-at-bluewater-resort/
LOCATION:Bluewater Resort and Casino\, 11300 Resort\, Parker\, 85344\, United States
CATEGORIES:Music | Concerts
ATTACH;FMTTYPE=image/jpeg:https://murphydeals.com/wp-content/uploads/2023/06/Hairball-e1696286848307.jpg
END:VEVENT
END:VCALENDAR